BEGIN:VCALENDAR
VERSION:2.0
PRODID:-//Microsoft Corporation//Outlook for Mac MIMEDIR//EN
METHOD:PUBLISH
BEGIN:VTIMEZONE
TZID:Coordinated Universal Time
X-ENTOURAGE-CFTIMEZONE:UTC
X-ENTOURAGE-TZID:93
BEGIN:STANDARD
TZOFFSETFROM:+0000
TZOFFSETTO:+0000
DTSTART:16010101T000000
END:STANDARD
END:VTIMEZONE
BEGIN:VEVENT
UID:48F8BE17-94FC-49CE-A308-7509CE09A134
X-ENTOURAGE_UUID:48F8BE17-94FC-49CE-A308-7509CE09A134
X-MICROSOFT-EXCHANGE-ID:AAMkADFlMDNlNjQ5LTNjNTUtNDJkMC04ZTI0LWFiMTFkOTgwND
 JhMQBGAAAAAAAdZPIZTDF9SJl4Q9bAl0gQBwAFskP3JLIoSYZSK2rNBQTXAIjV8WqdAACjhqXC
 SbKVRZwH7aZE5XhKAABjmjWzAAA=
X-MICROSOFT-EXCHANGE-CHANGEKEY:DwAAABYAAACjhqXCSbKVRZwH7aZE5XhKAABjno7p
DTSTAMP:20201204T111615Z
DTSTART;TZID="Coordinated Universal Time":20201207T230000
DTEND;TZID="Coordinated Universal Time":20201208T000000
LAST-MODIFIED:20201204T111615Z
SUMMARY:LACRALO Communications Working Group Call
DESCRIPTION:***If you require a dial out or need to state an apology\,
  please contact At-Large staff at staff@atlarge.icann.org with your
  preferred number***\n\n \n\nDear All\,\n\n \n\nFurther to the Doodle
  poll below\, the next LACRALO Communications Working Group Call is
  scheduled for Monday\, 07 December 2020 at 23:00 UTC.\n\n \n\nSpanish
  interpretation will be provided.\n\n \n\nFor other times:
  https://tinyurl.com/yyt9sy7d \n\n \n\nThe agenda (to be updated) and
  call details can be found at: https://community.icann.org/x/rIImCQ \n\n
  \n\nWiki workspace: https://community.icann.org/x/gIEWBg  \n\n \n\nZoom
  Link:
  https://icann.zoom.us/j/91921650589?pwd=bnJFb2dQM25tWEhoNklXTnpIWkRxQT09
   / Password: LAC-Comms1\n\n \n\n \n\nADIGO Conference Bridge:\n\nEnglish
  Conference ID = 1638\n\nSpanish Conference ID = 1738\n\n \n\nToll-free
  access number (US and Canada): 800 550 6865\n\n \n\nOther toll-free
  numbers: http://adigo.com/icann/\n\n \n\n \n\nThank you.\n\nKind
  regards\,\n\n \n\nAt-Large Staff\n\nICANN Policy Staff in support of the
  At-Large Community\n\nWebsite: atlarge.icann.org\n\nFacebook:
  facebook.com/icannatlarge\n\nTwitter: @ICANNAtLarge\n
LOCATION:23:00 UTC - ADIGO EN:1638 ES:1738 -
  https://icann.zoom.us/j/91921650589?pwd=bnJFb2dQM25tWEhoNklXTnpIWkRxQT09
   
ORGANIZER:MAILTO:PolicyCalendar@icann.org
SEQUENCE:0
ATTENDEE;ROLE=REQ-PARTICIPANT;RSVP=FALSE;CN="Heidi
  Ullrich";PARTSTAT=NEEDS-ACTION:MAILTO:Heidi.Ullrich@icann.org
ATTENDEE;ROLE=REQ-PARTICIPANT;RSVP=FALSE;CN="Silvia
  Vivanco";PARTSTAT=NEEDS-ACTION:MAILTO:silvia.vivanco@icann.org
ATTENDEE;ROLE=REQ-PARTICIPANT;RSVP=FALSE;CN="Gisella
  Gruber";PARTSTAT=NEEDS-ACTION:MAILTO:Gisella.Gruber@icann.org
ATTENDEE;ROLE=REQ-PARTICIPANT;RSVP=FALSE;CN="Evin
  Erdogdu";PARTSTAT=NEEDS-ACTION:MAILTO:evin.erdogdu@icann.org
ATTENDEE;ROLE=REQ-PARTICIPANT;RSVP=FALSE;CN="Claudia
  Ruiz";PARTSTAT=NEEDS-ACTION:MAILTO:claudia.ruiz@icann.org
ATTENDEE;ROLE=REQ-PARTICIPANT;RSVP=FALSE;CN="Michelle
  DeSmyter";PARTSTAT=NEEDS-ACTION:MAILTO:michelle.desmyter@icann.org
ATTENDEE;ROLE=REQ-PARTICIPANT;RSVP=FALSE;CN="Alperen
  Eken";PARTSTAT=NEEDS-ACTION:MAILTO:alperen.eken@icann.org
ATTENDEE;ROLE=REQ-PARTICIPANT;RSVP=FALSE;CN="Yesim
  Nazlar";PARTSTAT=ACCEPTED:MAILTO:yesim.nazlar@icann.org
ATTENDEE;ROLE=REQ-PARTICIPANT;RSVP=FALSE;CN="TEL
  ES-Teleconf-Interpretation";PARTSTAT=NEEDS-ACTION:MAILTO:ES-Teleconf-Inte
 rpretation@icann.org
ATTENDEE;ROLE=REQ-PARTICIPANT;RSVP=FALSE;CN="Sabrina
  Mosquera";PARTSTAT=ACCEPTED:MAILTO:sabrina.mosquera@icann.org
ATTENDEE;ROLE=REQ-PARTICIPANT;RSVP=FALSE;CN=lac-comms-wg@icann.org;PARTSTA
 T=NEEDS-ACTION:MAILTO:lac-comms-wg@icann.org
X-MICROSOFT-CDO-BUSYSTATUS:BUSY
X-MICROSOFT-CDO-ALLDAYEVENT:FALSE
X-MICROSOFT-DISALLOW-COUNTER:FALSE
X-MICROSOFT-DONOTFORWARDMEETING:FALSE
X-MICROSOFT-CDO-INSTTYPE:0
BEGIN:VALARM
ACTION:DISPLAY
DESCRIPTION:REMINDER
TRIGGER;RELATED=START:-PT00H15M00S
END:VALARM
END:VEVENT
END:VCALENDAR
