BEGIN:VCALENDAR
VERSION:2.0
PRODID:-//Microsoft Corporation//Outlook for Mac MIMEDIR//EN
METHOD:PUBLISH
BEGIN:VTIMEZONE
TZID:Coordinated Universal Time
X-ENTOURAGE-CFTIMEZONE:UTC
X-ENTOURAGE-TZID:93
BEGIN:STANDARD
TZOFFSETFROM:+0000
TZOFFSETTO:+0000
DTSTART:16010101T000000
END:STANDARD
END:VTIMEZONE
BEGIN:VEVENT
UID:17E36C39-84BF-4B10-B154-FEF18A8A2925
X-ENTOURAGE_UUID:17E36C39-84BF-4B10-B154-FEF18A8A2925
X-MICROSOFT-EXCHANGE-ID:AAMkADFlMDNlNjQ5LTNjNTUtNDJkMC04ZTI0LWFiMTFkOTgwND
 JhMQBGAAAAAAAdZPIZTDF9SJl4Q9bAl0gQBwAFskP3JLIoSYZSK2rNBQTXAIjV8WqdAACjhqXC
 SbKVRZwH7aZE5XhKAAEFsogJAAA=
X-MICROSOFT-EXCHANGE-CHANGEKEY:DwAAABYAAACjhqXCSbKVRZwH7aZE5XhKAAEFvECz
DTSTAMP:20210816T194410Z
DTSTART;TZID="Coordinated Universal Time":20210817T220000
DTEND;TZID="Coordinated Universal Time":20210817T230000
LAST-MODIFIED:20210816T194412Z
SUMMARY:LACRALO Communications Working Group Call
DESCRIPTION:***If you require a dial out or need to state an apology\,
  please contact At-Large staff at staff@atlarge.icann.org with your
  preferred number***\n\n \n\nDear All\,\n\n \n\nFurther to the Doodle
  poll below\, the next LACRALO Communications Working Group Call is
  scheduled for Tuesday\, 17 August 2021 at 22:00 UTC.\n\n  \n\nFor other
  times:  https://tinyurl.com/2she3avu \n\n \n\nThe agenda (to be updated)
  and call details can be found at:  https://community.icann.org/x/SoBLCg
  \n\n \n\nWiki workspace: https://community.icann.org/x/gIEWBg  \n\n
  \n\nZoom Link:
   https://icann.zoom.us/j/93641273639?pwd=SGUyTUJnL1NWZ2lRanEzNUpLK2U1QT09
  / Password: LAC-Comms1\n\n \n\n \n\nADIGO Conference Bridge:\n\nEnglish
  Conference ID = 1638\n\nSpanish Conference ID = 1738\n\n \n\nToll-free
  access number (US and Canada): 800 550 6865\n\n \n\nOther toll-free
  numbers: http://adigo.com/icann/\n\n \n\n \n\nThank you.\n\nKind
  regards\,\n\n \n\nAt-Large Staff\n\nICANN Policy Staff in support of the
  At-Large Community\n\nWebsite: atlarge.icann.org\n\nFacebook:
  facebook.com/icannatlarge\n\nTwitter: @ICANNAtLarge\n\n \n
LOCATION:22:00 UTC - ADIGO EN: 1638 ES: 1738 - Zoom:
  https://icann.zoom.us/j/93641273639?pwd=SGUyTUJnL1NWZ2lRanEzNUpLK2U1QT09
  
ORGANIZER:MAILTO:PolicyCalendar@icann.org
SEQUENCE:0
ATTENDEE;ROLE=REQ-PARTICIPANT;RSVP=FALSE;CN="Sabrina
  Mosquera";PARTSTAT=NEEDS-ACTION:MAILTO:sabrina.mosquera@icann.org
ATTENDEE;ROLE=REQ-PARTICIPANT;RSVP=FALSE;CN="TEL
  ES-Teleconf-Interpretation";PARTSTAT=NEEDS-ACTION:MAILTO:ES-Teleconf-Inte
 rpretation@icann.org
ATTENDEE;ROLE=REQ-PARTICIPANT;RSVP=FALSE;CN="ICANN At-Large
  Staff";PARTSTAT=NEEDS-ACTION:MAILTO:staff@atlarge.icann.org
ATTENDEE;ROLE=REQ-PARTICIPANT;RSVP=FALSE;CN=lac-comms-wg@icann.org;PARTSTA
 T=NEEDS-ACTION:MAILTO:lac-comms-wg@icann.org
X-MICROSOFT-CDO-BUSYSTATUS:BUSY
X-MICROSOFT-CDO-ALLDAYEVENT:FALSE
X-MICROSOFT-DISALLOW-COUNTER:FALSE
X-MICROSOFT-DONOTFORWARDMEETING:FALSE
X-MICROSOFT-CDO-INSTTYPE:0
BEGIN:VALARM
ACTION:DISPLAY
DESCRIPTION:REMINDER
TRIGGER;RELATED=START:-PT00H15M00S
END:VALARM
END:VEVENT
END:VCALENDAR
