BEGIN:VCALENDAR
METHOD:REQUEST
PRODID:Microsoft Exchange Server 2010
VERSION:2.0
BEGIN:VTIMEZONE
TZID:UTC
BEGIN:STANDARD
DTSTART:16010101T000000
TZOFFSETFROM:+0000
TZOFFSETTO:+0000
END:STANDARD
BEGIN:DAYLIGHT
DTSTART:16010101T000000
TZOFFSETFROM:+0000
TZOFFSETTO:+0000
END:DAYLIGHT
END:VTIMEZONE
BEGIN:VEVENT
ORGANIZER;CN=ICANN Policy Calendar:MAILTO:PolicyCalendar@icann.org
ATTENDEE;ROLE=REQ-PARTICIPANT;PARTSTAT=NEEDS-ACTION;RSVP=TRUE;CN=Heidi Ullr
 ich:MAILTO:Heidi.Ullrich@icann.org
ATTENDEE;ROLE=REQ-PARTICIPANT;PARTSTAT=NEEDS-ACTION;RSVP=TRUE;CN=Silvia Viv
 anco:MAILTO:silvia.vivanco@icann.org
ATTENDEE;ROLE=REQ-PARTICIPANT;PARTSTAT=NEEDS-ACTION;RSVP=TRUE;CN=Gisella Gr
 uber:MAILTO:Gisella.Gruber@icann.org
ATTENDEE;ROLE=REQ-PARTICIPANT;PARTSTAT=NEEDS-ACTION;RSVP=TRUE;CN=Evin Erdog
 du:MAILTO:evin.erdogdu@icann.org
ATTENDEE;ROLE=REQ-PARTICIPANT;PARTSTAT=NEEDS-ACTION;RSVP=TRUE;CN=Yesim Sagl
 am:MAILTO:yesim.nazlar@icann.org
ATTENDEE;ROLE=REQ-PARTICIPANT;PARTSTAT=NEEDS-ACTION;RSVP=TRUE;CN=Michelle D
 eSmyter:MAILTO:michelle.desmyter@icann.org
ATTENDEE;ROLE=REQ-PARTICIPANT;PARTSTAT=NEEDS-ACTION;RSVP=TRUE;CN=Claudia Ru
 iz:MAILTO:claudia.ruiz@icann.org
ATTENDEE;ROLE=REQ-PARTICIPANT;PARTSTAT=NEEDS-ACTION;RSVP=TRUE;CN=Sabrina Mo
 squera:MAILTO:sabrina.mosquera@icann.org
ATTENDEE;ROLE=REQ-PARTICIPANT;PARTSTAT=NEEDS-ACTION;RSVP=TRUE;CN=TEL ES-Tel
 econf-Interpretation:MAILTO:ES-Teleconf-Interpretation@icann.org
ATTENDEE;ROLE=REQ-PARTICIPANT;PARTSTAT=NEEDS-ACTION;RSVP=TRUE;CN=Jessie Doh
 erty:MAILTO:jessie.doherty@icann.org
ATTENDEE;ROLE=REQ-PARTICIPANT;PARTSTAT=NEEDS-ACTION;RSVP=TRUE;CN=lac-comms-
 wg@icann.org:MAILTO:lac-comms-wg@icann.org
DESCRIPTION;LANGUAGE=en-US:***If you require a dial out or need to state an
  apology\, please contact At-Large staff at staff@atlarge.icann.org<mailto
 :staff@atlarge.icann.org> with your preferred number***\n\nDear All\,\n\nF
 urther to the Doodle poll below\, the next LACRALO Communications Working 
 Group Call is scheduled for Thursday\, 16 December 2021 at 23:00 UTC.\n\nF
 or other times: https://tinyurl.com/3w9er6fd\n\nThe agenda (to be updated)
  and call details can be found at: https://community.icann.org/x/cIDsCg\n\
 nWiki workspace: https://community.icann.org/x/gIEWBg\n\nZoom Link: https:
 //icann.zoom.us/j/96933680982?pwd=YmJqclZFMkp1TnlwbnozS2NJZ1ZSZz09  / Pass
 word: LAC-Comms1\n\n\nADIGO Conference Bridge:\nEnglish Conference ID = 35
 35\nSpanish Conference ID = 1738\n\nToll-free access number (US and Canada
 ): 800 550 6865\n\nOther toll-free numbers: http://adigo.com/icann/\n\n\nT
 hank you.\nKind regards\,\n\nAt-Large Staff\nICANN Policy Staff in support
  of the At-Large Community\nWebsite: atlarge.icann.org<https://atlarge.ica
 nn.org/>\nFacebook: facebook.com/icann<https://www.facebook.com/icannatlar
 ge>atlarge<https://www.facebook.com/icannatlarge>\nTwitter: @<https://twit
 ter.com/ICANNAtLarge>ICANNAtLarge<https://twitter.com/ICANNAtLarge>\n\n\n
UID:16060F97-4F02-46CD-8C84-A5165A985813
SUMMARY;LANGUAGE=en-US:LACRALO Communications Working Group Call
DTSTART;TZID=UTC:20211216T230000
DTEND;TZID=UTC:20211217T000000
CLASS:PUBLIC
PRIORITY:5
DTSTAMP:20211214T044708Z
TRANSP:OPAQUE
STATUS:CONFIRMED
SEQUENCE:1
LOCATION;LANGUAGE=en-US:23:00 UTC  | Zoom: https://icann.zoom.us/j/96933680
 982?pwd=YmJqclZFMkp1TnlwbnozS2NJZ1ZSZz09 
X-MICROSOFT-CDO-APPT-SEQUENCE:1
X-MICROSOFT-CDO-OWNERAPPTID:2119985790
X-MICROSOFT-CDO-BUSYSTATUS:TENTATIVE
X-MICROSOFT-CDO-INTENDEDSTATUS:BUSY
X-MICROSOFT-CDO-ALLDAYEVENT:FALSE
X-MICROSOFT-CDO-IMPORTANCE:1
X-MICROSOFT-CDO-INSTTYPE:0
X-MICROSOFT-DONOTFORWARDMEETING:FALSE
X-MICROSOFT-DISALLOW-COUNTER:FALSE
BEGIN:VALARM
DESCRIPTION:REMINDER
TRIGGER;RELATED=START:-PT15M
ACTION:DISPLAY
END:VALARM
END:VEVENT
END:VCALENDAR
