BEGIN:VCALENDAR
METHOD:REQUEST
PRODID:Microsoft Exchange Server 2010
VERSION:2.0
BEGIN:VTIMEZONE
TZID:UTC
BEGIN:STANDARD
DTSTART:16010101T000000
TZOFFSETFROM:+0000
TZOFFSETTO:+0000
END:STANDARD
BEGIN:DAYLIGHT
DTSTART:16010101T000000
TZOFFSETFROM:+0000
TZOFFSETTO:+0000
END:DAYLIGHT
END:VTIMEZONE
BEGIN:VEVENT
ORGANIZER;CN=ICANN Policy Calendar:MAILTO:PolicyCalendar@icann.org
ATTENDEE;ROLE=REQ-PARTICIPANT;PARTSTAT=NEEDS-ACTION;RSVP=FALSE;CN=lac-comms
 -wg@icann.org:MAILTO:lac-comms-wg@icann.org
ATTENDEE;ROLE=REQ-PARTICIPANT;PARTSTAT=NEEDS-ACTION;RSVP=FALSE;CN=Heidi Ull
 rich:MAILTO:Heidi.Ullrich@icann.org
ATTENDEE;ROLE=REQ-PARTICIPANT;PARTSTAT=NEEDS-ACTION;RSVP=FALSE;CN=Silvia Vi
 vanco:MAILTO:silvia.vivanco@icann.org
ATTENDEE;ROLE=REQ-PARTICIPANT;PARTSTAT=NEEDS-ACTION;RSVP=FALSE;CN=Gisella G
 ruber:MAILTO:Gisella.Gruber@icann.org
ATTENDEE;ROLE=REQ-PARTICIPANT;PARTSTAT=NEEDS-ACTION;RSVP=FALSE;CN=Evin Erdo
 gdu:MAILTO:evin.erdogdu@icann.org
ATTENDEE;ROLE=REQ-PARTICIPANT;PARTSTAT=NEEDS-ACTION;RSVP=FALSE;CN=Claudia R
 uiz:MAILTO:claudia.ruiz@icann.org
ATTENDEE;ROLE=REQ-PARTICIPANT;PARTSTAT=NEEDS-ACTION;RSVP=FALSE;CN=Yesim Naz
 lar:MAILTO:yesim.nazlar@icann.org
ATTENDEE;ROLE=REQ-PARTICIPANT;PARTSTAT=NEEDS-ACTION;RSVP=FALSE;CN=Sabrina M
 osquera:MAILTO:sabrina.mosquera@icann.org
ATTENDEE;ROLE=REQ-PARTICIPANT;PARTSTAT=NEEDS-ACTION;RSVP=FALSE;CN=VERO PENE
 LAS (veronica.penelas@gmail.com):MAILTO:veronica.penelas@gmail.com
ATTENDEE;ROLE=REQ-PARTICIPANT;PARTSTAT=NEEDS-ACTION;RSVP=FALSE;CN=claudiask
 ok@gmail.com:MAILTO:claudiaskok@gmail.com
ATTENDEE;ROLE=REQ-PARTICIPANT;PARTSTAT=NEEDS-ACTION;RSVP=FALSE;CN=Penelas I
 CANN (penelas.inteam.icann@gmail.com):MAILTO:penelas.inteam.icann@gmail.co
 m
ATTENDEE;ROLE=REQ-PARTICIPANT;PARTSTAT=NEEDS-ACTION;RSVP=FALSE;CN=Epstein I
 CANN (epstein.inteam.icann@gmail.com):MAILTO:epstein.inteam.icann@gmail.co
 m
ATTENDEE;ROLE=REQ-PARTICIPANT;PARTSTAT=NEEDS-ACTION;RSVP=FALSE;CN=TEL ES-Te
 leconf-Interpretation:MAILTO:ES-Teleconf-Interpretation@icann.org
ATTENDEE;ROLE=REQ-PARTICIPANT;PARTSTAT=NEEDS-ACTION;RSVP=FALSE;CN=Alperen E
 ken:MAILTO:alperen.eken@icann.org
ATTENDEE;ROLE=REQ-PARTICIPANT;PARTSTAT=NEEDS-ACTION;RSVP=FALSE;CN=Michelle 
 DeSmyter:MAILTO:michelle.desmyter@icann.org
ATTENDEE;ROLE=REQ-PARTICIPANT;PARTSTAT=NEEDS-ACTION;RSVP=FALSE;CN=Skok ICAN
 N:MAILTO:skok.inteam.icann@gmail.com
ATTENDEE;ROLE=REQ-PARTICIPANT;PARTSTAT=NEEDS-ACTION;RSVP=FALSE;CN=Gentile I
 CANN:MAILTO:gentile.inteam.icann@gmail.com
DESCRIPTION;LANGUAGE=en-US:Dear All\,\n\n\n\nFurther to the Doodle poll bel
 ow\, the next LACRALO Communications Working Group Call is scheduled for W
 ednesday\, 26 August 2020 at 23:00 UTC.\n\n\n\nSpanish interpretation will
  be provided.\n\n\n\nFor other times: https://tinyurl.com/y6fy5po4\n\n\n\n
 The agenda (to be updated) and call details can be found at:  https://comm
 unity.icann.org/x/9wC-C\n\n\n\nWiki workspace: https://community.icann.org
 /x/NJQi\n\n\n\nZoom Link: https://icann.zoom.us/j/91749395572?pwd=YzFMbE4z
 SERlTFFyZ0pxQ2Exb2xkZz09 / Password: 3GC#24fW54\n\n\n\n\n\nADIGO Conferenc
 e Bridge:\n\nEnglish Conference ID = 1638\n\nSpanish Conference ID = 1738\
 n\n\n\nToll-free access number (US and Canada): 800 550 6865\n\n\n\nOther 
 toll-free numbers: http://adigo.com/icann/\n\n\n\n\n\nThank you.\n\nKind r
 egards\,\n\n\n\nAt-Large Staff\n\nICANN Policy Staff in support of the At-
 Large Community\n\nWebsite: atlarge.icann.org<https://atlarge.icann.org/>\
 n\nFacebook: facebook.com/icann<https://www.facebook.com/icannatlarge>atla
 rge<https://www.facebook.com/icannatlarge>\n\nTwitter: @<https://twitter.c
 om/ICANNAtLarge>ICANNAtLarge<https://twitter.com/ICANNAtLarge>\n\n\n\n\n\n
 \n\n\n\n\n\n______________________________________________________________
 ______________________________________\n\n\n\n\n**** Please note this is a
  NEW Doodle***\n\n\nDear All\,\n\n\nPlease complete the Doodle poll to sch
 edule the next LACRALO Communications Working Group Call for the week of 2
 4 August 2020.\n\n\n Doodle:  https://doodle.com/poll/fzzi5qy5szm7mnx2 [eu
 r01.safelinks.protection.outlook.com]<https://urldefense.com/v3/__https:/e
 ur01.safelinks.protection.outlook.com/?url=https*3A*2F*2Fdoodle.com*2Fpoll
 *2Ffzzi5qy5szm7mnx2&data=02*7C01*7C*7Ce1a658df8f414fdba9e808d848407397*7C8
 4df9e7fe9f640afb435aaaaaaaaaaaa*7C1*7C0*7C637338788937323936&sdata=VkAmN0I
 5sLG5dKsHZVFb29FC*2FvnQ7P0LXyhuoHKucIk*3D&reserved=0__\;JSUlJSUlJSUlJSUlJS
 U!!PtGJab4!r8R_3QMEvs8-vTnv9q8FOVkiuZeLmn2n3amFAoyBtty7KyySsR-avCGopxWBfV9
 pLTZWMMeYpw$>\n\n\nI have enabled the time zone so that it can be changed 
 to your zone.\n\n\nThis doodle will close on Friday\, 21 August 2020.\n\n\
 nThank you.\n\n\nKind Regards\,\n\n\nYeşim Nazlar\n\n
UID:E3DB887D-5E95-42F2-86CD-F457F1791942
SUMMARY;LANGUAGE=en-US:LACRALO Communications Working Group Call
DTSTART;TZID=UTC:20200826T230000
DTEND;TZID=UTC:20200827T000000
CLASS:PUBLIC
PRIORITY:5
DTSTAMP:20200824T195757Z
TRANSP:OPAQUE
STATUS:CONFIRMED
SEQUENCE:0
LOCATION;LANGUAGE=en-US:23:00 UTC - ADIGO: EN:1638 ES:1738 - https://icann.
 zoom.us/j/91749395572?pwd=YzFMbE4zSERlTFFyZ0pxQ2Exb2xkZz09 / Password: 3GC
 #24fW54
X-MICROSOFT-CDO-APPT-SEQUENCE:0
X-MICROSOFT-CDO-OWNERAPPTID:2118697944
X-MICROSOFT-CDO-BUSYSTATUS:TENTATIVE
X-MICROSOFT-CDO-INTENDEDSTATUS:BUSY
X-MICROSOFT-CDO-ALLDAYEVENT:FALSE
X-MICROSOFT-CDO-IMPORTANCE:1
X-MICROSOFT-CDO-INSTTYPE:0
X-MICROSOFT-DONOTFORWARDMEETING:FALSE
X-MICROSOFT-DISALLOW-COUNTER:TRUE
BEGIN:VALARM
DESCRIPTION:REMINDER
TRIGGER;RELATED=START:-PT15M
ACTION:DISPLAY
END:VALARM
END:VEVENT
END:VCALENDAR
