BEGIN:VCALENDAR
VERSION:2.0
PRODID:-//Microsoft Corporation//Outlook for Mac MIMEDIR//EN
METHOD:PUBLISH
BEGIN:VTIMEZONE
TZID:UTC
X-ENTOURAGE-CFTIMEZONE:Etc/GMT
X-ENTOURAGE-TZID:160
BEGIN:STANDARD
TZOFFSETFROM:+0000
TZOFFSETTO:+0000
DTSTART:16010101T000000
END:STANDARD
END:VTIMEZONE
BEGIN:VEVENT
UID:040000008200E00074C5B7101A82E0080000000065F15FA25BCDDA0100000000000000
 00100000007FCBF5961DDF4645A86A95337928B461
X-ENTOURAGE_UUID:ADC490D0-88A7-4A61-9970-B08C2E330F22
X-MICROSOFT-EXCHANGE-ID:AAMkADFlMDNlNjQ5LTNjNTUtNDJkMC04ZTI0LWFiMTFkOTgwND
 JhMQBGAAAAAAAdZPIZTDF9SJl4Q9bAl0gQBwAFskP3JLIoSYZSK2rNBQTXAIjV8WqdAACjhqXC
 SbKVRZwH7aZE5XhKAAPDK0vNAAA=
CATEGORIES:
X-MICROSOFT-EXCHANGE-CHANGEKEY:DwAAABYAAACjhqXCSbKVRZwH7aZE5XhKAAPDXJNe
DTSTAMP:20240703T151438Z
DTSTART;TZID=UTC:20240715T230000
DTEND;TZID=UTC:20240716T003000
LAST-MODIFIED:20240703T151438Z
SUMMARY:LACRALO Monthly Call 
DESCRIPTION:**If you require a dial-out or need to state an apology\,
  please contact At-Large staff at staff@atlarge.icann.org with your
  preferred number.**\n\n \n\n \n\nDear All\,\nThe next LACRALO Monthly
  Call has been scheduled for Monday\, 15 July 2024 at 23:00 UTC.
  \nSpanish\, French and Portuguese interpretations will be provided.
   (subject to availability) \n\n \nFor other times:
  https://tinyurl.com/2227nwm3\n \nPlease note that the agenda and call
  details can be found at: https://community.icann.org/x/owASFQ\n \nWiki
  workspace: https://community.icann.org/x/NJQi\n \n(Please note - change
  in connection details: for all languages\, dial into the Adigo line\,
  press 1638 and the Adigo operator will ask you which language channel
  you prefer and transfer you to the appropriate language channel).\n
  \nADIGO Conference Bridge: (Subject to availability)\nEnglish Conference
  ID = 1638\nSpanish Conference ID = 1638\nPortuguese Conference ID
  =1638\nFrench Conference ID = 1638\n \nToll-free access number (US and
  Canada): 800 550 6865\n \nOther toll-free numbers:
  http://adigo.com/icann/[adigo.com]\n \n \nZoom Room:
  https://icann.zoom.us/meeting/register/tJIvd-GspjsuG9GTHrAy5l5Un7QwgR5GdF
 2u  / MUST REGISTER TO JOIN / Password: LAC-Mont07\n \nThank you.\nKind
  Regards\,\nICANN Policy Staff in support of the At-Large
  Community\nE-mail: staff@atlarge.icann.org\nWebsite:
  atlarge.icann.org\nFacebook: facebook.com/icannatlarge\nTwitter:
  @ICANNAtLarge\n\n\n\n
LOCATION:23:00 UTC - Adigo: 1638 - Zoom Registration:
  https://icann.zoom.us/meeting/register/tJIvd-GspjsuG9GTHrAy5l5Un7QwgR5GdF
 2u
ORGANIZER:MAILTO:PolicyCalendar@icann.org
SEQUENCE:0
ATTENDEE;ROLE=REQ-PARTICIPANT;RSVP=FALSE;CN="Heidi
  Ullrich";PARTSTAT=NEEDS-ACTION:MAILTO:Heidi.Ullrich@icann.org
ATTENDEE;ROLE=REQ-PARTICIPANT;RSVP=FALSE;CN="Gisella
  Gruber";PARTSTAT=NEEDS-ACTION:MAILTO:Gisella.Gruber@icann.org
ATTENDEE;ROLE=REQ-PARTICIPANT;RSVP=FALSE;CN="Yesim
  Saglam";PARTSTAT=ACCEPTED:MAILTO:yesim.nazlar@icann.org
ATTENDEE;ROLE=REQ-PARTICIPANT;RSVP=FALSE;CN="Andrew
  Chen";PARTSTAT=NEEDS-ACTION:MAILTO:andrew.chen@icann.org
ATTENDEE;ROLE=REQ-PARTICIPANT;RSVP=FALSE;CN="Silvia
  Vivanco";PARTSTAT=NEEDS-ACTION:MAILTO:silvia.vivanco@icann.org
ATTENDEE;ROLE=REQ-PARTICIPANT;RSVP=FALSE;CN="Brenda
  Brewer";PARTSTAT=NEEDS-ACTION:MAILTO:brenda.brewer@icann.org
ATTENDEE;ROLE=REQ-PARTICIPANT;RSVP=FALSE;CN="Michelle
  DeSmyter";PARTSTAT=NEEDS-ACTION:MAILTO:michelle.desmyter@icann.org
ATTENDEE;ROLE=REQ-PARTICIPANT;RSVP=FALSE;CN="Sabrina
  Mosquera";PARTSTAT=ACCEPTED:MAILTO:sabrina.mosquera@icann.org
ATTENDEE;ROLE=REQ-PARTICIPANT;RSVP=FALSE;CN="Maria
  Vilardo";PARTSTAT=NEEDS-ACTION:MAILTO:maria.vilardo@icann.org
ATTENDEE;ROLE=REQ-PARTICIPANT;RSVP=FALSE;CN="Christina
  Rodriguez";PARTSTAT=NEEDS-ACTION:MAILTO:christina.rodriguez@icann.org
ATTENDEE;ROLE=REQ-PARTICIPANT;RSVP=FALSE;CN=lac-discuss-en@icann.org;PARTS
 TAT=NEEDS-ACTION:MAILTO:lac-discuss-en@icann.org
ATTENDEE;ROLE=REQ-PARTICIPANT;RSVP=FALSE;CN=harold.arcos@gmail.com;PARTSTA
 T=NEEDS-ACTION:MAILTO:harold.arcos@gmail.com
ATTENDEE;ROLE=OPT-PARTICIPANT;RSVP=FALSE;CN="Rodrigo De La
  Parra";PARTSTAT=DECLINED:MAILTO:rodrigo.delaparra@icann.org
X-MICROSOFT-CDO-BUSYSTATUS:BUSY
X-MICROSOFT-CDO-ALLDAYEVENT:FALSE
X-MICROSOFT-DISALLOW-COUNTER:FALSE
X-MICROSOFT-DONOTFORWARDMEETING:FALSE
X-MICROSOFT-CDO-INSTTYPE:0
BEGIN:VALARM
ACTION:DISPLAY
DESCRIPTION:REMINDER
TRIGGER;RELATED=START:-PT00H15M00S
END:VALARM
END:VEVENT
END:VCALENDAR
