BEGIN:VCALENDAR
METHOD:REQUEST
PRODID:Microsoft Exchange Server 2010
VERSION:2.0
BEGIN:VTIMEZONE
TZID:GMT Standard Time
BEGIN:STANDARD
DTSTART:16010101T020000
TZOFFSETFROM:+0100
TZOFFSETTO:+0000
RRULE:FREQ=YEARLY;INTERVAL=1;BYDAY=-1SU;BYMONTH=10
END:STANDARD
BEGIN:DAYLIGHT
DTSTART:16010101T010000
TZOFFSETFROM:+0000
TZOFFSETTO:+0100
RRULE:FREQ=YEARLY;INTERVAL=1;BYDAY=-1SU;BYMONTH=3
END:DAYLIGHT
END:VTIMEZONE
BEGIN:VEVENT
ORGANIZER;CN=Maryam Bakoshi:MAILTO:maryam.bakoshi@icann.org
ATTENDEE;ROLE=REQ-PARTICIPANT;PARTSTAT=NEEDS-ACTION;RSVP=TRUE;CN=NPOC Discu
 ss:MAILTO:npoc-discuss@icann.org
DESCRIPTION;LANGUAGE=en-US:The purpose of the NPOC is to represent\, specif
 ically\, the operational concerns related to service delivery of not-for-p
 rofit and non-governmental organizations who are domain registrants in the
  DNS. NPOC focuses on the impact of DNS policies and their effects on the 
 operational readiness and implementation of non-commercial missions and ob
 jectives. NPOC members rely on the Internet and DNS policies to provide va
 luable services to their communities. - https://meetings.icann.org/en/marr
 akech55/schedule/tue-npoc\n\n\nDear All\,\n\n\nPlease find below participa
 tion details for ICANN 55: NPOC Constituency Day on Tuesday 08 March 2016 
 at 09:30 UTC (09:30 WET)\n\n\nAdobe Connect: TBC\n\n\nTime Zones: http://t
 inyurl.com/zl63xlg\n\n\nTime in some other locations:\n\n\nSydney: Tuesday
 \, 8 March 2016\, 20:30\nTokyo: Tuesday\, 8 March 2016\, 18:30\nBeijing: T
 uesday\, 8 March 2016\, 17:30\nMoscow: Tuesday\, 8 March 2016\, 12:30\nNew
  Delhi: Tuesday\, 8 March 2016\, 15:00\nParis: Tuesday\, 8 March 2016\, 10
 :30\nBuenos Aires: Tuesday\, 8 March 2016\, 06:30\nNew York: Tuesday\, 8 M
 arch 2016\, 04:30\nLos Angeles: Tuesday\, 8 March 2016\, 01:30\n\n\nAgenda
 : https://community.icann.org/x/aYZlAw\n\n\nPasscodes/Pin codes:\nParticip
 ant passcode: TBD\n\nFor security reasons\, the passcode will be required 
 to join the conference.\n\nDial in numbers:\nCountry         Toll Numbers 
    Freephone/\nToll Free Number\n\n\nARGENTINA                       0800-
 777-0519<tel:0800-777-0519>\nAUSTRALIA       ADELAIDE:       61-8-8121-484
 2  1-800-657-260\nAUSTRALIA       BRISBANE:       61-7-3102-0944  1-800-65
 7-260\nAUSTRALIA       CANBERRA:       61-2-6100-1944  1-800-657-260\nAUST
 RALIA       MELBOURNE:      61-3-9010-7713  1-800-657-260\nAUSTRALIA      
  PERTH:  61-8-9467-5223  1-800-657-260\nAUSTRALIA       SYDNEY: 61-2-8205-
 8129  1-800-657-260\nAUSTRIA         43-1-92-81-113  0800-005-259\nBELGIUM
          32-2-400-9861   0800-3-8795\nBRAZIL                  0800-7610651
 <tel:0800-7610651>\nCHILE                   1230-020-2863\nCHINA   CHINA A
 :        86-400-810-4789 10800-712-1670\nCHINA   CHINA B:        86-400-81
 0-4789 10800-120-1670\nCOLOMBIA                        01800-9-156474\nCZE
 CH REPUBLIC          420-2-25-98-56-64       800-700-177\nDENMARK         
 45-7014-0284    8088-8324\nESTONIA                 800-011-1093\nFINLAND  
        358-9-5424-7162 0-800-9-14610\nFRANCE  LYON:   33-4-26-69-12-85    
     080-511-1496\nFRANCE  MARSEILLE:      33-4-86-06-00-85        080-511-
 1496\nFRANCE  PARIS:  33-1-70-70-60-72        080-511-1496\nGERMANY       
   49-69-2222-20362        0800-664-4247<tel:0800-664-4247>\nGREECE        
   30-80-1-100-0687        00800-12-7312\nHONG KONG               852-3001-
 3863   800-962-856\nHUNGARY                 06-800-12755\nINDIA   INDIA A:
                 000-800-852-1268\nINDIA   INDIA B:                000-800-
 001-6305\nINDIA   INDIA C:                1800-300-00491\nINDONESIA       
                 001-803-011-3982\nIRELAND         353-1-246-7646  1800-992
 -368\nISRAEL                  1-80-9216162\nITALY   MILAN:  39-02-3600-600
 7 800-986-383\nJAPAN   OSAKA:  81-6-7739-4799<tel:81-6-7739-4799>      006
 6-33-132439\nJAPAN   TOKYO:  81-3-5539-5191<tel:81-3-5539-5191>      0066-
 33-132439\nLATVIA                  8000-3185\nLUXEMBOURG              352-
 27-000-1364\nMALAYSIA                        1-800-81-3065\nMEXICO        
           001-866-376-9696\nNETHERLANDS             31-20-718-8588  0800-0
 23-4378<tel:0800-023-4378>\nNEW ZEALAND             64-9-970-4771   0800-4
 47-722\nNORWAY          47-21-590-062   800-15157\nPANAMA                 
  011-001-800-5072065\nPERU                    0800-53713\nPHILIPPINES     
         63-2-858-3716\nPOLAND                  00-800-1212572\nPORTUGAL   
                      8008-14052\nRUSSIA                  8-10-8002-0144011
 \nSAUDI ARABIA                    800-8-110087\nSINGAPORE               65
 -6883-9230    800-120-4663\nSLOVAK REPUBLIC         421-2-322-422-25\nSOUT
 H AFRICA                    080-09-80414\nSOUTH KOREA             82-2-674
 4-1083  00798-14800-7352\nSPAIN           34-91-414-25-33 800-300-053\nSWE
 DEN          46-8-566-19-348 0200-884-622\nSWITZERLAND             41-44-5
 80-6398  0800-120-032\nTAIWAN          886-2-2795-7379 00801-137-797\nTHAI
 LAND                        001-800-1206-66056\nUNITED KINGDOM  BIRMINGHAM
 :     44-121-210-9025 0808-238-6029\nUNITED KINGDOM  GLASGOW:        44-14
 1-202-3225 0808-238-6029\nUNITED KINGDOM  LEEDS:  44-113-301-2125 0808-238
 -6029\nUNITED KINGDOM  LONDON: 44-20-7108-6370 0808-238-6029\nUNITED KINGD
 OM  MANCHESTER:     44-161-601-1425 0808-238-6029\nURUGUAY                
  000-413-598-3421\nUSA             1-517-345-9004  866-692-5726\nVENEZUELA
                        0800-1-00-3702\n\n\nRestrictions may exist when acc
 essing freephone/toll free numbers using a mobile telephone.\n\n\nMany tha
 nks\,\n--\nMaryam Bakoshi\nSecretariat ­Support - NCSG\, NCUC\, NPOC\nInt
 ernet Corporation for Assigned Names and Numbers (ICANN)\n\n\nEmail: marya
 m.bakoshi@icann.org<mailto:maryam.bakoshi@icann.org>\nMobile: +44 7737 698
 036\nSkype: maryam.bakoshi.icann\n
SUMMARY;LANGUAGE=en-US:Non For-Profit Operational Concerns Constituency (NP
 OC) Day | Tuesday 08 March 2016 | 09:30 UTC (09:30 WET) | Ametyste
DTSTART;TZID=GMT Standard Time:20160308T093000
DTEND;TZID=GMT Standard Time:20160308T130000
UID:node-8451-0@meetings.icann.org
CLASS:PUBLIC
PRIORITY:5
DTSTAMP:20160218T122337Z
TRANSP:OPAQUE
STATUS:CONFIRMED
SEQUENCE:0
LOCATION;LANGUAGE=en-US:Ametyste
X-MICROSOFT-CDO-APPT-SEQUENCE:0
X-MICROSOFT-CDO-OWNERAPPTID:2114096208
X-MICROSOFT-CDO-BUSYSTATUS:TENTATIVE
X-MICROSOFT-CDO-INTENDEDSTATUS:BUSY
X-MICROSOFT-CDO-ALLDAYEVENT:FALSE
X-MICROSOFT-CDO-IMPORTANCE:1
X-MICROSOFT-CDO-INSTTYPE:0
X-MICROSOFT-DISALLOW-COUNTER:FALSE
END:VEVENT
END:VCALENDAR
