BEGIN:VCALENDAR
METHOD:REQUEST
PRODID:Microsoft Exchange Server 2010
VERSION:2.0
BEGIN:VTIMEZONE
TZID:GMT Standard Time
BEGIN:STANDARD
DTSTART:16010101T020000
TZOFFSETFROM:+0100
TZOFFSETTO:+0000
RRULE:FREQ=YEARLY;INTERVAL=1;BYDAY=-1SU;BYMONTH=10
END:STANDARD
BEGIN:DAYLIGHT
DTSTART:16010101T010000
TZOFFSETFROM:+0000
TZOFFSETTO:+0100
RRULE:FREQ=YEARLY;INTERVAL=1;BYDAY=-1SU;BYMONTH=3
END:DAYLIGHT
END:VTIMEZONE
BEGIN:VEVENT
ORGANIZER;CN=Maryam Bakoshi:MAILTO:maryam.bakoshi@icann.org
ATTENDEE;ROLE=REQ-PARTICIPANT;PARTSTAT=NEEDS-ACTION;RSVP=TRUE;CN=NPOC Discu
 ss:MAILTO:npoc-discuss@icann.org
DESCRIPTION;LANGUAGE=en-US:Dear All\,\n\n\nEnclosed are the details for the
  NPOC Breakout Session at the NCPH Intersessional Meeting  scheduled for F
 riday\, 5 February 2016 from 00:00 – 02:00 UTC.\n\n\nAdobe Connect: http
 s://icann.adobeconnect.com/community-engagement\n\n\nTime Zones: http://ti
 nyurl.com/hsjxsh8\n\n\nLocal Time: 16:00 - 18:00\n\n\nDial out: Please sen
 d me an email off list if you require dial out\n\n\nPasscodes/Pin codes:\n
 Participant passcodes — NPOC\n\nFor security reasons\, the passcode will
  be required to join the conference.\n\nDial in numbers:\nCountry         
 Toll Numbers    Freephone/\nToll Free Number\n\n\nARGENTINA               
         0800-777-0519<tel:0800-777-0519>\nAUSTRALIA       ADELAIDE:       
 61-8-8121-4842  1-800-657-260\nAUSTRALIA       BRISBANE:       61-7-3102-0
 944  1-800-657-260\nAUSTRALIA       CANBERRA:       61-2-6100-1944  1-800-
 657-260\nAUSTRALIA       MELBOURNE:      61-3-9010-7713  1-800-657-260\nAU
 STRALIA       PERTH:  61-8-9467-5223  1-800-657-260\nAUSTRALIA       SYDNE
 Y: 61-2-8205-8129  1-800-657-260\nAUSTRIA         43-1-92-81-113  0800-005
 -259\nBELGIUM         32-2-400-9861   0800-3-8795\nBRAZIL                 
  0800-7610651<tel:0800-7610651>\nCHILE                   1230-020-2863\nCH
 INA   CHINA A:        86-400-810-4789 10800-712-1670\nCHINA   CHINA B:    
     86-400-810-4789 10800-120-1670\nCOLOMBIA                        01800-
 9-156474\nCZECH REPUBLIC          420-2-25-98-56-64       800-700-177\nDEN
 MARK         45-7014-0284    8088-8324\nESTONIA                 800-011-10
 93\nFINLAND         358-9-5424-7162 0-800-9-14610\nFRANCE  LYON:   33-4-26
 -69-12-85        080-511-1496\nFRANCE  MARSEILLE:      33-4-86-06-00-85   
      080-511-1496\nFRANCE  PARIS:  33-1-70-70-60-72        080-511-1496\nG
 ERMANY         49-69-2222-20362        0800-664-4247<tel:0800-664-4247>\nG
 REECE          30-80-1-100-0687        00800-12-7312\nHONG KONG           
     852-3001-3863   800-962-856\nHUNGARY                 06-800-12755\nIND
 IA   INDIA A:                000-800-852-1268\nINDIA   INDIA B:           
      000-800-001-6305\nINDIA   INDIA C:                1800-300-00491\nIND
 ONESIA                       001-803-011-3982\nIRELAND         353-1-246-7
 646  1800-992-368\nISRAEL                  1-80-9216162\nITALY   MILAN:  3
 9-02-3600-6007 800-986-383\nJAPAN   OSAKA:  81-6-7739-4799<tel:81-6-7739-4
 799>      0066-33-132439\nJAPAN   TOKYO:  81-3-5539-5191<tel:81-3-5539-519
 1>      0066-33-132439\nLATVIA                  8000-3185\nLUXEMBOURG     
          352-27-000-1364\nMALAYSIA                        1-800-81-3065\nM
 EXICO                  001-866-376-9696\nNETHERLANDS             31-20-718
 -8588  0800-023-4378<tel:0800-023-4378>\nNEW ZEALAND             64-9-970-
 4771   0800-447-722\nNORWAY          47-21-590-062   800-15157\nPANAMA    
               011-001-800-5072065\nPERU                    0800-53713\nPHI
 LIPPINES             63-2-858-3716\nPOLAND                  00-800-1212572
 \nPORTUGAL                        8008-14052\nRUSSIA                  8-10
 -8002-0144011\nSAUDI ARABIA                    800-8-110087\nSINGAPORE    
            65-6883-9230    800-120-4663\nSLOVAK REPUBLIC         421-2-322
 -422-25\nSOUTH AFRICA                    080-09-80414\nSOUTH KOREA        
      82-2-6744-1083  00798-14800-7352\nSPAIN           34-91-414-25-33 800
 -300-053\nSWEDEN          46-8-566-19-348 0200-884-622\nSWITZERLAND       
       41-44-580-6398  0800-120-032\nTAIWAN          886-2-2795-7379 00801-
 137-797\nTHAILAND                        001-800-1206-66056\nUNITED KINGDO
 M  BIRMINGHAM:     44-121-210-9025 0808-238-6029\nUNITED KINGDOM  GLASGOW:
         44-141-202-3225 0808-238-6029\nUNITED KINGDOM  LEEDS:  44-113-301-
 2125 0808-238-6029\nUNITED KINGDOM  LONDON: 44-20-7108-6370 0808-238-6029\
 nUNITED KINGDOM  MANCHESTER:     44-161-601-1425 0808-238-6029\nURUGUAY   
               000-413-598-3421\nUSA             1-517-345-9004  866-692-57
 26\nVENEZUELA                       0800-1-00-3702\n\n\nRestrictions may e
 xist when accessing freephone/toll free numbers using a mobile telephone.\
 n\n
SUMMARY;LANGUAGE=en-US:NPOC Breakout Session at the NCPH Intersessional Mee
 ting | 5 February 2016 from 00:00 – 02:00 UTC.
DTSTART;TZID=GMT Standard Time:20160205T000000
DTEND;TZID=GMT Standard Time:20160205T020000
UID:A68D9576-E455-4E35-BE94-D14912FF3787
CLASS:PUBLIC
PRIORITY:5
DTSTAMP:20160130T114929Z
TRANSP:OPAQUE
STATUS:CONFIRMED
SEQUENCE:0
LOCATION;LANGUAGE=en-US:https://icann.adobeconnect.com/community-engagement
X-MICROSOFT-CDO-APPT-SEQUENCE:0
X-MICROSOFT-CDO-OWNERAPPTID:2114057983
X-MICROSOFT-CDO-BUSYSTATUS:TENTATIVE
X-MICROSOFT-CDO-INTENDEDSTATUS:BUSY
X-MICROSOFT-CDO-ALLDAYEVENT:FALSE
X-MICROSOFT-CDO-IMPORTANCE:1
X-MICROSOFT-CDO-INSTTYPE:0
X-MICROSOFT-DISALLOW-COUNTER:FALSE
BEGIN:VALARM
DESCRIPTION:REMINDER
TRIGGER;RELATED=START:-PT15M
ACTION:DISPLAY
END:VALARM
END:VEVENT
END:VCALENDAR
