BEGIN:VCALENDAR
METHOD:REQUEST
PRODID:Microsoft Exchange Server 2010
VERSION:2.0
BEGIN:VTIMEZONE
TZID:GMT Standard Time
BEGIN:STANDARD
DTSTART:16010101T020000
TZOFFSETFROM:+0100
TZOFFSETTO:+0000
RRULE:FREQ=YEARLY;INTERVAL=1;BYDAY=-1SU;BYMONTH=10
END:STANDARD
BEGIN:DAYLIGHT
DTSTART:16010101T010000
TZOFFSETFROM:+0000
TZOFFSETTO:+0100
RRULE:FREQ=YEARLY;INTERVAL=1;BYDAY=-1SU;BYMONTH=3
END:DAYLIGHT
END:VTIMEZONE
BEGIN:VEVENT
ORGANIZER;CN=Maryam Bakoshi:MAILTO:maryam.bakoshi@icann.org
ATTENDEE;ROLE=REQ-PARTICIPANT;PARTSTAT=NEEDS-ACTION;RSVP=TRUE;CN=NPOC Discu
 ss:MAILTO:npoc-discuss@icann.org
ATTENDEE;ROLE=OPT-PARTICIPANT;PARTSTAT=NEEDS-ACTION;RSVP=TRUE;CN=Glen de Sa
 int Géry:MAILTO:Glen@icann.org
ATTENDEE;ROLE=OPT-PARTICIPANT;PARTSTAT=NEEDS-ACTION;RSVP=TRUE;CN=Gisella Gr
 uber:MAILTO:Gisella.Gruber@icann.org
ATTENDEE;ROLE=OPT-PARTICIPANT;PARTSTAT=NEEDS-ACTION;RSVP=TRUE;CN=Nathalie P
 eregrine:MAILTO:nathalie.peregrine@icann.org
ATTENDEE;ROLE=OPT-PARTICIPANT;PARTSTAT=NEEDS-ACTION;RSVP=TRUE;CN=Fahd Batay
 neh:MAILTO:fahd.batayneh@icann.org
ATTENDEE;ROLE=OPT-PARTICIPANT;PARTSTAT=NEEDS-ACTION;RSVP=TRUE;CN=Jean-Jacqu
 es Sahel:MAILTO:jean-jacques.sahel@icann.org
ATTENDEE;ROLE=OPT-PARTICIPANT;PARTSTAT=NEEDS-ACTION;RSVP=TRUE;CN=Gary Maydo
 n:MAILTO:Gary.Maydon@sja.org.uk
ATTENDEE;ROLE=OPT-PARTICIPANT;PARTSTAT=NEEDS-ACTION;RSVP=TRUE;CN="McDonough,
  Peter":MAILTO:PMcDonough@ACENET.EDU
ATTENDEE;ROLE=OPT-PARTICIPANT;PARTSTAT=NEEDS-ACTION;RSVP=TRUE;CN=Terri Agne
 w:MAILTO:terri.agnew@icann.org
DESCRIPTION;LANGUAGE=en-US:Dear All\,\n\n\nPlease find below participation 
 details for NPOC Marrakesh NGO outreach prep meeting on Wednesday 27th Jan
 uary 2016 at 16:00 UTC\n\n\nAdobe Connect: http://icann.adobeconnect.com/n
 poc/\n\n\nTime Zones: http://tinyurl.com/gvolczr\n\n\nAgenda: TBC\n\n\nPas
 scodes/Pin codes:\nParticipant passcode: NPOC\n\nFor security reasons\, th
 e passcode will be required to join the conference.\n\nDial in numbers:\nC
 ountry         Toll Numbers    Freephone/\nToll Free Number\n\n\nARGENTINA
                        0800-777-0519<tel:0800-777-0519>\nAUSTRALIA       A
 DELAIDE:       61-8-8121-4842  1-800-657-260\nAUSTRALIA       BRISBANE:   
     61-7-3102-0944  1-800-657-260\nAUSTRALIA       CANBERRA:       61-2-61
 00-1944  1-800-657-260\nAUSTRALIA       MELBOURNE:      61-3-9010-7713  1-
 800-657-260\nAUSTRALIA       PERTH:  61-8-9467-5223  1-800-657-260\nAUSTRA
 LIA       SYDNEY: 61-2-8205-8129  1-800-657-260\nAUSTRIA         43-1-92-8
 1-113  0800-005-259\nBELGIUM         32-2-400-9861   0800-3-8795\nBRAZIL  
                 0800-7610651<tel:0800-7610651>\nCHILE                   12
 30-020-2863\nCHINA   CHINA A:        86-400-810-4789 10800-712-1670\nCHINA
    CHINA B:        86-400-810-4789 10800-120-1670\nCOLOMBIA               
          01800-9-156474\nCZECH REPUBLIC          420-2-25-98-56-64       8
 00-700-177\nDENMARK         45-7014-0284    8088-8324\nESTONIA            
      800-011-1093\nFINLAND         358-9-5424-7162 0-800-9-14610\nFRANCE  
 LYON:   33-4-26-69-12-85        080-511-1496\nFRANCE  MARSEILLE:      33-4
 -86-06-00-85        080-511-1496\nFRANCE  PARIS:  33-1-70-70-60-72        
 080-511-1496\nGERMANY         49-69-2222-20362        0800-664-4247<tel:08
 00-664-4247>\nGREECE          30-80-1-100-0687        00800-12-7312\nHONG 
 KONG               852-3001-3863   800-962-856\nHUNGARY                 06
 -800-12755\nINDIA   INDIA A:                000-800-852-1268\nINDIA   INDI
 A B:                000-800-001-6305\nINDIA   INDIA C:                1800
 -300-00491\nINDONESIA                       001-803-011-3982\nIRELAND     
     353-1-246-7646  1800-992-368\nISRAEL                  1-80-9216162\nIT
 ALY   MILAN:  39-02-3600-6007 800-986-383\nJAPAN   OSAKA:  81-6-7739-4799<
 tel:81-6-7739-4799>      0066-33-132439\nJAPAN   TOKYO:  81-3-5539-5191<te
 l:81-3-5539-5191>      0066-33-132439\nLATVIA                  8000-3185\n
 LUXEMBOURG              352-27-000-1364\nMALAYSIA                        1
 -800-81-3065\nMEXICO                  001-866-376-9696\nNETHERLANDS       
       31-20-718-8588  0800-023-4378<tel:0800-023-4378>\nNEW ZEALAND       
       64-9-970-4771   0800-447-722\nNORWAY          47-21-590-062   800-15
 157\nPANAMA                  011-001-800-5072065\nPERU                    
 0800-53713\nPHILIPPINES             63-2-858-3716\nPOLAND                 
  00-800-1212572\nPORTUGAL                        8008-14052\nRUSSIA       
            8-10-8002-0144011\nSAUDI ARABIA                    800-8-110087
 \nSINGAPORE               65-6883-9230    800-120-4663\nSLOVAK REPUBLIC   
       421-2-322-422-25\nSOUTH AFRICA                    080-09-80414\nSOUT
 H KOREA             82-2-6744-1083  00798-14800-7352\nSPAIN           34-9
 1-414-25-33 800-300-053\nSWEDEN          46-8-566-19-348 0200-884-622\nSWI
 TZERLAND             41-44-580-6398  0800-120-032\nTAIWAN          886-2-2
 795-7379 00801-137-797\nTHAILAND                        001-800-1206-66056
 \nUNITED KINGDOM  BIRMINGHAM:     44-121-210-9025 0808-238-6029\nUNITED KI
 NGDOM  GLASGOW:        44-141-202-3225 0808-238-6029\nUNITED KINGDOM  LEED
 S:  44-113-301-2125 0808-238-6029\nUNITED KINGDOM  LONDON: 44-20-7108-6370
  0808-238-6029\nUNITED KINGDOM  MANCHESTER:     44-161-601-1425 0808-238-6
 029\nURUGUAY                 000-413-598-3421\nUSA             1-517-345-9
 004  866-692-5726\nVENEZUELA                       0800-1-00-3702\n\n\nRes
 trictions may exist when accessing freephone/toll free numbers using a mob
 ile telephone.\n\n\nMany thanks\,\n--\nMaryam Bakoshi\nSecretariat ­Suppo
 rt - NCSG\, NCUC\, NPOC\nInternet Corporation for Assigned Names and Numbe
 rs (ICANN)\n\n\nEmail: maryam.bakoshi@icann.org<mailto:maryam.bakoshi@ican
 n.org>\nMobile: +44 7737 698036\nSkype: maryam.bakoshi.icann\n\n
SUMMARY;LANGUAGE=en-US:REMINDER: NPOC Marrakesh NGO outreach prep meeting |
  27 Jan 2016 |1600
DTSTART;TZID=GMT Standard Time:20160127T160000
DTEND;TZID=GMT Standard Time:20160127T170000
UID:03046AE5-573B-4E66-9518-D270B5B8B442
CLASS:PUBLIC
PRIORITY:5
DTSTAMP:20160127T153145Z
TRANSP:OPAQUE
STATUS:CONFIRMED
SEQUENCE:1
LOCATION;LANGUAGE=en-US:http://icann.adobeconnect.com/npoc/
X-MICROSOFT-CDO-APPT-SEQUENCE:1
X-MICROSOFT-CDO-OWNERAPPTID:2114035304
X-MICROSOFT-CDO-BUSYSTATUS:TENTATIVE
X-MICROSOFT-CDO-INTENDEDSTATUS:BUSY
X-MICROSOFT-CDO-ALLDAYEVENT:FALSE
X-MICROSOFT-CDO-IMPORTANCE:1
X-MICROSOFT-CDO-INSTTYPE:0
X-MICROSOFT-DISALLOW-COUNTER:FALSE
BEGIN:VALARM
DESCRIPTION:REMINDER
TRIGGER;RELATED=START:-PT15M
ACTION:DISPLAY
END:VALARM
END:VEVENT
END:VCALENDAR
