BEGIN:VCALENDAR
METHOD:REQUEST
PRODID:Microsoft Exchange Server 2010
VERSION:2.0
BEGIN:VTIMEZONE
TZID:GMT Standard Time
BEGIN:STANDARD
DTSTART:16010101T020000
TZOFFSETFROM:+0100
TZOFFSETTO:+0000
RRULE:FREQ=YEARLY;INTERVAL=1;BYDAY=-1SU;BYMONTH=10
END:STANDARD
BEGIN:DAYLIGHT
DTSTART:16010101T010000
TZOFFSETFROM:+0000
TZOFFSETTO:+0100
RRULE:FREQ=YEARLY;INTERVAL=1;BYDAY=-1SU;BYMONTH=3
END:DAYLIGHT
END:VTIMEZONE
BEGIN:VEVENT
ORGANIZER;CN=Maryam Bakoshi:MAILTO:maryam.bakoshi@icann.org
ATTENDEE;ROLE=REQ-PARTICIPANT;PARTSTAT=NEEDS-ACTION;RSVP=TRUE;CN=NPOC Discu
 ss:MAILTO:npoc-discuss@icann.org
ATTENDEE;ROLE=OPT-PARTICIPANT;PARTSTAT=NEEDS-ACTION;RSVP=TRUE;CN=Nathalie P
 eregrine:MAILTO:nathalie.peregrine@icann.org
ATTENDEE;ROLE=OPT-PARTICIPANT;PARTSTAT=NEEDS-ACTION;RSVP=TRUE;CN=Glen de Sa
 int Géry:MAILTO:Glen@icann.org
ATTENDEE;ROLE=OPT-PARTICIPANT;PARTSTAT=NEEDS-ACTION;RSVP=TRUE;CN=Terri Agne
 w:MAILTO:terri.agnew@icann.org
ATTENDEE;ROLE=OPT-PARTICIPANT;PARTSTAT=NEEDS-ACTION;RSVP=TRUE;CN=Gisella Gr
 uber:MAILTO:Gisella.Gruber@icann.org
ATTENDEE;ROLE=OPT-PARTICIPANT;PARTSTAT=NEEDS-ACTION;RSVP=TRUE;CN=Gregg Haif
 ley:MAILTO:gregg.haifley@cancer.org
ATTENDEE;ROLE=OPT-PARTICIPANT;PARTSTAT=NEEDS-ACTION;RSVP=TRUE;CN=rob.falk@h
 rc.org:MAILTO:rob.falk@hrc.org
ATTENDEE;ROLE=OPT-PARTICIPANT;PARTSTAT=NEEDS-ACTION;RSVP=TRUE;CN=Gary Maydo
 n:MAILTO:Gary.Maydon@sja.org.uk
DESCRIPTION;LANGUAGE=en-US:Dear All\,\n\n\nPlease find below participation 
 details for the NPOC Meeting at the NCPH Intersessional Meeting\, schedule
 d for Wednesday\, 3 February 2016 from 21:00 UTC – 23:00 UTC.\n\n\nAdobe
  Connect: http://icann.adobeconnect.com/npoc/\n\n\nTime Zones: http://tiny
 url.com/h6txxgh\n\n\nLocal time: 13:00 - 15:00\n\n\nDial out: Please send 
 me an email off list if you require dial out\n\n\nPasscodes/Pin codes:\nPa
 rticipant passcodes — NPOC EC\n\n\n\nFor security reasons\, the passcode
  will be required to join the conference.\n\nDial in numbers:\nCountry    
      Toll Numbers    Freephone/\nToll Free Number\n\n\nARGENTINA          
              0800-777-0519<tel:0800-777-0519>\nAUSTRALIA       ADELAIDE:  
      61-8-8121-4842  1-800-657-260\nAUSTRALIA       BRISBANE:       61-7-3
 102-0944  1-800-657-260\nAUSTRALIA       CANBERRA:       61-2-6100-1944  1
 -800-657-260\nAUSTRALIA       MELBOURNE:      61-3-9010-7713  1-800-657-26
 0\nAUSTRALIA       PERTH:  61-8-9467-5223  1-800-657-260\nAUSTRALIA       
 SYDNEY: 61-2-8205-8129  1-800-657-260\nAUSTRIA         43-1-92-81-113  080
 0-005-259\nBELGIUM         32-2-400-9861   0800-3-8795\nBRAZIL            
       0800-7610651<tel:0800-7610651>\nCHILE                   1230-020-286
 3\nCHINA   CHINA A:        86-400-810-4789 10800-712-1670\nCHINA   CHINA B
 :        86-400-810-4789 10800-120-1670\nCOLOMBIA                        0
 1800-9-156474\nCZECH REPUBLIC          420-2-25-98-56-64       800-700-177
 \nDENMARK         45-7014-0284    8088-8324\nESTONIA                 800-0
 11-1093\nFINLAND         358-9-5424-7162 0-800-9-14610\nFRANCE  LYON:   33
 -4-26-69-12-85        080-511-1496\nFRANCE  MARSEILLE:      33-4-86-06-00-
 85        080-511-1496\nFRANCE  PARIS:  33-1-70-70-60-72        080-511-14
 96\nGERMANY         49-69-2222-20362        0800-664-4247<tel:0800-664-424
 7>\nGREECE          30-80-1-100-0687        00800-12-7312\nHONG KONG      
          852-3001-3863   800-962-856\nHUNGARY                 06-800-12755
 \nINDIA   INDIA A:                000-800-852-1268\nINDIA   INDIA B:      
           000-800-001-6305\nINDIA   INDIA C:                1800-300-00491
 \nINDONESIA                       001-803-011-3982\nIRELAND         353-1-
 246-7646  1800-992-368\nISRAEL                  1-80-9216162\nITALY   MILA
 N:  39-02-3600-6007 800-986-383\nJAPAN   OSAKA:  81-6-7739-4799<tel:81-6-7
 739-4799>      0066-33-132439\nJAPAN   TOKYO:  81-3-5539-5191<tel:81-3-553
 9-5191>      0066-33-132439\nLATVIA                  8000-3185\nLUXEMBOURG
               352-27-000-1364\nMALAYSIA                        1-800-81-30
 65\nMEXICO                  001-866-376-9696\nNETHERLANDS             31-2
 0-718-8588  0800-023-4378<tel:0800-023-4378>\nNEW ZEALAND             64-9
 -970-4771   0800-447-722\nNORWAY          47-21-590-062   800-15157\nPANAM
 A                  011-001-800-5072065\nPERU                    0800-53713
 \nPHILIPPINES             63-2-858-3716\nPOLAND                  00-800-12
 12572\nPORTUGAL                        8008-14052\nRUSSIA                 
  8-10-8002-0144011\nSAUDI ARABIA                    800-8-110087\nSINGAPOR
 E               65-6883-9230    800-120-4663\nSLOVAK REPUBLIC         421-
 2-322-422-25\nSOUTH AFRICA                    080-09-80414\nSOUTH KOREA   
           82-2-6744-1083  00798-14800-7352\nSPAIN           34-91-414-25-3
 3 800-300-053\nSWEDEN          46-8-566-19-348 0200-884-622\nSWITZERLAND  
            41-44-580-6398  0800-120-032\nTAIWAN          886-2-2795-7379 0
 0801-137-797\nTHAILAND                        001-800-1206-66056\nUNITED K
 INGDOM  BIRMINGHAM:     44-121-210-9025 0808-238-6029\nUNITED KINGDOM  GLA
 SGOW:        44-141-202-3225 0808-238-6029\nUNITED KINGDOM  LEEDS:  44-113
 -301-2125 0808-238-6029\nUNITED KINGDOM  LONDON: 44-20-7108-6370 0808-238-
 6029\nUNITED KINGDOM  MANCHESTER:     44-161-601-1425 0808-238-6029\nURUGU
 AY                 000-413-598-3421\nUSA             1-517-345-9004  866-6
 92-5726\nVENEZUELA                       0800-1-00-3702\n\n\nRestrictions 
 may exist when accessing freephone/toll free numbers using a mobile teleph
 one.\n\n
SUMMARY;LANGUAGE=en-US:NPOC Meeting at NCPH Intersessional Meeting | 03 Feb
  2015 | 21:00 UTC
DTSTART;TZID=GMT Standard Time:20160203T210000
DTEND;TZID=GMT Standard Time:20160203T230000
UID:65D1B6D0-BF74-4A57-8261-DE90DFBBE274
CLASS:PUBLIC
PRIORITY:5
DTSTAMP:20160203T180413Z
TRANSP:OPAQUE
STATUS:CONFIRMED
SEQUENCE:2
LOCATION;LANGUAGE=en-US:https://icann.adobeconnect.com/community-engagement
X-MICROSOFT-CDO-APPT-SEQUENCE:2
X-MICROSOFT-CDO-OWNERAPPTID:2114056336
X-MICROSOFT-CDO-BUSYSTATUS:TENTATIVE
X-MICROSOFT-CDO-INTENDEDSTATUS:BUSY
X-MICROSOFT-CDO-ALLDAYEVENT:FALSE
X-MICROSOFT-CDO-IMPORTANCE:1
X-MICROSOFT-CDO-INSTTYPE:0
X-MICROSOFT-DISALLOW-COUNTER:FALSE
BEGIN:VALARM
DESCRIPTION:REMINDER
TRIGGER;RELATED=START:-PT15M
ACTION:DISPLAY
END:VALARM
END:VEVENT
END:VCALENDAR
