BEGIN:VCALENDAR
METHOD:CANCEL
PRODID:Microsoft Exchange Server 2010
VERSION:2.0
BEGIN:VTIMEZONE
TZID:GMT Standard Time
BEGIN:STANDARD
DTSTART:16010101T020000
TZOFFSETFROM:+0100
TZOFFSETTO:+0000
RRULE:FREQ=YEARLY;INTERVAL=1;BYDAY=-1SU;BYMONTH=10
END:STANDARD
BEGIN:DAYLIGHT
DTSTART:16010101T010000
TZOFFSETFROM:+0000
TZOFFSETTO:+0100
RRULE:FREQ=YEARLY;INTERVAL=1;BYDAY=-1SU;BYMONTH=3
END:DAYLIGHT
END:VTIMEZONE
BEGIN:VEVENT
ORGANIZER;CN=Maryam Bakoshi:MAILTO:maryam.bakoshi@icann.org
ATTENDEE;ROLE=REQ-PARTICIPANT;PARTSTAT=NEEDS-ACTION;RSVP=TRUE;CN=NPOC Discu
 ss:MAILTO:npoc-discuss@icann.org
ATTENDEE;ROLE=OPT-PARTICIPANT;PARTSTAT=NEEDS-ACTION;RSVP=TRUE;CN=Gisella Gr
 uber:MAILTO:Gisella.Gruber@icann.org
ATTENDEE;ROLE=OPT-PARTICIPANT;PARTSTAT=NEEDS-ACTION;RSVP=TRUE;CN=Bryann Jac
 kson:MAILTO:Bryann.Jackson@stjude.org
ATTENDEE;ROLE=OPT-PARTICIPANT;PARTSTAT=NEEDS-ACTION;RSVP=TRUE;CN=Sam Lanfra
 nco:MAILTO:sam@lanfranco.net
ATTENDEE;ROLE=OPT-PARTICIPANT;PARTSTAT=NEEDS-ACTION;RSVP=TRUE;CN=Glen de Sa
 int Géry:MAILTO:Glen@icann.org
ATTENDEE;ROLE=OPT-PARTICIPANT;PARTSTAT=NEEDS-ACTION;RSVP=TRUE;CN=Jean-Louis
  Ecochard:MAILTO:jecochard@TNC.ORG
ATTENDEE;ROLE=OPT-PARTICIPANT;PARTSTAT=NEEDS-ACTION;RSVP=TRUE;CN=MGR Framer
 icas:MAILTO:mgr@framericas.org
ATTENDEE;ROLE=OPT-PARTICIPANT;PARTSTAT=NEEDS-ACTION;RSVP=TRUE;CN=Mazna Mala
 nga:MAILTO:mazna.malanga@ascd.org
ATTENDEE;ROLE=OPT-PARTICIPANT;PARTSTAT=NEEDS-ACTION;RSVP=TRUE;CN=Terri Agne
 w:MAILTO:terri.agnew@icann.org
DESCRIPTION;LANGUAGE=en-US:Dear All\,\n\nPlease find below participation de
 tails for ICANN: The Domain Name System and NGOs - How and Why Should NGOs
  Get Involved at ICANN54 Dublin.\n\nLocal Date and Time: Mon\, 19 October 
 2015 - 14:00 to 15:45 IST\nTime Zone Converter: 1300 – 1445 UTC\; 0600 
 – 0845 PDT\; 0900 – 1145 EDT\nRoom: Wicklow MR3\nRemote participation:
 https://icann.adobeconnect.com/dub54-wicklowmr3\nAgenda: https://meetings.
 icann.org/en/dublin54/schedule/mon-dns-ngo\nPassword: TBC\n\nDial in numbe
 rs:\nCountry\n\n\nToll Numbers\n\nFreephone/\nToll Free Number\n\n\n\n\nAR
 GENTINA\n\n\n\n\n0800-777-0519\n\n\nAUSTRALIA\n\n\nADELAIDE:\n\n\n61-8-812
 1-4842\n\n\n1-800-657-260\n\n\nAUSTRALIA\n\n\nBRISBANE:\n\n\n61-7-3102-094
 4\n\n\n1-800-657-260\n\n\nAUSTRALIA\n\n\nCANBERRA:\n\n\n61-2-6100-1944\n\n
 \n1-800-657-260\n\n\nAUSTRALIA\n\n\nMELBOURNE:\n\n\n61-3-9010-7713\n\n\n1-
 800-657-260\n\n\nAUSTRALIA\n\n\nPERTH:\n\n\n61-8-9467-5223\n\n\n1-800-657-
 260\n\n\nAUSTRALIA\n\n\nSYDNEY:\n\n\n61-2-8205-8129\n\n\n1-800-657-260\n\n
 \nAUSTRIA\n\n\n\n43-1-92-81-113\n\n\n0800-005-259\n\n\nBELGIUM\n\n\n\n32-2
 -400-9861\n\n\n0800-3-8795\n\n\nBRAZIL\n\n\n\n55-11-3958-0779\n\n\n0800-76
 10651\n\n\nCHILE\n\n\n\n\n1230-020-2863\n\n\nCHINA\n\n\nCHINA A:\n\n\n86-4
 00-810-4789\n\n\n10800-712-1670\n\n\nCHINA\n\n\nCHINA B:\n\n\n86-400-810-4
 789\n\n\n10800-120-1670\n\n\nCOLOMBIA\n\n\n\n\n01800-9-156474\n\n\nCROATIA
 \n\n\n\n\n080-08-06-309\n\n\nCZECH REPUBLIC\n\n\n\n420-2-25-98-56-64\n\n\n
 800-700-177\n\n\nDENMARK\n\n\n\n45-7014-0284\n\n\n8088-8324\n\n\nESTONIA\n
 \n\n\n\n800-011-1093\n\n\nFINLAND\n\n\n\n358-9-5424-7162\n\n\n0-800-9-1461
 0\n\n\nFRANCE\n\n\nLYON:\n\n\n33-4-26-69-12-85\n\n\n080-511-1496\n\n\nFRAN
 CE\n\n\nMARSEILLE:\n\n\n33-4-86-06-00-85\n\n\n080-511-1496\n\n\nFRANCE\n\n
 \nPARIS:\n\n\n33-1-70-70-60-72\n\n\n080-511-1496\n\n\nGERMANY\n\n\n\n49-69
 -2222-20362\n\n\n0800-664-4247\n\n\nGREECE\n\n\n\n30-80-1-100-0687\n\n\n00
 800-12-7312\n\n\nHONG KONG\n\n\n\n852-3001-3863\n\n\n800-962-856\n\n\nHUNG
 ARY\n\n\n\n36-1-700-8856\n\n\n06-800-12755\n\n\nINDIA\n\n\nBANGALORE:\n\n\
 n91-80-61275204\n\n\nINDIA\n\n\nMUMBAI:\n\n\n91-22-61501629\n\n\nINDIA\n\n
 \nINDIA A:\n\n\n\n000-800-852-1268\n\n\nINDIA\n\n\nINDIA B:\n\n\n\n000-800
 -001-6305\n\n\nINDIA\n\n\nINDIA C:\n\n\n\n1800-300-00491\n\n\nINDONESIA\n\
 n\n\n\n001-803-011-3982\n\n\nIRELAND\n\n\n\n353-1-246-7646\n\n\n1800-992-3
 68\n\n\nISRAEL\n\n\n\n\n1-80-9216162\n\n\nITALY\n\n\nMILAN:\n\n\n39-02-360
 0-6007\n\n\n800-986-383\n\n\nITALY\n\n\nROME:\n\n\n39-06-8751-6018\n\n\n80
 0-986-383\n\n\nITALY\n\n\nTORINO:\n\n\n39-011-510-0118\n\n\n800-986-383\n\
 n\nJAPAN\n\n\nOSAKA:\n\n\n81-6-7878-2631\n\n\n0066-33-132439\n\n\nJAPAN\n\
 n\nTOKYO:\n\n\n81-3-6868-2631\n\n\n0066-33-132439\n\n\nLATVIA\n\n\n\n\n800
 0-3185\n\n\nLUXEMBOURG\n\n\n\n352-27-000-1364\n\n\n8002-9246\n\n\nMALAYSIA
 \n\n\n\n\n1-800-81-3065\n\n\nMEXICO\n\n\nGUADALAJARA (JAL):\n\n\n52-33-320
 8-7310\n\n\n001-866-376-9696\n\n\nMEXICO\n\n\nMEXICO CITY:\n\n\n52-55-5062
 -9110\n\n\n001-866-376-9696\n\n\nMEXICO\n\n\nMONTERREY:\n\n\n52-81-2482-06
 10\n\n\n001-866-376-9696\n\n\nNETHERLANDS\n\n\n\n31-20-718-8588\n\n\n0800-
 023-4378\n\n\nNEW ZEALAND\n\n\n\n64-9-970-4771\n\n\n0800-447-722\n\n\nNORW
 AY\n\n\n\n47-21-590-062\n\n\n800-15157\n\n\nPANAMA\n\n\n\n\n011-001-800-50
 72065\n\n\nPERU\n\n\n\n\n0800-53713\n\n\nPHILIPPINES\n\n\n\n63-2-858-3716\
 n\n\n1800-111-42453\n\n\nPOLAND\n\n\n\n\n00-800-1212572\n\n\nPORTUGAL\n\n\
 n\n\n8008-14052\n\n\nROMANIA\n\n\n\n40-31-630-01-79\n\n\nRUSSIA\n\n\n\n\n8
 -10-8002-0144011\n\n\nSAUDI ARABIA\n\n\n\n\n800-8-110087\n\n\nSINGAPORE\n\
 n\n\n65-6883-9230\n\n\n800-120-4663\n\n\nSLOVAK REPUBLIC\n\n\n\n421-2-322-
 422-25\n\n\n0800-002066\n\n\nSOUTH AFRICA\n\n\n\n\n080-09-80414\n\n\nSOUTH
  KOREA\n\n\n\n82-2-6744-1083\n\n\n00798-14800-7352\n\n\nSPAIN\n\n\n\n34-91
 -414-25-33\n\n\n800-300-053\n\n\nSWEDEN\n\n\n\n46-8-566-19-348\n\n\n0200-8
 84-622\n\n\nSWITZERLAND\n\n\n\n41-44-580-6398\n\n\n0800-120-032\n\n\nTAIWA
 N\n\n\n\n886-2-2795-7379\n\n\n00801-137-797\n\n\nTHAILAND\n\n\n\n\n001-800
 -1206-66056\n\n\nTURKEY\n\n\n\n\n00-800-151-0516\n\n\nUNITED ARAB EMIRATES
 \n\n\n\n\n8000-35702370\n\n\nUNITED KINGDOM\n\n\nBIRMINGHAM:\n\n\n44-121-2
 10-9025\n\n\n0808-238-6029\n\n\nUNITED KINGDOM\n\n\nGLASGOW:\n\n\n44-141-2
 02-3225\n\n\n0808-238-6029\n\n\nUNITED KINGDOM\n\n\nLEEDS:\n\n\n44-113-301
 -2125\n\n\n0808-238-6029\n\n\nUNITED KINGDOM\n\n\nLONDON:\n\n\n44-20-7108-
 6370\n\n\n0808-238-6029\n\n\nUNITED KINGDOM\n\n\nMANCHESTER:\n\n\n44-161-6
 01-1425\n\n\n0808-238-6029\n\n\nURUGUAY\n\n\n\n\n000-413-598-3421\n\n\nUSA
 \n\n\n\n1-517-345-9004\n\n\n866-692-5726\n\n\nVENEZUELA\n\n\n\n\n0800-1-00
 -3702\n\n\n\nRestrictions may exist when accessing freephone/toll free num
 bers using a mobile telephone.\n\n\n
SUMMARY;LANGUAGE=en-US:Canceled: ICANN: The Domain Name System and NGOs - H
 ow and Why Should NGOs Get Involved
DTSTART;TZID=GMT Standard Time:20151019T140000
DTEND;TZID=GMT Standard Time:20151019T154500
UID:66F3D0D0-9827-4FBA-ADBE-22FACD9CAD0A
CLASS:PUBLIC
PRIORITY:5
DTSTAMP:20151018T125013Z
TRANSP:OPAQUE
STATUS:CANCELLED
SEQUENCE:1
LOCATION;LANGUAGE=en-US:Wicklow MR3
X-MICROSOFT-CDO-APPT-SEQUENCE:1
X-MICROSOFT-CDO-OWNERAPPTID:2113562919
X-MICROSOFT-CDO-BUSYSTATUS:FREE
X-MICROSOFT-CDO-INTENDEDSTATUS:FREE
X-MICROSOFT-CDO-ALLDAYEVENT:FALSE
X-MICROSOFT-CDO-IMPORTANCE:1
X-MICROSOFT-CDO-INSTTYPE:0
X-MICROSOFT-DISALLOW-COUNTER:FALSE
END:VEVENT
END:VCALENDAR
