BEGIN:VCALENDAR
PRODID:-//Microsoft Corporation//Outlook 10.0 MIMEDIR//EN
VERSION:2.0
METHOD:REQUEST
BEGIN:VTIMEZONE
TZID:Europe Time
BEGIN:STANDARD
DTSTART:20131001T030000
RRULE:FREQ=YEARLY;INTERVAL=1;BYDAY=-1SU;BYMONTH=10
TZOFFSETFROM:+0200
TZOFFSETTO:+0100
TZNAME:Standard Time
END:STANDARD
BEGIN:DAYLIGHT
DTSTART:20130301T020000
RRULE:FREQ=YEARLY;INTERVAL=1;BYDAY=-1SU;BYMONTH=3
TZOFFSETFROM:+0100
TZOFFSETTO:+0200
TZNAME:Daylight Savings Time
END:DAYLIGHT
END:VTIMEZONE
BEGIN:VEVENT
ATTENDEE;CN="Africa-ME Chapters-Webex";ROLE=REQ-PARTICIPANT;RSVP=TRUE:MAILTO:africa-me-chapters-webex@isoc.org
ORGANIZER;CN="Africa-ME Chapters-Webex":MAILTO:africa-me-chapters-webex@isoc.org
DTSTART;TZID="Europe Time":20151211T080000
DTEND;TZID="Europe Time":20151211T180000
LOCATION:https://isoc.webex.com/isoc
TRANSP:OPAQUE
SEQUENCE:1449772873
UID:1a2b797a-7a98-4bd0-91e4-d0970d042138
DTSTAMP:20151211T070000Z
DESCRIPTION:\n\n\nJOIN WEBEX MEETING\nhttps://isoc.webex.com/isoc/j.php?MTID=m00fb8bb04d45bdcd8196c705743db7ad\nMeeting number: 927 079 787\nMeeting password: Togo_IGF\n\n\nJOIN BY PHONE\n1-877-668-4493 Call-in toll-free number (US/Canada) \n1-650-479-3208 Call-in toll number (US/Canada)\nAccess code: 927 079 787\n\nGlobal call-in numbers:\nhttps://isoc.webex.com/isoc/globalcallin.php?serviceType=MC&ED=416913997&tollFree=1\n\nToll-free dialing restrictions: \nhttp://www.webex.com/pdf/tollfree_restrictions.pdf\n\n\n\nCan't join the meeting? Contact support here:\nhttps://isoc.webex.com/isoc/mc\n\n\nIMPORTANT NOTICE: Please note that this WebEx service allows audio and other information sent during the session to be recorded, which may be discoverable in a legal matter. By joining this session, you automatically consent to such recordings. If you do not consent to being recorded, discuss your concerns with the host or do not join the session.\n
X-ALT-DESC;FMTTYPE=text/html:	<FONT SIZE="1" FACE="ARIAL">&nbsp;<BR> <FONT SIZE="4" FACE="ARIAL">		<a					href="https://isoc.webex.com/isoc/j.php?MTID=m00fb8bb04d45bdcd8196c705743db7ad"><FONT SIZE="3" COLOR="#00AFF9" FACE="Arial">Join WebEx meeting</FONT></a>			<table>				<tr>					<td>						<FONT SIZE="2" COLOR="#666666" FACE="arial">Meeting number:</FONT>					</td>					<td>						<FONT SIZE="2" COLOR="#666666" FACE="arial">927 079 787</FONT>					</td>				</tr>			</table>			<table><tr><td><FONT SIZE="2" COLOR="#666666" FACE="arial">Meeting password:</FONT></td><td><FONT SIZE="2"  COLOR="#666666" FACE="arial">Togo_IGF</FONT></td></tr></table>		</FONT><FONT SIZE="1" FACE="ARIAL">&nbsp;<BR>&nbsp;<BR></FONT><FONT SIZE="4" FACE="ARIAL"><FONT SIZE="3" COLOR="#666666" FACE="arial">Join by phone</FONT>&nbsp; <BR><FONT SIZE="2" COLOR="#666666" FACE="arial"><strong>1-877-668-4493</strong>&nbsp;Call-in toll-free number (US/Canada)</FONT>&nbsp; <BR><FONT SIZE="2" COLOR="#666666" FACE="arial"><strong>1-650-479-3208</strong>&nbsp;Call-in toll number (US/Canada)</FONT>&nbsp; <BR><FONT SIZE="2" COLOR="#666666" FACE="arial">Access code: 927 079 787</FONT>&nbsp; <BR><a href="https://isoc.webex.com/isoc/globalcallin.php?serviceType=MC&ED=416913997&tollFree=1"><FONT SIZE="1" COLOR="#00AFF9" FACE="arial">Global call-in numbers</FONT></a><FONT SIZE="1" FACE="ARIAL">&nbsp;&nbsp;|&nbsp;&nbsp;</FONT><a href="http://www.webex.com/pdf/tollfree_restrictions.pdf"><FONT SIZE="1" COLOR="#00AFF9" FACE="arial">Toll-free calling restrictions</FONT></a> &nbsp; <BR></FONT><BR><BR>	&nbsp;<BR>	<FONT SIZE="1" COLOR="#666666" FACE="arial">				Can't join the meeting?</FONT>	<a href="https://isoc.webex.com/isoc/mc">	<FONT SIZE="1" COLOR="#00AFF9" FACE="Arial">Contact support.</FONT></a>	&nbsp;<BR>&nbsp;<BR><FONT COLOR="#A0A0A0" size="1" FACE="arial">IMPORTANT NOTICE: Please note that this WebEx service allows audio and other information sent during the session to be recorded, which may be discoverable in a legal matter. By joining this session, you automatically consent to such recordings. If you do not consent to being recorded, discuss your concerns with the host or do not join the session.</FONT></FONT>
SUMMARY:Forum sur la Gouvernance de l'Internet au Togo
PRIORITY:5
CLASS:PUBLIC
BEGIN:VALARM
TRIGGER:-PT5M
ACTION:DISPLAY
DESCRIPTION:Reminder
END:VALARM
END:VEVENT
END:VCALENDAR
