BEGIN:VCALENDAR
METHOD:REQUEST
PRODID:Microsoft Exchange Server 2010
VERSION:2.0
BEGIN:VTIMEZONE
TZID:UTC
BEGIN:STANDARD
DTSTART:16010101T000000
TZOFFSETFROM:+0000
TZOFFSETTO:+0000
END:STANDARD
BEGIN:DAYLIGHT
DTSTART:16010101T000000
TZOFFSETFROM:+0000
TZOFFSETTO:+0000
END:DAYLIGHT
END:VTIMEZONE
BEGIN:VEVENT
ORGANIZER;CN=ICANN Policy Calendar:MAILTO:PolicyCalendar@icann.org
ATTENDEE;ROLE=REQ-PARTICIPANT;PARTSTAT=NEEDS-ACTION;RSVP=FALSE;CN=NCSG-Disc
 uss:MAILTO:NCSG-DISCUSS@LISTSERV.SYR.EDU
ATTENDEE;ROLE=REQ-PARTICIPANT;PARTSTAT=NEEDS-ACTION;RSVP=FALSE;CN=ncuc-disc
 uss@lists.ncuc.org:MAILTO:ncuc-discuss@lists.ncuc.org
ATTENDEE;ROLE=REQ-PARTICIPANT;PARTSTAT=NEEDS-ACTION;RSVP=FALSE;CN=npoc-disc
 uss@icann.org:MAILTO:npoc-discuss@icann.org
DESCRIPTION;LANGUAGE=en-US:Please join NCUC for their quarterly webinar\, F
 rom Policy to Practice: How DNS Abuse Mitigation Impacts Civil Society and
  End Users.\n\nWednesday\, 11 February 2026 at 15:00 UTC for 80 min. Check
  your time zone here<https://www.timeanddate.com/worldclock/fixedtime.html
 ?msg=NCUC+Quarterly+Webinar&iso=20260211T15&p1=1440&ah=1&am=20>.\n\nPlease
  register here<https://icann.zoom.us/meeting/register/R_xUKLZGSzOTOaNknOEh
 Sw> to receive the Zoom details.\n\n
UID:8BB53FD4-E756-4DEB-BF1D-7D33C7FAFB35
SUMMARY;LANGUAGE=en-US:NCUC Quarterly Webinar-From Policy to Practice: How 
 DNS Abuse Mitigation Impacts Civil Society and End Users.
DTSTART;TZID=UTC:20260211T150000
DTEND;TZID=UTC:20260211T162000
CLASS:PUBLIC
PRIORITY:5
DTSTAMP:20260108T180217Z
TRANSP:OPAQUE
STATUS:CONFIRMED
SEQUENCE:0
LOCATION;LANGUAGE=en-US:https://icann.zoom.us/meeting/register/R_xUKLZGSzOT
 OaNknOEhSw
X-MICROSOFT-CDO-APPT-SEQUENCE:0
X-MICROSOFT-CDO-OWNERAPPTID:2124498116
X-MICROSOFT-CDO-BUSYSTATUS:TENTATIVE
X-MICROSOFT-CDO-INTENDEDSTATUS:BUSY
X-MICROSOFT-CDO-ALLDAYEVENT:FALSE
X-MICROSOFT-CDO-IMPORTANCE:1
X-MICROSOFT-CDO-INSTTYPE:0
X-MICROSOFT-DONOTFORWARDMEETING:FALSE
X-MICROSOFT-DISALLOW-COUNTER:TRUE
BEGIN:VALARM
DESCRIPTION:REMINDER
TRIGGER;RELATED=START:-PT15M
ACTION:DISPLAY
END:VALARM
END:VEVENT
END:VCALENDAR
