BEGIN:VCALENDAR
VERSION:2.0
PRODID:-//Microsoft Corporation//Outlook for Mac MIMEDIR//EN
METHOD:PUBLISH
BEGIN:VTIMEZONE
TZID:Coordinated Universal Time
X-ENTOURAGE-CFTIMEZONE:UTC
X-ENTOURAGE-TZID:93
BEGIN:STANDARD
TZOFFSETFROM:+0000
TZOFFSETTO:+0000
DTSTART:16010101T000000
END:STANDARD
END:VTIMEZONE
BEGIN:VEVENT
UID:F3F3F36C-7CC2-42BB-9C30-7CBBC728426C
X-ENTOURAGE_UUID:F3F3F36C-7CC2-42BB-9C30-7CBBC728426C
X-MICROSOFT-EXCHANGE-ID:AAMkADFlMDNlNjQ5LTNjNTUtNDJkMC04ZTI0LWFiMTFkOTgwND
 JhMQBGAAAAAAAdZPIZTDF9SJl4Q9bAl0gQBwAFskP3JLIoSYZSK2rNBQTXAIjV8WqdAACjhqXC
 SbKVRZwH7aZE5XhKAAQtVHEVAAA=
X-MICROSOFT-EXCHANGE-CHANGEKEY:DwAAABYAAACjhqXCSbKVRZwH7aZE5XhKAAQtlzYq
DTSTAMP:20241211T141939Z
DTSTART;TZID="Coordinated Universal Time":20250116T130000
DTEND;TZID="Coordinated Universal Time":20250116T140000
LAST-MODIFIED:20241211T141940Z
SUMMARY:Policy Development Accelerator 
DESCRIPTION:The Policy Development Accelerator session is scheduled for
  Thursday\, 16 January 2025 at 13:00 UTC for 60 minutes.\n\n \nTime zone
  converter:  https://tinyurl.com/4p3pnrtu \nSessions Wiki Page:
  https://community.icann.org/x/RIAYG \n \n\nJoin Zoom
  Meeting:\n\nhttps://icann.zoom.us/j/95345481555?pwd=TXJTMWJJeDd0ZlZxSXpHe
 UoxRm5rQT09\n\nMeeting ID: 953 4548 1555\n\nPasscode: n%EJ!g3$Y.\n\n
  \n\nOne tap mobile\n\n+13126266799\,\,95345481555#\,\,\,\,*3123531579#
  US (Chicago)\n\n+19294362866\,\,95345481555#\,\,\,\,*3123531579# US (New
  York)\n\n \n\nMeeting ID: 953 4548 1555\n\nPasscode: 3123531579\n\n
  \n\nFind your local number: https://icann.zoom.us/u/aWh1Qhe0x\n\n \n
LOCATION:13:00 UTC |
  https://icann.zoom.us/j/95345481555?pwd=TXJTMWJJeDd0ZlZxSXpHeUoxRm5rQT09
ORGANIZER:MAILTO:PolicyCalendar@icann.org
SEQUENCE:1
ATTENDEE;ROLE=REQ-PARTICIPANT;RSVP=FALSE;PARTSTAT=NEEDS-ACTION:MAILTO:poli
 cy-development-accelerator@icann.org
ATTENDEE;ROLE=REQ-PARTICIPANT;RSVP=FALSE;PARTSTAT=NEEDS-ACTION:MAILTO:dani
 el.gluck@icann.org
ATTENDEE;ROLE=REQ-PARTICIPANT;RSVP=FALSE;PARTSTAT=NEEDS-ACTION:MAILTO:chri
 stian.wheeler@icann.org
ATTENDEE;ROLE=REQ-PARTICIPANT;RSVP=FALSE;PARTSTAT=NEEDS-ACTION:MAILTO:deva
 n.reed@icann.org
ATTENDEE;ROLE=REQ-PARTICIPANT;RSVP=FALSE;CN=avri@doria.org;PARTSTAT=NEEDS-
 ACTION:MAILTO:avri@doria.org
X-MICROSOFT-CDO-BUSYSTATUS:BUSY
X-MICROSOFT-CDO-ALLDAYEVENT:FALSE
X-MICROSOFT-DISALLOW-COUNTER:TRUE
X-MICROSOFT-DONOTFORWARDMEETING:FALSE
X-MICROSOFT-CDO-INSTTYPE:0
BEGIN:VALARM
ACTION:DISPLAY
DESCRIPTION:REMINDER
TRIGGER;RELATED=START:-PT00H15M00S
END:VALARM
END:VEVENT
END:VCALENDAR
