BEGIN:VCALENDAR
METHOD:REQUEST
PRODID:Microsoft Exchange Server 2010
VERSION:2.0
BEGIN:VTIMEZONE
TZID:UTC
BEGIN:STANDARD
DTSTART:16010101T000000
TZOFFSETFROM:+0000
TZOFFSETTO:+0000
END:STANDARD
BEGIN:DAYLIGHT
DTSTART:16010101T000000
TZOFFSETFROM:+0000
TZOFFSETTO:+0000
END:DAYLIGHT
END:VTIMEZONE
BEGIN:VEVENT
ORGANIZER;CN=Ozan Sahin:MAILTO:ozan.sahin@icann.org
ATTENDEE;ROLE=REQ-PARTICIPANT;PARTSTAT=NEEDS-ACTION;RSVP=FALSE;CN=rssac-cau
 cus@icann.org:MAILTO:rssac-caucus@icann.org
DESCRIPTION;LANGUAGE=en-US:Ozan Sahin is inviting you to a scheduled Zoom m
 eeting.\n\n\n\nTopic: RSSAC Caucus Local Perspective Tool WP Call #3\n\nTi
 me: Jun 29\, 2020 03:00 PM Universal Time UTC\n\nAgenda: TBC\n\nWork Party
  Wiki Space: https://community.icann.org/x/gInsBw\n\n\n\nJoin Zoom Meeting
 \n\nhttps://icann.zoom.us/j/99674486025\n\n\n\nMeeting ID: 996 7448 6025\n
 \nPassword: 8Y&HnhZ&p*\n\n\n\nOne tap mobile\n\n+16699006833\,\,9967448602
 5#\,\,1#\,729929# US (San Jose)\n\n+13462487799\,\,99674486025#\,\,1#\,729
 929# US (Houston)\n\n\n\nDial by your location\n\n        +1 669 900 6833 
 US (San Jose)\n\n        +1 346 248 7799 US (Houston)\n\n        +1 253 21
 5 8782 US (Tacoma)\n\n        +1 301 715 8592 US (Germantown)\n\n        +
 1 312 626 6799 US (Chicago)\n\n        +1 929 436 2866 US (New York)\n\n  
       888 788 0099 US Toll-free\n\n        877 853 5247 US Toll-free\n\nMe
 eting ID: 996 7448 6025\n\nPassword: 729929\n\nFind your local number: htt
 ps://icann.zoom.us/u/aAKn4I3QK\n
SUMMARY;LANGUAGE=en-US:RSSAC Caucus Local Perspective Tool WP Teleconferenc
 e #3 | Monday\, 29 June | 15:00-16:00 UTC
DTSTART;TZID=UTC:20200629T150000
DTEND;TZID=UTC:20200629T160000
UID:EEBDB326-DDA5-4461-9BB1-7470CF6C9883
CLASS:PUBLIC
PRIORITY:5
DTSTAMP:20200604T121626Z
TRANSP:OPAQUE
STATUS:CONFIRMED
SEQUENCE:0
LOCATION;LANGUAGE=en-US:https://icann.zoom.us/j/99674486025
X-MICROSOFT-CDO-APPT-SEQUENCE:0
X-MICROSOFT-CDO-OWNERAPPTID:2118526618
X-MICROSOFT-CDO-BUSYSTATUS:TENTATIVE
X-MICROSOFT-CDO-INTENDEDSTATUS:BUSY
X-MICROSOFT-CDO-ALLDAYEVENT:FALSE
X-MICROSOFT-CDO-IMPORTANCE:1
X-MICROSOFT-CDO-INSTTYPE:0
X-MICROSOFT-DISALLOW-COUNTER:FALSE
BEGIN:VALARM
DESCRIPTION:REMINDER
TRIGGER;RELATED=START:-PT15M
ACTION:DISPLAY
END:VALARM
END:VEVENT
END:VCALENDAR
