BEGIN:VCALENDAR
METHOD:REQUEST
PRODID:Microsoft Exchange Server 2010
VERSION:2.0
BEGIN:VTIMEZONE
TZID:UTC
BEGIN:STANDARD
DTSTART:16010101T000000
TZOFFSETFROM:+0000
TZOFFSETTO:+0000
END:STANDARD
BEGIN:DAYLIGHT
DTSTART:16010101T000000
TZOFFSETFROM:+0000
TZOFFSETTO:+0000
END:DAYLIGHT
END:VTIMEZONE
BEGIN:VEVENT
ORGANIZER;CN=ICANN Policy Calendar:MAILTO:PolicyCalendar@icann.org
ATTENDEE;ROLE=REQ-PARTICIPANT;PARTSTAT=NEEDS-ACTION;RSVP=FALSE;CN=rssac-cau
 cus@icann.org:MAILTO:rssac-caucus@icann.org
DESCRIPTION;LANGUAGE=en-US:Topic: RSS Security Incident Reporting WP Meetin
 g\nTime: Jun 12\, 2024 13:30-15:00 Universal Time UTC\nLocation: AD 11 | K
 igali Convention Center\, Kigali\, Rwanda\nWork party wiki space: https://
 community.icann.org/x/5pWZDg\nWorking Document: https://docs.google.com/do
 cument/d/1NvSw7PoLGYhXPuMEjiBgqjCtp_khTGGEh0DaHkNJdds/edit?usp=sharing\nSe
 ssion page: https://icann80.sched.com/event/1dr6P/rssac-work-session-2-of-
 3\n\nParticipation Links\n• Zoom Meeting Link: https://icann.zoom.us/j/9
 4484078311?pwd=cEoycVd2Y2txUktQdzBNN2RLVWhBZz09\n• Zoom Meeting ID: 944 
 8407 8311\n• Zoom Meeting Passcode: z715n*R4.P\n• Zoom International D
 ial-In Numbers: https://icann.zoom.us/u/adpFpSnrg9\n• Zoom Phone Passcod
 e: 041 232 5551\n
UID:DBDE8F38-F215-442A-9187-74B140138A13
SUMMARY;LANGUAGE=en-US:REMINDER: RSS Security Incident Reporting WP Meeting
  #24 | Wednesday\, 12 June 2024 | 13:30 - 15:00 UTC
DTSTART;TZID=UTC:20240612T133000
DTEND;TZID=UTC:20240612T150000
CLASS:PUBLIC
PRIORITY:5
DTSTAMP:20240612T072118Z
TRANSP:OPAQUE
STATUS:CONFIRMED
SEQUENCE:1
LOCATION;LANGUAGE=en-US:AD 11 | Kigali Convention Center\, Kigali\, Rwanda
X-MICROSOFT-CDO-APPT-SEQUENCE:1
X-MICROSOFT-CDO-OWNERAPPTID:2122703686
X-MICROSOFT-CDO-BUSYSTATUS:TENTATIVE
X-MICROSOFT-CDO-INTENDEDSTATUS:BUSY
X-MICROSOFT-CDO-ALLDAYEVENT:FALSE
X-MICROSOFT-CDO-IMPORTANCE:1
X-MICROSOFT-CDO-INSTTYPE:0
X-MICROSOFT-DONOTFORWARDMEETING:FALSE
X-MICROSOFT-DISALLOW-COUNTER:TRUE
BEGIN:VALARM
DESCRIPTION:REMINDER
TRIGGER;RELATED=START:-PT15M
ACTION:DISPLAY
END:VALARM
END:VEVENT
END:VCALENDAR
