BEGIN:VCALENDAR
METHOD:REQUEST
PRODID:Microsoft Exchange Server 2010
VERSION:2.0
BEGIN:VTIMEZONE
TZID:UTC
BEGIN:STANDARD
DTSTART:16010101T000000
TZOFFSETFROM:+0000
TZOFFSETTO:+0000
END:STANDARD
BEGIN:DAYLIGHT
DTSTART:16010101T000000
TZOFFSETFROM:+0000
TZOFFSETTO:+0000
END:DAYLIGHT
END:VTIMEZONE
BEGIN:VEVENT
ORGANIZER;CN=Ozan Sahin:MAILTO:ozan.sahin@icann.org
ATTENDEE;ROLE=REQ-PARTICIPANT;PARTSTAT=NEEDS-ACTION;RSVP=FALSE;CN=RSSAC Cau
 cus:MAILTO:rssac-caucus@icann.org
DESCRIPTION;LANGUAGE=en-US:Ozan Sahin - ICANN Org is inviting you to a sche
 duled Zoom meeting.\n\nTopic: RSSAC001v2 Work Party Kickoff Meeting\nTime:
  Aug 15\, 2022 03:00 PM Universal Time UTC\nStatement of Work: https://dri
 ve.google.com/file/d/1dy_NIv-FLGYD1IHuSnIazufOvCbkYNxW/view?usp=sharing\nW
 ork party wiki space: https://community.icann.org/x/7oCLD\nAgenda: TBD\n\n
 \nJoin Zoom Meeting\nhttps://icann.zoom.us/j/97916631514?pwd=TzU0K1FBSW1aL
 1B3b3FDbkYwT1drQT09\n\nMeeting ID: 979 1663 1514\nPasscode: 1%W#A7#L^Y\n\n
 \nOne tap mobile\n&#43\;13126266799\,\,97916631514#\,\,\,\,*3799319754# US
  (Chicago)\n&#43\;13462487799\,\,97916631514#\,\,\,\,*3799319754# US (Hous
 ton)\n\nDial by your location\n        &#43\;1 312 626 6799 US (Chicago)\n
         &#43\;1 346 248 7799 US (Houston)\n        &#43\;1 669 900 6833 US
  (San Jose)\n        &#43\;1 929 436 2866 US (New York)\n        &#43\;1 2
 53 215 8782 US (Tacoma)\n        &#43\;1 301 715 8592 US (Washington DC)\n
         877 853 5247 US Toll-free\n        888 788 0099 US Toll-free\n    
     833 548 0276 US Toll-free\n        833 548 0282 US Toll-free\n        
 &#43\;61 3 7018 2005 Australia\n        &#43\;61 7 3185 3730 Australia\n  
       &#43\;61 8 6119 3900 Australia\n        &#43\;61 8 7150 1149 Austral
 ia\n        &#43\;61 2 8015 6011 Australia\n        1800 945 157 Australia
  Toll-free\n        1800 317 562 Australia Toll-free\n        1800 893 423
  Australia Toll-free\n        &#43\;1 587 328 1099 Canada\n        &#43\;1
  647 374 4685 Canada\n        &#43\;1 647 558 0588 Canada\n        &#43\;1
  778 907 2071 Canada\n        &#43\;1 204 272 7920 Canada\n        &#43\;1
  438 809 7799 Canada\n        855 703 8985 Canada Toll-free\n        &#43\
 ;81 363 628 317 Japan\n        &#43\;81 3 4578 1488 Japan\n        &#43\;8
 1 3 4579 0545 Japan\n        00 663 381 4092 Japan Toll-free\n        0 80
 0 100 5040 Japan Toll-free\n        0 120 829 768 Japan Toll-free\n       
  0 120 836 177 Japan Toll-free\n        &#43\;31 20 794 6519 Netherlands\n
         &#43\;31 20 794 6520 Netherlands\n        &#43\;31 20 794 7345 Net
 herlands\n        &#43\;31 707 006 526 Netherlands\n        &#43\;31 20 24
 1 0288 Netherlands\n        &#43\;31 20 794 0854 Netherlands\n        0 80
 0 220 0040 Netherlands Toll-free\n        0 800 022 1954 Netherlands Toll-
 free\n        0 800 025 0113 Netherlands Toll-free\n        &#43\;46 8 505
 0 0828 Sweden\n        &#43\;46 8 5050 0829 Sweden\n        &#43\;46 8 505
 2 0017 Sweden\n        &#43\;46 850 539 728 Sweden\n        &#43\;46 8 446
 8 2488 Sweden\n        &#43\;46 8 5016 3827 Sweden\n        0 201 604 329 
 Sweden Toll-free\n        0 200 123 514 Sweden Toll-free\n        0 200 12
 3 720 Sweden Toll-free\nMeeting ID: 979 1663 1514\nPasscode (for dial-ins 
 only): 3799319754\nFind your local number: https://icann.zoom.us/u/adppX2J
 7X2\n\n
UID:2FE57DDA-2C19-4521-B17B-6BA704A73720
SUMMARY;LANGUAGE=en-US:RSSAC001v2 Work Party Kickoff Meeting | Monday\, 15 
 August 2022 | 15:00-16:00 UTC
DTSTART;TZID=UTC:20220815T150000
DTEND;TZID=UTC:20220815T160000
CLASS:PUBLIC
PRIORITY:5
DTSTAMP:20220811T105834Z
TRANSP:OPAQUE
STATUS:CONFIRMED
SEQUENCE:0
LOCATION;LANGUAGE=en-US:https://icann.zoom.us/j/97916631514?pwd=TzU0K1FBSW1
 aL1B3b3FDbkYwT1drQT09
X-MICROSOFT-CDO-APPT-SEQUENCE:0
X-MICROSOFT-CDO-OWNERAPPTID:2120768390
X-MICROSOFT-CDO-BUSYSTATUS:TENTATIVE
X-MICROSOFT-CDO-INTENDEDSTATUS:BUSY
X-MICROSOFT-CDO-ALLDAYEVENT:FALSE
X-MICROSOFT-CDO-IMPORTANCE:1
X-MICROSOFT-CDO-INSTTYPE:0
X-MICROSOFT-DONOTFORWARDMEETING:FALSE
X-MICROSOFT-DISALLOW-COUNTER:TRUE
BEGIN:VALARM
DESCRIPTION:REMINDER
TRIGGER;RELATED=START:-PT15M
ACTION:DISPLAY
END:VALARM
END:VEVENT
END:VCALENDAR
