BEGIN:VCALENDAR
METHOD:REQUEST
PRODID:Microsoft Exchange Server 2010
VERSION:2.0
BEGIN:VTIMEZONE
TZID:UTC
BEGIN:STANDARD
DTSTART:16010101T000000
TZOFFSETFROM:+0000
TZOFFSETTO:+0000
END:STANDARD
BEGIN:DAYLIGHT
DTSTART:16010101T000000
TZOFFSETFROM:+0000
TZOFFSETTO:+0000
END:DAYLIGHT
END:VTIMEZONE
BEGIN:VEVENT
ORGANIZER;CN=Ozan Sahin:MAILTO:ozan.sahin@icann.org
ATTENDEE;ROLE=REQ-PARTICIPANT;PARTSTAT=NEEDS-ACTION;RSVP=FALSE;CN=rssac-cau
 cus@icann.org:MAILTO:rssac-caucus@icann.org
DESCRIPTION;LANGUAGE=en-US:***REMINDER***\n\nTopic: RSSAC Work Session (1 o
 f 2): Security Incident Reporting Work Party Meeting\nTime: Oct 22\, 2023 
 13:00-14:00 Universal Time UTC\nLocation: Hall D | Congress Center Hamburg
 \nWork party wiki space: https://community.icann.org/x/5pWZDg\nStatement o
 f work: https://docs.google.com/document/d/1qgzEAqmMHTwmZ23EH0vuE1SE-AWVK_
 NAddgv-3C36Vk/edit?usp=sharing\nWorking Document: https://docs.google.com/
 document/d/1NvSw7PoLGYhXPuMEjiBgqjCtp_khTGGEh0DaHkNJdds/edit?usp=sharing\n
 Agenda: https://docs.google.com/document/d/1GAfKfeQU9rNb_5GOooEbbpTtlE3ogt
 9lu15uo0v87IA/\nWeb page: https://icann78.sched.com/event/1T4Ms/rssac-work
 -session-1-of-2\n\nZoom Information:\n• Zoom Meeting Link: https://icann
 .zoom.us/j/98124270121?pwd=VnhrMWRlQXJURklrU2JQWHpzL3QvZz09\n• Zoom Meet
 ing ID: 981 2427 0121\n• Zoom Meeting Passcode: usvJ3dN!ka\n• Zoom Int
 ernational Dial-In Numbers: https://icann.zoom.us/u/acc1qGs0M6\n• Zoom P
 hone Passcode: 592 753 9135\n
UID:4531B489-2F61-4713-AE6E-59DC361608CE
SUMMARY;LANGUAGE=en-US:REMINDER: RSSAC Caucus RSS Security Incident Reporti
 ng WP Meeting | Sunday\, 22 October 2023 | 13:00-14:00 UTC (15:00-16:00 CE
 ST)
DTSTART;TZID=UTC:20231022T130000
DTEND;TZID=UTC:20231022T140000
CLASS:PUBLIC
PRIORITY:5
DTSTAMP:20231022T060251Z
TRANSP:OPAQUE
STATUS:CONFIRMED
SEQUENCE:1
LOCATION;LANGUAGE=en-US:Hall D | Congress Center Hamburg | Congressplatz 1\
 , 20355 Hamburg\, Germany
X-MICROSOFT-CDO-APPT-SEQUENCE:1
X-MICROSOFT-CDO-OWNERAPPTID:2121945436
X-MICROSOFT-CDO-BUSYSTATUS:TENTATIVE
X-MICROSOFT-CDO-INTENDEDSTATUS:BUSY
X-MICROSOFT-CDO-ALLDAYEVENT:FALSE
X-MICROSOFT-CDO-IMPORTANCE:1
X-MICROSOFT-CDO-INSTTYPE:0
X-MICROSOFT-DONOTFORWARDMEETING:FALSE
X-MICROSOFT-DISALLOW-COUNTER:TRUE
BEGIN:VALARM
DESCRIPTION:REMINDER
TRIGGER;RELATED=START:-PT15M
ACTION:DISPLAY
END:VALARM
END:VEVENT
END:VCALENDAR
