BEGIN:VCALENDAR
METHOD:REQUEST
PRODID:Microsoft Exchange Server 2010
VERSION:2.0
BEGIN:VTIMEZONE
TZID:UTC
BEGIN:STANDARD
DTSTART:16010101T000000
TZOFFSETFROM:+0000
TZOFFSETTO:+0000
END:STANDARD
BEGIN:DAYLIGHT
DTSTART:16010101T000000
TZOFFSETFROM:+0000
TZOFFSETTO:+0000
END:DAYLIGHT
END:VTIMEZONE
BEGIN:VEVENT
ORGANIZER;CN=ICANN Policy Calendar:MAILTO:PolicyCalendar@icann.org
ATTENDEE;ROLE=REQ-PARTICIPANT;PARTSTAT=NEEDS-ACTION;RSVP=FALSE;CN=rssac-cau
 cus@icann.org:MAILTO:rssac-caucus@icann.org
DESCRIPTION;LANGUAGE=en-US:Ozan Sahin - ICANN Org is inviting you to a sche
 duled Zoom meeting.\n\nTopic: RSSAC001v2 Work Party Teleconference\nStatem
 ent of Work: https://www.icann.org/en/system/files/files/rssac-sow-rssac00
 2v5-31jul22-en.pdf\nWork party wiki space: https://community.icann.org/x/I
 YGLD\nWorking document: https://docs.google.com/document/d/1fTRTplssJUayL6
 XD-qAmkGltXOxmeuPe/edit?usp=sharing&amp\;ouid=117614734783901341469&amp\;r
 tpof=true&amp\;sd=true<https://docs.google.com/document/d/1fTRTplssJUayL6X
 D-qAmkGltXOxmeuPe/edit?usp=sharing&ouid=117614734783901341469&rtpof=true&s
 d=true>\n\nTime: Dec 1\, 2022 04:00 PM Universal Time UTC\n        Every 2
  weeks on Thu\, 2 occurrence(s)\n        Dec 1\, 2022 04:00 PM\n        De
 c 15\, 2022 04:00 PM\n\nJoin Zoom Meeting\nhttps://icann.zoom.us/j/9807073
 0476?pwd=OWZMV2x6d0JhSnVOZ2Q3V0ZZVGJPQT09\n\nMeeting ID: 980 7073 0476\nPa
 sscode: V&#43\;GzR0D%4P\nOne tap mobile\n&#43\;12532158782\,\,98070730476#
 \,\,\,\,*6666223169# US (Tacoma)\n&#43\;13017158592\,\,98070730476#\,\,\,\
 ,*6666223169# US (Washington DC)\n\nDial by your location\n        &#43\;1
  253 215 8782 US (Tacoma)\n        &#43\;1 301 715 8592 US (Washington DC)
 \n        &#43\;1 312 626 6799 US (Chicago)\n        &#43\;1 346 248 7799 
 US (Houston)\n        &#43\;1 669 900 6833 US (San Jose)\n        &#43\;1 
 929 436 2866 US (New York)\n        833 548 0276 US Toll-free\n        833
  548 0282 US Toll-free\n        877 853 5247 US Toll-free\n        888 788
  0099 US Toll-free\n        &#43\;61 8 7150 1149 Australia\n        &#43\;
 61 2 8015 6011 Australia\n        &#43\;61 3 7018 2005 Australia\n        
 &#43\;61 7 3185 3730 Australia\n        &#43\;61 8 6119 3900 Australia\n  
       1800 317 562 Australia Toll-free\n        1800 893 423 Australia Tol
 l-free\n        1800 945 157 Australia Toll-free\n        &#43\;1 204 272 
 7920 Canada\n        &#43\;1 438 809 7799 Canada\n        &#43\;1 587 328 
 1099 Canada\n        &#43\;1 647 374 4685 Canada\n        &#43\;1 647 558 
 0588 Canada\n        &#43\;1 778 907 2071 Canada\n        855 703 8985 Can
 ada Toll-free\n        &#43\;81 3 4578 1488 Japan\n        &#43\;81 3 4579
  0545 Japan\n        &#43\;81 363 628 317 Japan\n        0 120 829 768 Jap
 an Toll-free\n        0 120 836 177 Japan Toll-free\n        00 663 381 40
 92 Japan Toll-free\n        0 800 100 5040 Japan Toll-free\n        &#43\;
 31 20 241 0288 Netherlands\n        &#43\;31 20 794 0854 Netherlands\n    
     &#43\;31 20 794 6519 Netherlands\n        &#43\;31 20 794 6520 Netherl
 ands\n        &#43\;31 20 794 7345 Netherlands\n        &#43\;31 707 006 5
 26 Netherlands\n        0 800 022 1954 Netherlands Toll-free\n        0 80
 0 025 0113 Netherlands Toll-free\n        0 800 220 0040 Netherlands Toll-
 free\n        &#43\;46 8 4468 2488 Sweden\n        &#43\;46 8 5016 3827 Sw
 eden\n        &#43\;46 8 5050 0828 Sweden\n        &#43\;46 8 5050 0829 Sw
 eden\n        &#43\;46 8 5052 0017 Sweden\n        &#43\;46 850 539 728 Sw
 eden\n        0 200 123 514 Sweden Toll-free\n        0 200 123 720 Sweden
  Toll-free\n        0 201 604 329 Sweden Toll-free\nMeeting ID: 980 7073 0
 476\nPasscode (for dial-ins only): 6666223169\nFind your local number: htt
 ps://icann.zoom.us/u/acRJdbUA3\n\n
RRULE:FREQ=WEEKLY;COUNT=2;INTERVAL=2;BYDAY=TH;WKST=SU
UID:D93AD32A-EB18-4211-998C-CDD6DFA91D3F
SUMMARY;LANGUAGE=en-US:RSSAC001v2 Work Party Teleconference | Every 2 weeks
  on Thursdays | 16:00-17:00 UTC
DTSTART;TZID=UTC:20221201T160000
DTEND;TZID=UTC:20221201T170000
CLASS:PUBLIC
PRIORITY:5
DTSTAMP:20221117T140732Z
TRANSP:OPAQUE
STATUS:CONFIRMED
SEQUENCE:0
LOCATION;LANGUAGE=en-US:https://icann.zoom.us/j/98070730476?pwd=OWZMV2x6d0J
 hSnVOZ2Q3V0ZZVGJPQT09
X-MICROSOFT-CDO-APPT-SEQUENCE:0
X-MICROSOFT-CDO-OWNERAPPTID:2120978100
X-MICROSOFT-CDO-BUSYSTATUS:TENTATIVE
X-MICROSOFT-CDO-INTENDEDSTATUS:BUSY
X-MICROSOFT-CDO-ALLDAYEVENT:FALSE
X-MICROSOFT-CDO-IMPORTANCE:1
X-MICROSOFT-CDO-INSTTYPE:1
X-MICROSOFT-DONOTFORWARDMEETING:FALSE
X-MICROSOFT-DISALLOW-COUNTER:TRUE
BEGIN:VALARM
DESCRIPTION:REMINDER
TRIGGER;RELATED=START:-PT15M
ACTION:DISPLAY
END:VALARM
END:VEVENT
END:VCALENDAR
