BEGIN:VCALENDAR
METHOD:REQUEST
PRODID:Microsoft Exchange Server 2010
VERSION:2.0
BEGIN:VTIMEZONE
TZID:UTC
BEGIN:STANDARD
DTSTART:16010101T000000
TZOFFSETFROM:+0000
TZOFFSETTO:+0000
END:STANDARD
BEGIN:DAYLIGHT
DTSTART:16010101T000000
TZOFFSETFROM:+0000
TZOFFSETTO:+0000
END:DAYLIGHT
END:VTIMEZONE
BEGIN:VEVENT
ORGANIZER;CN=Ozan Sahin:MAILTO:ozan.sahin@icann.org
ATTENDEE;ROLE=REQ-PARTICIPANT;PARTSTAT=NEEDS-ACTION;RSVP=FALSE;CN=rssac-cau
 cus@icann.org:MAILTO:rssac-caucus@icann.org
DESCRIPTION;LANGUAGE=en-US:Ozan Sahin is inviting you to a scheduled Zoom m
 eeting.\n\n\n\nTopic: RSSAC Caucus Local Perspective Tool WP Call #11\n\nT
 ime: Feb 22\, 2021 04:00 PM Universal Time UTC\n\nAgenda: TBD\n\nWork part
 y wiki space: https://community.icann.org/x/gInsBw\n\nWork party Google do
 cument: https://docs.google.com/document/d/11slZDTqrcwTwywpbi3JwHuU_FoaoN5
 4u0f3B2UFjUv4/edit\n\n\n\n\n\nJoin Zoom Meeting\n\nhttps://icann.zoom.us/j
 /93625761854?pwd=RlBpd3NjSU4vMnhseFNOWG1KVkFhUT09\n\n\n\nMeeting ID: 936 2
 576 1854\n\nPasscode (not required): iu81K*a.#2\n\nOne tap mobile\n\n+1669
 9006833\,\,93625761854#\,\,\,\,*9105437352# US (San Jose)\n\n+19294362866\
 ,\,93625761854#\,\,\,\,*9105437352# US (New York)\n\n\n\nDial by your loca
 tion\n\n&nbsp\;&nbsp\;&nbsp\;&nbsp\;&nbsp\;&nbsp\;&nbsp\; +1 669 900 6833 
 US (San Jose)\n\n&nbsp\;&nbsp\;&nbsp\;&nbsp\;&nbsp\;&nbsp\;&nbsp\; +1 929 
 436 2866 US (New York)\n\n&nbsp\;&nbsp\;&nbsp\;&nbsp\;&nbsp\;&nbsp\;&nbsp\
 ; +1 253 215 8782 US (Tacoma)\n\n&nbsp\;&nbsp\;&nbsp\;&nbsp\;&nbsp\;&nbsp\
 ;&nbsp\; +1 301 715 8592 US (Washington DC)\n\n&nbsp\;&nbsp\;&nbsp\;&nbsp\
 ;&nbsp\;&nbsp\;&nbsp\; +1 312 626 6799 US (Chicago)\n\n&nbsp\;&nbsp\;&nbsp
 \;&nbsp\;&nbsp\;&nbsp\;&nbsp\; +1 346 248 7799 US (Houston)\n\n&nbsp\;&nbs
 p\;&nbsp\;&nbsp\;&nbsp\;&nbsp\;&nbsp\; 877 853 5247 US Toll-free\n\n&nbsp\
 ;&nbsp\;&nbsp\;&nbsp\;&nbsp\;&nbsp\;&nbsp\; 888 788 0099 US Toll-free\n\n&
 nbsp\;&nbsp\;&nbsp\;&nbsp\;&nbsp\;&nbsp\;&nbsp\; +61 3 7018 2005 Australia
 \n\n&nbsp\;&nbsp\;&nbsp\;&nbsp\;&nbsp\;&nbsp\;&nbsp\; +61 7 3185 3730 Aust
 ralia\n\n&nbsp\;&nbsp\;&nbsp\;&nbsp\;&nbsp\;&nbsp\;&nbsp\; +61 8 6119 3900
  Australia\n\n&nbsp\;&nbsp\;&nbsp\;&nbsp\;&nbsp\;&nbsp\;&nbsp\; +61 8 7150
  1149 Australia\n\n&nbsp\;&nbsp\;&nbsp\;&nbsp\;&nbsp\;&nbsp\;&nbsp\; +61 2
  8015 6011 Australia\n\n&nbsp\;&nbsp\;&nbsp\;&nbsp\;&nbsp\;&nbsp\;&nbsp\; 
 1800 893 423 Australia Toll-free\n\n&nbsp\;&nbsp\;&nbsp\;&nbsp\;&nbsp\;&nb
 sp\;&nbsp\; 1800 945 157 Australia Toll-free\n\n&nbsp\;&nbsp\;&nbsp\;&nbsp
 \;&nbsp\;&nbsp\;&nbsp\; 1800 317 562 Australia Toll-free\n\n&nbsp\;&nbsp\;
 &nbsp\;&nbsp\;&nbsp\;&nbsp\;&nbsp\; +1 647 558 0588 Canada\n\n&nbsp\;&nbsp
 \;&nbsp\;&nbsp\;&nbsp\;&nbsp\;&nbsp\; +1 778 907 2071 Canada\n\n&nbsp\;&nb
 sp\;&nbsp\;&nbsp\;&nbsp\;&nbsp\;&nbsp\; +1 204 272 7920 Canada\n\n&nbsp\;&
 nbsp\;&nbsp\;&nbsp\;&nbsp\;&nbsp\;&nbsp\; +1 438 809 7799 Canada\n\n&nbsp\
 ;&nbsp\;&nbsp\;&nbsp\;&nbsp\;&nbsp\;&nbsp\; +1 587 328 1099 Canada\n\n&nbs
 p\;&nbsp\;&nbsp\;&nbsp\;&nbsp\;&nbsp\;&nbsp\; +1 647 374 4685 Canada\n\n&n
 bsp\;&nbsp\;&nbsp\;&nbsp\;&nbsp\;&nbsp\;&nbsp\; 855 703 8985 Canada Toll-f
 ree\n\n&nbsp\;&nbsp\;&nbsp\;&nbsp\;&nbsp\;&nbsp\;&nbsp\; +81 363 628 317 J
 apan\n\n&nbsp\;&nbsp\;&nbsp\;&nbsp\;&nbsp\;&nbsp\;&nbsp\; +81 524 564 439 
 Japan\n\n&nbsp\;&nbsp\;&nbsp\;&nbsp\;&nbsp\;&nbsp\;&nbsp\; +81 3 4578 1488
  Japan\n\n&nbsp\;&nbsp\;&nbsp\;&nbsp\;&nbsp\;&nbsp\;&nbsp\; 00 663 381 409
 2 Japan Toll-free\n\n&nbsp\;&nbsp\;&nbsp\;&nbsp\;&nbsp\;&nbsp\;&nbsp\; 0 8
 00 100 5040 Japan Toll-free\n\n&nbsp\;&nbsp\;&nbsp\;&nbsp\;&nbsp\;&nbsp\;&
 nbsp\; +31 20 794 7345 Netherlands\n\n&nbsp\;&nbsp\;&nbsp\;&nbsp\;&nbsp\;&
 nbsp\;&nbsp\; +31 707 006 526 Netherlands\n\n&nbsp\;&nbsp\;&nbsp\;&nbsp\;&
 nbsp\;&nbsp\;&nbsp\; +31 20 241 0288 Netherlands\n\n&nbsp\;&nbsp\;&nbsp\;&
 nbsp\;&nbsp\;&nbsp\;&nbsp\; +31 20 794 0854 Netherlands\n\n&nbsp\;&nbsp\;&
 nbsp\;&nbsp\;&nbsp\;&nbsp\;&nbsp\; +31 20 794 6519 Netherlands\n\n&nbsp\;&
 nbsp\;&nbsp\;&nbsp\;&nbsp\;&nbsp\;&nbsp\; +31 20 794 6520 Netherlands\n\n&
 nbsp\;&nbsp\;&nbsp\;&nbsp\;&nbsp\;&nbsp\;&nbsp\; 0 800 022 1954 Netherland
 s Toll-free\n\n&nbsp\;&nbsp\;&nbsp\;&nbsp\;&nbsp\;&nbsp\;&nbsp\; 0 800 220
  0040 Netherlands Toll-free\n\n&nbsp\;&nbsp\;&nbsp\;&nbsp\;&nbsp\;&nbsp\;&
 nbsp\; +46 8 5052 0017 Sweden\n\n&nbsp\;&nbsp\;&nbsp\;&nbsp\;&nbsp\;&nbsp\
 ;&nbsp\; +46 850 539 728 Sweden\n\n&nbsp\;&nbsp\;&nbsp\;&nbsp\;&nbsp\;&nbs
 p\;&nbsp\; +46 8 4468 2488 Sweden\n\n&nbsp\;&nbsp\;&nbsp\;&nbsp\;&nbsp\;&n
 bsp\;&nbsp\; +46 8 5016 3827 Sweden\n\n&nbsp\;&nbsp\;&nbsp\;&nbsp\;&nbsp\;
 &nbsp\;&nbsp\; +46 8 5050 0828 Sweden\n\n&nbsp\;&nbsp\;&nbsp\;&nbsp\;&nbsp
 \;&nbsp\;&nbsp\; +46 8 5050 0829 Sweden\n\n&nbsp\;&nbsp\;&nbsp\;&nbsp\;&nb
 sp\;&nbsp\; &nbsp\;0 200 123 514 Sweden Toll-free\n\n&nbsp\;&nbsp\;&nbsp\;
 &nbsp\;&nbsp\;&nbsp\;&nbsp\; 0 200 123 720 Sweden Toll-free\n\nMeeting ID:
  936 2576 1854\n\nPasscode (dial-in only): 910 543 7352\n\nFind your local
  number: https://icann.zoom.us/u/acEMxTSqgW\n\n\n
UID:988C2793-CA9B-41FF-B4A1-6A24BF731CF5
SUMMARY;LANGUAGE=en-US:RSSAC Caucus Local Perspective Tool WP Teleconferenc
 e #11 | Monday\, 22 February | 16:00-17:00 UTC
DTSTART;TZID=UTC:20210222T160000
DTEND;TZID=UTC:20210222T170000
CLASS:PUBLIC
PRIORITY:5
DTSTAMP:20210201T083452Z
TRANSP:OPAQUE
STATUS:CONFIRMED
SEQUENCE:0
LOCATION;LANGUAGE=en-US:https://icann.zoom.us/j/93625761854?pwd=RlBpd3NjSU4
 vMnhseFNOWG1KVkFhUT09
X-MICROSOFT-CDO-APPT-SEQUENCE:0
X-MICROSOFT-CDO-OWNERAPPTID:2119307099
X-MICROSOFT-CDO-BUSYSTATUS:TENTATIVE
X-MICROSOFT-CDO-INTENDEDSTATUS:BUSY
X-MICROSOFT-CDO-ALLDAYEVENT:FALSE
X-MICROSOFT-CDO-IMPORTANCE:1
X-MICROSOFT-CDO-INSTTYPE:0
X-MICROSOFT-DONOTFORWARDMEETING:FALSE
X-MICROSOFT-DISALLOW-COUNTER:TRUE
BEGIN:VALARM
DESCRIPTION:REMINDER
TRIGGER;RELATED=START:-PT15M
ACTION:DISPLAY
END:VALARM
END:VEVENT
END:VCALENDAR
