BEGIN:VCALENDAR
METHOD:REQUEST
PRODID:Microsoft Exchange Server 2010
VERSION:2.0
BEGIN:VTIMEZONE
TZID:UTC
BEGIN:STANDARD
DTSTART:16010101T000000
TZOFFSETFROM:+0000
TZOFFSETTO:+0000
END:STANDARD
BEGIN:DAYLIGHT
DTSTART:16010101T000000
TZOFFSETFROM:+0000
TZOFFSETTO:+0000
END:DAYLIGHT
END:VTIMEZONE
BEGIN:VEVENT
ORGANIZER;CN=Mario Aleman:MAILTO:mario.aleman@icann.org
ATTENDEE;ROLE=REQ-PARTICIPANT;PARTSTAT=NEEDS-ACTION;RSVP=TRUE;CN=RSSAC-Cauc
 us-Resolver-Study-WP:MAILTO:rssac-caucus-resolver-study-wp@icann.org
DESCRIPTION;LANGUAGE=en-US:Dear All\,\n\n\n\nIn preparation for our Caucus 
 Resolver Study Meeting during IETF today\, please be advised that remote p
 articipation will be available for this session.\n\n\n\nPlease feel free t
 o contact Staff for any questions or requests\,\n\n\n\nBest\,\n\n\n\n-----
 -----\n\nDear RSSAC Caucus Resolver WP members\,\n\n\n\nOur next meeting a
 nd Teleconference Call during IETF 103 is scheduled on Tuesday 06 November
  2018 | 12:45 - 13:45 local time UTC+7 | 05:45 ��� 06:45 UTC.\n\n\n\nThe r
 oom location is APT 7 on Floor 9th of Marriott Marquis Queen���s Park in B
 angkok\, Thailand\n\n\nFor other times: https://tinyurl.com/y9dq7s7y\n\n\n
 \nRemote Participation:\n\n\n\nhttp://participate.icann.org/rssac-caucus\n
 \n\n\nPhone bridge #: +1 866-780-9216 (Dial in numbers for other countries
  listed in the bottom of email)\n\n\n\nParticipant passcode 4927450\n\n\nT
 o request a dial-out please e-mail mario.aleman@icann.org<mailto:mario.ale
 man@icann.org>\n\n\nThank you.\n\n\n\n------------\n\n\n\nDial in numbers*
 :\n\n\nCountry\n                Local/Toll Number\n        Free phone/Toll
  Free Number\n\n\nARGENTINA\n                        0800-777-0487\n\n\nAU
 STRALIA\n        ADELAIDE:\n        61-8-8121-4859\n        1-800-880-484\
 n\n\nAUSTRALIA\n        BRISBANE:\n        61-7-3102-0961\n        1-800-8
 80-484\n\n\nAUSTRALIA\n        CANBERRA:\n        61-2-6100-1961\n        
 1-800-880-484\n\n\nAUSTRALIA\n        MELBOURNE:\n        61-3-9010-7730\n
         1-800-880-484\n\n\nAUSTRALIA\n        PERTH:\n        61-8-9467-52
 40\n        1-800-880-484\n\n\nAUSTRALIA\n        SYDNEY:\n        61-2-82
 11-1382\n        1-800-880-484\n\n\nAUSTRIA\n                43-1-92-89-57
 4\n        0800-999-850\n\n\nBELGIUM\n                32-2-400-6717\n     
    0800-4-8474\n\n\nBRAZIL\n                55-11-3958-0764\n        0800-
 7610666\n\n\nCHILE\n                        1230-020-0288\n\n\nCHINA\n    
     CHINA A:\n        86-400-810-4757\n        10800-712-1194\n\n\nCHINA\n
         CHINA B:\n        86-400-810-4757\n        10800-120-1194\n\n\nCOL
 OMBIA\n                        01800-9-156471\n\n\nCROATIA\n              
           080-08-06-319\n\n\nCZECH REPUBLIC\n                420-2-25-98-5
 6-11\n        800-700-164\n\n\nDENMARK\n                45-7014-0235\n    
     8088-5347\n\n\nESTONIA\n                        800-011-1124\n\n\nFINL
 AND\n                358-9-5424-7147\n        0-800-1-12418\n\n\nFRANCE\n 
        LYON:\n        33-4-26-69-12-72\n        080-511-1516\n\n\nFRANCE\n
         MARSEILLE:\n        33-4-86-06-00-72\n        080-511-1516\n\n\nFR
 ANCE\n        PARIS:\n        33-1-70-70-60-73\n        080-511-1516\n\n\n
 GERMANY\n                49-69-2222-20267\n        0800-101-4259\n\n\nGREE
 CE\n                30-80-1-100-0635\n        00800-12-6136\n\n\nHONG KONG
 \n                852-3001-3828\n        800-964-135\n\n\nHUNGARY\n       
          36-1-700-8841\n        06-800-15442\n\n\nINDIA\n        INDIA B:\
 n                000-800-001-6249\n\n\nINDIA\n        INDIA C:\n          
       1800-300-00430\n\n\nINDIA\n        INDIA A:\n                000-800
 -852-1213\n\n\nINDONESIA\n                        001-803-011-3491\n\n\nIR
 ELAND\n                353-1-246-0095\n        1800-992-121\n\n\nISRAEL\n 
                        1-80-9214002\n\n\nITALY\n        MILAN:\n        39
 -02-3600-3564\n        800-985-429\n\n\nITALY\n        ROME:\n        39-0
 6-8751-6013\n        800-985-429\n\n\nITALY\n        TORINO:\n        39-0
 11-510-0113\n        800-985-429\n\n\nJAPAN\n        OSAKA:\n        81-6-
 7878-2653\n        00531-12-1150\n\n\nJAPAN\n        TOKYO:\n        81-3-
 6868-2653\n        00531-12-1150\n\n\nLATVIA\n                        8000
 -3168\n\n\nLUXEMBOURG\n                352-27-000-1310\n        8002-9125\
 n\n\nMALAYSIA\n                        1-800-80-8105\n\n\nMEXICO\n        
 GUADALAJARA (JAL):\n        52-33-3208-7322\n        001-866-318-9747\n\n\
 nMEXICO\n        MEXICO CITY:\n        52-55-5062-9122\n        001-866-31
 8-9747\n\n\nMEXICO\n        MONTERREY:\n        52-81-2482-0622\n        0
 01-866-318-9747\n\n\nNETHERLANDS\n                31-20-712-1372\n        
 0800-023-1492\n\n\nNEW ZEALAND\n                64-9-970-4637\n        080
 0-443-823\n\n\nNORWAY\n                47-21-59-00-10\n        800-12069\n
 \n\nPANAMA\n                        011-001-800-5072077\n\n\nPERU\n       
                  0800-53715\n\n\nPHILIPPINES\n                63-2-858-370
 6\n        1800-111-42452\n\n\nPOLAND\n                        00-800-1210
 160\n\n\nPORTUGAL\n                        8008-12108\n\n\nROMANIA\n      
           40-31-630-01-64\n\nRUSSIA\n                        8-10-8002-991
 3011\n\n\nSAUDI ARABIA\n                        800-8-110058\n\n\nSINGAPOR
 E\n                65-6883-9193\n        800-120-4060\n\n\nSLOVAK REPUBLIC
 \n                421-2-322-422-12\n        0800-002032\n\n\nSOUTH AFRICA\
 n                        080-09-93392\n\n\nSOUTH KOREA\n                82
 -2-6744-1048\n        00798-14800-6324\n\n\nSPAIN\n                34-91-4
 14-14-65\n        800-099-374\n\n\nSWEDEN\n                46-8-566-10-474
 \n        0200-887-680\n\n\nSWITZERLAND\n                41-44-580-3270\n 
        0800-000-246\n\n\nTAIWAN\n                886-2-2795-7342\n        
 00801-137-568\n\n\nTHAILAND\n                        001-800-1206-65076\n\
 n\nTURKEY\n                        00-800-151-1241\n\n\nUNITED ARAB EMIRAT
 ES\n                        8000-35702362\n\n\nUNITED KINGDOM\n        BIR
 MINGHAM:\n        44-121-210-9012\n        0800-279-9352\n\n\nUNITED KINGD
 OM\n        GLASGOW:\n        44-141-202-3212\n        0800-279-9352\n\n\n
 UNITED KINGDOM\n        LEEDS:\n        44-113-301-2112\n        0800-279-
 9352\n\n\nUNITED KINGDOM\n        LONDON:\n        44-20-7019-0830\n      
   0800-279-9352\n\n\nUNITED KINGDOM\n        MANCHESTER:\n        44-161-6
 01-1412\n        0800-279-9352\n\n\nURUGUAY\n                        000-4
 13-598-3452\n\n\nUSA\n                1-210-795-0469\n        866-780-9216
 \n\n\nVENEZUELA\n                        0800-1-00-2853\n\n\n---\n\nMario 
 A. Aleman\n\nSupport Staff for RSSAC and RZERC\n\nInternet Corporation for
  Assigned Names and Numbers (ICANN)\n\n\n\nMobile: +1 612-245-7112\n\nwww.
 icann.org<http://www.icann.org>\n\n\n\n\n
SUMMARY;LANGUAGE=en-US:Reminder: RSSAC Caucus Resolver Study WP Meeting | I
 ETF 103 | Tuesday 06 November 2018 | 05:45 - 06:45 UTC
DTSTART;TZID=UTC:20181106T054500
DTEND;TZID=UTC:20181106T064500
UID:10FADDC7-4D92-4F67-8002-340924BE60F3
CLASS:PUBLIC
PRIORITY:5
DTSTAMP:20181106T011718Z
TRANSP:OPAQUE
STATUS:CONFIRMED
SEQUENCE:2
LOCATION;LANGUAGE=en-US:IETF 103 APT 7 on Floor 9th of Marriott Marquis Que
 en's Park in Bangkok\, Thailand.
X-MICROSOFT-CDO-APPT-SEQUENCE:2
X-MICROSOFT-CDO-OWNERAPPTID:2116725885
X-MICROSOFT-CDO-BUSYSTATUS:TENTATIVE
X-MICROSOFT-CDO-INTENDEDSTATUS:BUSY
X-MICROSOFT-CDO-ALLDAYEVENT:FALSE
X-MICROSOFT-CDO-IMPORTANCE:1
X-MICROSOFT-CDO-INSTTYPE:0
X-MICROSOFT-DISALLOW-COUNTER:FALSE
BEGIN:VALARM
DESCRIPTION:REMINDER
TRIGGER;RELATED=START:-PT15M
ACTION:DISPLAY
END:VALARM
END:VEVENT
END:VCALENDAR
