BEGIN:VCALENDAR
METHOD:REQUEST
PRODID:Microsoft Exchange Server 2010
VERSION:2.0
BEGIN:VTIMEZONE
TZID:UTC
BEGIN:STANDARD
DTSTART:16010101T000000
TZOFFSETFROM:+0000
TZOFFSETTO:+0000
END:STANDARD
BEGIN:DAYLIGHT
DTSTART:16010101T000000
TZOFFSETFROM:+0000
TZOFFSETTO:+0000
END:DAYLIGHT
END:VTIMEZONE
BEGIN:VEVENT
ORGANIZER;CN=Ozan Sahin:MAILTO:ozan.sahin@icann.org
ATTENDEE;ROLE=REQ-PARTICIPANT;PARTSTAT=NEEDS-ACTION;RSVP=FALSE;CN=rssac-cau
 cus@icann.org:MAILTO:rssac-caucus@icann.org
DESCRIPTION;LANGUAGE=en-US:Ozan Sahin is inviting you to a scheduled Zoom m
 eeting.\n\n\n\nTopic: RSSAC Caucus Rogue RSO WP Teleconference #13\n\nTime
 : Apr 20\, 2021 01:00 PM Universal Time UTC\n\nAgenda: TBD\n\nWork party w
 iki space: https://community.icann.org/x/IonsBw\n\nWork party Google docum
 ent: https://docs.google.com/document/d/1XS2dIl_Sv1f7e4pA19QHnHEmLgRSkgEI2
 -zD7Tp0hog/edit\n\n\n\n\n\nJoin Zoom Meeting\n\nhttps://icann.zoom.us/j/94
 906560905?pwd=UHZWUnJWMkR2d29JS2xtZkw5dVV3QT09\n\n\n\nMeeting ID: 949 0656
  0905\n\nPasscode: JqF%@1JKDz\n\nOne tap mobile\n\n+13017158592\,\,9490656
 0905#\,\,\,\,*2764141670# US (Washington DC)\n\n+13126266799\,\,9490656090
 5#\,\,\,\,*2764141670# US (Chicago)\n\n\n\nDial by your location\n\n&nbsp\
 ;&nbsp\;&nbsp\;&nbsp\;&nbsp\;&nbsp\;&nbsp\; +1 301 715 8592 US (Washington
  DC)\n\n&nbsp\;&nbsp\;&nbsp\;&nbsp\;&nbsp\;&nbsp\; &nbsp\;+1 312 626 6799 
 US (Chicago)\n\n&nbsp\;&nbsp\;&nbsp\;&nbsp\;&nbsp\;&nbsp\;&nbsp\; +1 346 2
 48 7799 US (Houston)\n\n&nbsp\;&nbsp\;&nbsp\;&nbsp\;&nbsp\;&nbsp\;&nbsp\; 
 +1 669 900 6833 US (San Jose)\n\n&nbsp\;&nbsp\;&nbsp\;&nbsp\;&nbsp\;&nbsp\
 ;&nbsp\; +1 929 436 2866 US (New York)\n\n&nbsp\;&nbsp\;&nbsp\;&nbsp\;&nbs
 p\;&nbsp\;&nbsp\; +1 253 215 8782 US (Tacoma)\n\n&nbsp\;&nbsp\;&nbsp\;&nbs
 p\;&nbsp\;&nbsp\;&nbsp\; 888 788 0099 US Toll-free\n\n&nbsp\;&nbsp\;&nbsp\
 ;&nbsp\;&nbsp\;&nbsp\;&nbsp\; 877 853 5247 US Toll-free\n\n&nbsp\;&nbsp\;&
 nbsp\;&nbsp\;&nbsp\;&nbsp\;&nbsp\; +61 2 8015 6011 Australia\n\n&nbsp\;&nb
 sp\;&nbsp\;&nbsp\;&nbsp\;&nbsp\;&nbsp\; +61 3 7018 2005 Australia\n\n&nbsp
 \;&nbsp\;&nbsp\;&nbsp\;&nbsp\;&nbsp\;&nbsp\; +61 7 3185 3730 Australia\n\n
 &nbsp\;&nbsp\;&nbsp\;&nbsp\;&nbsp\;&nbsp\;&nbsp\; +61 8 6119 3900 Australi
 a\n\n&nbsp\;&nbsp\;&nbsp\;&nbsp\;&nbsp\;&nbsp\;&nbsp\; +61 8 7150 1149 Aus
 tralia\n\n&nbsp\;&nbsp\;&nbsp\;&nbsp\;&nbsp\;&nbsp\;&nbsp\; 1800 893 423 A
 ustralia Toll-free\n\n&nbsp\;&nbsp\;&nbsp\;&nbsp\;&nbsp\;&nbsp\;&nbsp\; 18
 00 945 157 Australia Toll-free\n\n&nbsp\;&nbsp\;&nbsp\;&nbsp\;&nbsp\;&nbsp
 \;&nbsp\; 1800 317 562 Australia Toll-free\n\n&nbsp\;&nbsp\;&nbsp\;&nbsp\;
 &nbsp\;&nbsp\;&nbsp\; +1 438 809 7799 Canada\n\n&nbsp\;&nbsp\;&nbsp\;&nbsp
 \;&nbsp\;&nbsp\;&nbsp\; +1 587 328 1099 Canada\n\n&nbsp\;&nbsp\;&nbsp\;&nb
 sp\;&nbsp\;&nbsp\;&nbsp\; +1 647 374 4685 Canada\n\n&nbsp\;&nbsp\;&nbsp\;&
 nbsp\;&nbsp\;&nbsp\;&nbsp\; +1 647 558 0588 Canada\n\n&nbsp\;&nbsp\;&nbsp\
 ;&nbsp\;&nbsp\;&nbsp\;&nbsp\; +1 778 907 2071 Canada\n\n&nbsp\;&nbsp\;&nbs
 p\;&nbsp\;&nbsp\;&nbsp\;&nbsp\; +1 204 272 7920 Canada\n\n&nbsp\;&nbsp\;&n
 bsp\;&nbsp\;&nbsp\;&nbsp\;&nbsp\; 855 703 8985 Canada Toll-free\n\n&nbsp\;
 &nbsp\;&nbsp\;&nbsp\;&nbsp\;&nbsp\;&nbsp\; +81 363 628 317 Japan\n\n&nbsp\
 ;&nbsp\;&nbsp\;&nbsp\;&nbsp\;&nbsp\;&nbsp\; +81 524 564 439 Japan\n\n&nbsp
 \;&nbsp\;&nbsp\;&nbsp\;&nbsp\;&nbsp\;&nbsp\; +81 3 4578 1488 Japan\n\n&nbs
 p\;&nbsp\;&nbsp\;&nbsp\;&nbsp\;&nbsp\;&nbsp\; 0 800 100 5040 Japan Toll-fr
 ee\n\n&nbsp\;&nbsp\;&nbsp\;&nbsp\;&nbsp\;&nbsp\;&nbsp\; 00 663 381 4092 Ja
 pan Toll-free\n\n&nbsp\;&nbsp\;&nbsp\;&nbsp\;&nbsp\;&nbsp\;&nbsp\; +31 20 
 794 0854 Netherlands\n\n&nbsp\;&nbsp\;&nbsp\;&nbsp\;&nbsp\;&nbsp\;&nbsp\;+
 31 20 794 6519 Netherlands\n\n&nbsp\;&nbsp\;&nbsp\;&nbsp\;&nbsp\;&nbsp\;&n
 bsp\; +31 20 794 6520 Netherlands\n\n&nbsp\;&nbsp\;&nbsp\;&nbsp\;&nbsp\;&n
 bsp\;&nbsp\; +31 20 794 7345 Netherlands\n\n&nbsp\;&nbsp\;&nbsp\;&nbsp\;&n
 bsp\;&nbsp\;&nbsp\; +31 707 006 526 Netherlands\n\n&nbsp\;&nbsp\;&nbsp\;&n
 bsp\;&nbsp\;&nbsp\;&nbsp\; +31 20 241 0288 Netherlands\n\n&nbsp\;&nbsp\;&n
 bsp\;&nbsp\;&nbsp\;&nbsp\;&nbsp\; 0 800 220 0040 Netherlands Toll-free\n\n
 &nbsp\;&nbsp\;&nbsp\;&nbsp\;&nbsp\;&nbsp\;&nbsp\; 0 800 022 1954 Netherlan
 ds Toll-free\n\n&nbsp\;&nbsp\;&nbsp\;&nbsp\;&nbsp\;&nbsp\;&nbsp\; +46 8 50
 16 3827 Sweden\n\n&nbsp\;&nbsp\;&nbsp\;&nbsp\;&nbsp\;&nbsp\;&nbsp\; +46 8 
 5050 0828 Sweden\n\n&nbsp\;&nbsp\;&nbsp\;&nbsp\;&nbsp\;&nbsp\;&nbsp\; +46 
 8 5050 0829 Sweden\n\n&nbsp\;&nbsp\;&nbsp\;&nbsp\;&nbsp\;&nbsp\;&nbsp\; +4
 6 8 5052 0017 Sweden\n\n&nbsp\;&nbsp\;&nbsp\;&nbsp\;&nbsp\;&nbsp\;&nbsp\; 
 +46 850 539 728 Sweden\n\n&nbsp\;&nbsp\;&nbsp\;&nbsp\;&nbsp\;&nbsp\;&nbsp\
 ; +46 8 4468 2488 Sweden\n\n&nbsp\;&nbsp\;&nbsp\;&nbsp\;&nbsp\;&nbsp\;&nbs
 p\; 0 200 123 720 Sweden Toll-free\n\n&nbsp\;&nbsp\;&nbsp\;&nbsp\;&nbsp\;&
 nbsp\;&nbsp\; 0 200 123 514 Sweden Toll-free\n\nMeeting ID: 949 0656 0905\
 n\nPasscode (for dial-ins only): 2764141670\n\nFind your local number: htt
 ps://icann.zoom.us/u/adYappz4nw\n\n\n
UID:858EEE17-480B-4657-8266-D043FF02E93B
SUMMARY;LANGUAGE=en-US:RSSAC Caucus Rogue RSO WP Teleconference #13 | Tuesd
 ay\, 20 April | 13:00-14:00 UTC
DTSTART;TZID=UTC:20210420T130000
DTEND;TZID=UTC:20210420T140000
CLASS:PUBLIC
PRIORITY:5
DTSTAMP:20210329T141353Z
TRANSP:OPAQUE
STATUS:CONFIRMED
SEQUENCE:0
LOCATION;LANGUAGE=en-US:https://icann.zoom.us/j/94906560905?pwd=UHZWUnJWMkR
 2d29JS2xtZkw5dVV3QT09
X-MICROSOFT-CDO-APPT-SEQUENCE:0
X-MICROSOFT-CDO-OWNERAPPTID:2119429962
X-MICROSOFT-CDO-BUSYSTATUS:TENTATIVE
X-MICROSOFT-CDO-INTENDEDSTATUS:BUSY
X-MICROSOFT-CDO-ALLDAYEVENT:FALSE
X-MICROSOFT-CDO-IMPORTANCE:1
X-MICROSOFT-CDO-INSTTYPE:0
X-MICROSOFT-DONOTFORWARDMEETING:FALSE
X-MICROSOFT-DISALLOW-COUNTER:TRUE
BEGIN:VALARM
DESCRIPTION:REMINDER
TRIGGER;RELATED=START:-PT15M
ACTION:DISPLAY
END:VALARM
END:VEVENT
END:VCALENDAR
