BEGIN:VCALENDAR
METHOD:REQUEST
PRODID:Microsoft Exchange Server 2010
VERSION:2.0
BEGIN:VTIMEZONE
TZID:Eastern Standard Time
BEGIN:STANDARD
DTSTART:16010101T020000
TZOFFSETFROM:-0400
TZOFFSETTO:-0500
RRULE:FREQ=YEARLY;INTERVAL=1;BYDAY=1SU;BYMONTH=11
END:STANDARD
BEGIN:DAYLIGHT
DTSTART:16010101T020000
TZOFFSETFROM:-0500
TZOFFSETTO:-0400
RRULE:FREQ=YEARLY;INTERVAL=1;BYDAY=2SU;BYMONTH=3
END:DAYLIGHT
END:VTIMEZONE
BEGIN:VEVENT
ORGANIZER;CN=Kathy Schnitt:MAILTO:kathy.schnitt@icann.org
ATTENDEE;ROLE=REQ-PARTICIPANT;PARTSTAT=NEEDS-ACTION;RSVP=TRUE;CN=rssac-cauc
 us@icann.org:MAILTO:rssac-caucus@icann.org
DESCRIPTION;LANGUAGE=en-US:Dear All\,\n\n\nBased on the Doodle Poll we will
  have two calls to discuss the document/feedback on the Elements of Potent
 ial Root Operators Document. The first call will be on Thursday\, 15 Septe
 mber 2016 from 1500- 1600 UTC/1100-1200 EST/800-1100 PST.\n\n\n\nFor other
  times: http://tinyurl.com/hmyv69l\n\nVerizon\n\nUS: +1 (866) 780-9216 (Di
 al in numbers for other countries listed in the bottom of email)\n\nPartic
 ipant Passcode: Participant: 2111690\n\n\n\nAdobe Connect: https://icann.a
 dobeconnect.com/rssac\n\n\n\nTo request a dial-out please e-mail kathy.sch
 nitt@icann.org<mailto:kathy.schnitt@icann.org>\n\n\n\n\nThank you.\n\nKind
  regards\,\n\nKathy\n\nKathy Schnitt\, Secretariat Operations Coordinator 
 for the RSSAC and SSAC\n\n\n\n\n\n\nDial in numbers*:\nCountry         Loc
 al/Toll Number       Freephone/Toll Free Number\n\nARGENTINA              
          0800-777-0487\nAUSTRALIA       ADELAIDE:       61-8-8121-4859  1-
 800-880-484\nAUSTRALIA       BRISBANE:       61-7-3102-0961  1-800-880-484
 \nAUSTRALIA       CANBERRA:       61-2-6100-1961  1-800-880-484\nAUSTRALIA
        MELBOURNE:      61-3-9010-7730  1-800-880-484\nAUSTRALIA       PERT
 H:  61-8-9467-5240  1-800-880-484\nAUSTRALIA       SYDNEY: 61-2-8211-1382 
  1-800-880-484\nAUSTRIA         43-1-92-89-574  0800-999-850\nBELGIUM     
     32-2-400-6717   0800-4-8474\nBRAZIL          55-11-3958-0764 0800-7610
 666\nCHILE                   1230-020-0288\nCHINA   CHINA A:        86-400
 -810-4757 10800-712-1194\nCHINA   CHINA B:        86-400-810-4757 10800-12
 0-1194\nCOLOMBIA                        01800-9-156471\nCROATIA           
       080-08-06-319\nCZECH REPUBLIC          420-2-25-98-56-11       800-7
 00-164\nDENMARK         45-7014-0235    8088-5347\nESTONIA                
  800-011-1124\nFINLAND         358-9-5424-7147 0-800-1-12418\nFRANCE  LYON
 :   33-4-26-69-12-72        080-511-1516\nFRANCE  MARSEILLE:      33-4-86-
 06-00-72        080-511-1516\nFRANCE  PARIS:  33-1-70-70-60-73        080-
 511-1516\nGERMANY         49-69-2222-20267        0800-101-4259\nGREECE   
        30-80-1-100-0635        00800-12-6136\nHONG KONG               852-
 3001-3828   800-964-135\nHUNGARY         36-1-700-8841   06-800-15442\nIND
 IA   BANGALORE:      91-80-61275252\nINDIA   MUMBAI: 91-22-61501688\nINDIA
    INDIA B:                000-800-001-6249\nINDIA   INDIA C:             
    1800-300-00430\nINDIA   INDIA A:                000-800-852-1213\nINDON
 ESIA                       001-803-011-3491\nIRELAND         353-1-246-009
 5  1800-992-121\nISRAEL                  1-80-9214002\nITALY   MILAN:  39-
 02-3600-3564 800-985-429\nITALY   ROME:   39-06-8751-6013 800-985-429\nITA
 LY   TORINO: 39-011-510-0113 800-985-429\nJAPAN   OSAKA:  81-6-7878-2653  
 00531-12-1150\nJAPAN   TOKYO:  81-3-6868-2653  00531-12-1150\nLATVIA      
             8000-3168\nLUXEMBOURG              352-27-000-1310 8002-9125\n
 MALAYSIA                        1-800-80-8105\nMEXICO  GUADALAJARA (JAL): 
      52-33-3208-7322 001-866-318-9747\nMEXICO  MEXICO CITY:    52-55-5062-
 9122 001-866-318-9747\nMEXICO  MONTERREY:      52-81-2482-0622 001-866-318
 -9747\nNETHERLANDS             31-20-712-1372  0800-023-1492\nNEW ZEALAND 
             64-9-970-4637   0800-443-823\nNORWAY          47-21-59-00-10  
 800-12069\nPANAMA                  011-001-800-5072077\nPERU              
       0800-53715\nPHILIPPINES             63-2-858-3706   1800-111-42452\n
 POLAND                  00-800-1210160\nPORTUGAL                        80
 08-12108\nROMANIA         40-31-630-01-64\nRUSSIA                  8-10-80
 02-9913011\nSAUDI ARABIA                    800-8-110058\nSINGAPORE       
         65-6883-9193    800-120-4060\nSLOVAK REPUBLIC         421-2-322-42
 2-12        0800-002032\nSOUTH AFRICA                    080-09-93392\nSOU
 TH KOREA             82-2-6744-1048  00798-14800-6324\nSPAIN           34-
 91-414-14-65 800-099-374\nSWEDEN          46-8-566-10-474 0200-887-680\nSW
 ITZERLAND             41-44-580-3270  0800-000-246\nTAIWAN          886-2-
 2795-7342 00801-137-568\nTHAILAND                        001-800-1206-6507
 6\nTURKEY                  00-800-151-1241\nUNITED ARAB EMIRATES          
           8000-35702362\nUNITED KINGDOM  BIRMINGHAM:     44-121-210-9012 0
 800-279-9352\nUNITED KINGDOM  GLASGOW:        44-141-202-3212 0800-279-935
 2\nUNITED KINGDOM  LEEDS:  44-113-301-2112 0800-279-9352\nUNITED KINGDOM  
 LONDON: 44-20-7019-0830 0800-279-9352\nUNITED KINGDOM  MANCHESTER:     44-
 161-601-1412 0800-279-9352\nURUGUAY                 000-413-598-3452\nUSA 
             1-210-795-0469  866-780-9216\nVENEZUELA                       
 0800-1-00-2853\n\n\n\n\n\n
SUMMARY;LANGUAGE=en-US:Elements of Potential Root Operators Document Discus
 sion Teleconference Thursday\, 15 September 2016 15:00 to 16:00 UTC
DTSTART;TZID=Eastern Standard Time:20160915T110000
DTEND;TZID=Eastern Standard Time:20160915T120000
UID:D3AFCB54-C4A6-4C2A-87F3-4B6235969FC5
CLASS:PUBLIC
PRIORITY:5
DTSTAMP:20160913T205135Z
TRANSP:OPAQUE
STATUS:CONFIRMED
SEQUENCE:0
LOCATION;LANGUAGE=en-US:Adobe Connect: https://icann.adobeconnect.com/rssac
  / US: +1 (866) 780-9216 Participant: 2111690
X-MICROSOFT-CDO-APPT-SEQUENCE:0
X-MICROSOFT-CDO-OWNERAPPTID:2114546622
X-MICROSOFT-CDO-BUSYSTATUS:TENTATIVE
X-MICROSOFT-CDO-INTENDEDSTATUS:BUSY
X-MICROSOFT-CDO-ALLDAYEVENT:FALSE
X-MICROSOFT-CDO-IMPORTANCE:1
X-MICROSOFT-CDO-INSTTYPE:0
X-MICROSOFT-DISALLOW-COUNTER:FALSE
BEGIN:VALARM
DESCRIPTION:REMINDER
TRIGGER;RELATED=START:-PT15M
ACTION:DISPLAY
END:VALARM
END:VEVENT
END:VCALENDAR
