BEGIN:VCALENDAR
METHOD:REQUEST
PRODID:Microsoft Exchange Server 2010
VERSION:2.0
BEGIN:VTIMEZONE
TZID:UTC
BEGIN:STANDARD
DTSTART:16010101T000000
TZOFFSETFROM:+0000
TZOFFSETTO:+0000
END:STANDARD
BEGIN:DAYLIGHT
DTSTART:16010101T000000
TZOFFSETFROM:+0000
TZOFFSETTO:+0000
END:DAYLIGHT
END:VTIMEZONE
BEGIN:VEVENT
ORGANIZER;CN=Ozan Sahin:MAILTO:ozan.sahin@icann.org
ATTENDEE;ROLE=REQ-PARTICIPANT;PARTSTAT=NEEDS-ACTION;RSVP=FALSE;CN=rssac-cau
 cus@icann.org:MAILTO:rssac-caucus@icann.org
DESCRIPTION;LANGUAGE=en-US:*** REMINDER ***\n\n\n\nOzan Sahin is inviting y
 ou to a scheduled Zoom meeting.\n\n\n\nTopic: RSSAC Caucus Follow Up Meeti
 ng: Principles Guiding the Operation of the Public Root Server System\n\nT
 ime: Apr 13\, 2021 03:00 PM Universal Time UTC\n\nGoogle document: https:/
 /docs.google.com/document/d/16PaN5_liBOVuIOEoEIUApY_l25XWsL-xkzbG3dbcpGY/\
 n\n\n\nJoin Zoom Meeting\n\nhttps://icann.zoom.us/j/91067251693?pwd=ekJra2
 VJZVJDRW5WeEFlRzUrM3I4QT09\n\n\n\nMeeting ID: 910 6725 1693\n\nPasscode: a
 uUg5GRJ1.\n\nOne tap mobile\n\n+19294362866\,\,91067251693#\,\,\,\,*422712
 5565# US (New York)\n\n+12532158782\,\,91067251693#\,\,\,\,*4227125565# US
  (Tacoma)\n\n\n\nDial by your location\n\n&nbsp\;&nbsp\;&nbsp\;&nbsp\;&nbs
 p\;&nbsp\;&nbsp\; +1 929 436 2866 US (New York)\n\n&nbsp\;&nbsp\;&nbsp\;&n
 bsp\;&nbsp\;&nbsp\;&nbsp\; +1 253 215 8782 US (Tacoma)\n\n&nbsp\;&nbsp\;&n
 bsp\;&nbsp\;&nbsp\;&nbsp\;&nbsp\; +1 301 715 8592 US (Washington DC)\n\n&n
 bsp\;&nbsp\;&nbsp\;&nbsp\;&nbsp\;&nbsp\;&nbsp\; +1 312 626 6799 US (Chicag
 o)\n\n&nbsp\;&nbsp\;&nbsp\;&nbsp\;&nbsp\;&nbsp\;&nbsp\; +1 346 248 7799 US
  (Houston)\n\n&nbsp\;&nbsp\;&nbsp\;&nbsp\;&nbsp\;&nbsp\;&nbsp\; +1 669 900
  6833 US (San Jose)\n\n&nbsp\;&nbsp\;&nbsp\;&nbsp\;&nbsp\;&nbsp\;&nbsp\; 8
 88 788 0099 US Toll-free\n\n&nbsp\;&nbsp\;&nbsp\;&nbsp\;&nbsp\;&nbsp\;&nbs
 p\; 877 853 5247 US Toll-free\n\n&nbsp\;&nbsp\;&nbsp\;&nbsp\;&nbsp\;&nbsp\
 ;&nbsp\; +61 7 3185 3730 Australia\n\n&nbsp\;&nbsp\;&nbsp\;&nbsp\;&nbsp\;&
 nbsp\;&nbsp\; +61 8 6119 3900 Australia\n\n&nbsp\;&nbsp\;&nbsp\;&nbsp\;&nb
 sp\;&nbsp\;&nbsp\; +61 8 7150 1149 Australia\n\n&nbsp\;&nbsp\;&nbsp\;&nbsp
 \;&nbsp\;&nbsp\;&nbsp\; +61 2 8015 6011 Australia\n\n&nbsp\;&nbsp\;&nbsp\;
 &nbsp\;&nbsp\;&nbsp\;&nbsp\;+61 3 7018 2005 Australia\n\n&nbsp\;&nbsp\;&nb
 sp\;&nbsp\;&nbsp\;&nbsp\;&nbsp\; 1800 945 157 Australia Toll-free\n\n&nbsp
 \;&nbsp\;&nbsp\;&nbsp\;&nbsp\;&nbsp\;&nbsp\; 1800 317 562 Australia Toll-f
 ree\n\n&nbsp\;&nbsp\;&nbsp\;&nbsp\;&nbsp\;&nbsp\;&nbsp\; 1800 893 423 Aust
 ralia Toll-free\n\n&nbsp\;&nbsp\;&nbsp\;&nbsp\;&nbsp\;&nbsp\;&nbsp\; +1 77
 8 907 2071 Canada\n\n&nbsp\;&nbsp\;&nbsp\;&nbsp\;&nbsp\;&nbsp\;&nbsp\; +1 
 204 272 7920 Canada\n\n&nbsp\;&nbsp\;&nbsp\;&nbsp\;&nbsp\;&nbsp\;&nbsp\; +
 1 438 809 7799 Canada\n\n&nbsp\;&nbsp\;&nbsp\;&nbsp\;&nbsp\;&nbsp\; &nbsp\
 ;+1 587 328 1099 Canada\n\n&nbsp\;&nbsp\;&nbsp\;&nbsp\;&nbsp\;&nbsp\;&nbsp
 \; +1 647 374 4685 Canada\n\n&nbsp\;&nbsp\;&nbsp\;&nbsp\;&nbsp\;&nbsp\;&nb
 sp\; +1 647 558 0588 Canada\n\n&nbsp\;&nbsp\;&nbsp\;&nbsp\;&nbsp\;&nbsp\;&
 nbsp\; 855 703 8985 Canada Toll-free\n\n&nbsp\;&nbsp\;&nbsp\;&nbsp\;&nbsp\
 ;&nbsp\;&nbsp\; +81 524 564 439 Japan\n\n&nbsp\;&nbsp\;&nbsp\;&nbsp\;&nbsp
 \;&nbsp\;&nbsp\; +81 3 4578 1488 Japan\n\n&nbsp\;&nbsp\;&nbsp\;&nbsp\;&nbs
 p\;&nbsp\;&nbsp\; +81 363 628 317 Japan\n\n&nbsp\;&nbsp\;&nbsp\;&nbsp\;&nb
 sp\;&nbsp\;&nbsp\; 0 800 100 5040 Japan Toll-free\n\n&nbsp\;&nbsp\;&nbsp\;
 &nbsp\;&nbsp\;&nbsp\;&nbsp\; 00 663 381 4092 Japan Toll-free\n\n&nbsp\;&nb
 sp\;&nbsp\;&nbsp\;&nbsp\;&nbsp\;&nbsp\; +31 707 006 526 Netherlands\n\n&nb
 sp\;&nbsp\;&nbsp\;&nbsp\;&nbsp\;&nbsp\;&nbsp\; +31 20 241 0288 Netherlands
 \n\n&nbsp\;&nbsp\;&nbsp\;&nbsp\;&nbsp\;&nbsp\;&nbsp\; +31 20 794 0854 Neth
 erlands\n\n&nbsp\;&nbsp\;&nbsp\;&nbsp\;&nbsp\;&nbsp\;&nbsp\; +31 20 794 65
 19 Netherlands\n\n&nbsp\;&nbsp\;&nbsp\;&nbsp\;&nbsp\;&nbsp\;&nbsp\; +31 20
  794 6520 Netherlands\n\n&nbsp\;&nbsp\;&nbsp\;&nbsp\;&nbsp\;&nbsp\;&nbsp\;
  +31 20 794 7345 Netherlands\n\n&nbsp\;&nbsp\;&nbsp\;&nbsp\;&nbsp\;&nbsp\;
 &nbsp\; 0 800 220 0040 Netherlands Toll-free\n\n&nbsp\;&nbsp\;&nbsp\;&nbsp
 \;&nbsp\;&nbsp\;&nbsp\; 0 800 022 1954 Netherlands Toll-free\n\n&nbsp\;&nb
 sp\;&nbsp\;&nbsp\;&nbsp\;&nbsp\;&nbsp\; +46 850 539 728 Sweden\n\n&nbsp\;&
 nbsp\;&nbsp\;&nbsp\;&nbsp\;&nbsp\;&nbsp\; +46 8 4468 2488 Sweden\n\n&nbsp\
 ;&nbsp\;&nbsp\;&nbsp\;&nbsp\;&nbsp\;&nbsp\; +46 8 5016 3827 Sweden\n\n&nbs
 p\;&nbsp\;&nbsp\;&nbsp\;&nbsp\;&nbsp\;&nbsp\; +46 8 5050 0828 Sweden\n\n&n
 bsp\;&nbsp\; &nbsp\;&nbsp\;&nbsp\;&nbsp\;&nbsp\;+46 8 5050 0829 Sweden\n\n
 &nbsp\;&nbsp\;&nbsp\;&nbsp\;&nbsp\;&nbsp\;&nbsp\; +46 8 5052 0017 Sweden\n
 \n&nbsp\;&nbsp\;&nbsp\;&nbsp\;&nbsp\;&nbsp\;&nbsp\; 0 200 123 720 Sweden T
 oll-free\n\n&nbsp\;&nbsp\;&nbsp\;&nbsp\;&nbsp\;&nbsp\;&nbsp\; 0 200 123 51
 4 Sweden Toll-free\n\nMeeting ID: 910 6725 1693\n\nPasscode (for dial-ins 
 only): 4227125565\n\nFind your local number: https://icann.zoom.us/u/alHVS
 h0UW\n\n\n
UID:48CB185D-1CDC-4B68-B37A-0F3987D85D5D
SUMMARY;LANGUAGE=en-US:REMINDER: RSSAC Caucus Follow Up Meeting: Principles
  Guiding the Operation of the Public Root Server System | Tuesday\, 13 Apr
 il | 15:00-16:00 UTC
DTSTART;TZID=UTC:20210413T150000
DTEND;TZID=UTC:20210413T160000
CLASS:PUBLIC
PRIORITY:5
DTSTAMP:20210412T132850Z
TRANSP:OPAQUE
STATUS:CONFIRMED
SEQUENCE:1
LOCATION;LANGUAGE=en-US:https://icann.zoom.us/j/91067251693?pwd=ekJra2VJZVJ
 DRW5WeEFlRzUrM3I4QT09
X-MICROSOFT-CDO-APPT-SEQUENCE:1
X-MICROSOFT-CDO-OWNERAPPTID:2119428330
X-MICROSOFT-CDO-BUSYSTATUS:TENTATIVE
X-MICROSOFT-CDO-INTENDEDSTATUS:BUSY
X-MICROSOFT-CDO-ALLDAYEVENT:FALSE
X-MICROSOFT-CDO-IMPORTANCE:1
X-MICROSOFT-CDO-INSTTYPE:0
X-MICROSOFT-DONOTFORWARDMEETING:FALSE
X-MICROSOFT-DISALLOW-COUNTER:TRUE
BEGIN:VALARM
DESCRIPTION:REMINDER
TRIGGER;RELATED=START:-PT15M
ACTION:DISPLAY
END:VALARM
END:VEVENT
END:VCALENDAR
