BEGIN:VCALENDAR
METHOD:REQUEST
PRODID:Microsoft Exchange Server 2010
VERSION:2.0
BEGIN:VTIMEZONE
TZID:Eastern Standard Time
BEGIN:STANDARD
DTSTART:16010101T020000
TZOFFSETFROM:-0400
TZOFFSETTO:-0500
RRULE:FREQ=YEARLY;INTERVAL=1;BYDAY=1SU;BYMONTH=11
END:STANDARD
BEGIN:DAYLIGHT
DTSTART:16010101T020000
TZOFFSETFROM:-0500
TZOFFSETTO:-0400
RRULE:FREQ=YEARLY;INTERVAL=1;BYDAY=2SU;BYMONTH=3
END:DAYLIGHT
END:VTIMEZONE
BEGIN:VEVENT
ORGANIZER;CN=ICANN Policy Calendar:MAILTO:PolicyCalendar@icann.org
ATTENDEE;ROLE=REQ-PARTICIPANT;PARTSTAT=NEEDS-ACTION;RSVP=TRUE;CN=ICANN Poli
 cy Calendar via rssac-caucus:MAILTO:rssac-caucus@icann.org
DESCRIPTION;LANGUAGE=en-US:Sent on 8 July to reflect UPDATED CADENCE due to
  IETF Week\n\nTopic: RSSAC001v3 Work Party Teleconference\nStart Date: Tue
 sday 29 July 2025 04:00 PM Universal Time UTC (originally 13 May)\nEvery 2
  weeks on Tuesday\nStatement of Work (SoW): https://drive.google.com/file/
 d/13WIFsTNXAJ3QZZ2Ue8RwjDCgKV6vEPho/view?usp=sharing\nWork party wiki page
 : https://icann-community.atlassian.net/wiki/x/AoAwDw\nAgenda: TBD\n\nJoin
  Zoom Meeting\nhttps://icann.zoom.us/j/99683322372?pwd=a0DtaBSl5uqjVpQ94Sp
 syP2dugatut.1\n\nMeeting ID: 996 8332 2372\nPasscode Web: Ld&amp\;ngC3k#1\
 n\nFind your local number: https://icann.zoom.us/u/abBL9vLbUy\nMeeting ID:
  996 8332 2372\nPasscode Phone: 1501513337\n\n\n
RRULE:FREQ=WEEKLY;UNTIL=20251021T160000Z;INTERVAL=2;BYDAY=TU;WKST=SU
UID:54EE82E2-2751-40F6-84F9-B709115206A4
SUMMARY;LANGUAGE=en-US:RSSAC001v3 Work Party Teleconference | UPDATED CADEN
 CE Every Two Weeks on Tuesdays | 16:00 UTC-17:00 UTC
DTSTART;TZID=Eastern Standard Time:20250729T120000
DTEND;TZID=Eastern Standard Time:20250729T130000
CLASS:PUBLIC
PRIORITY:5
DTSTAMP:20250708T200348Z
TRANSP:OPAQUE
STATUS:CONFIRMED
SEQUENCE:0
LOCATION;LANGUAGE=en-US:https://icann.zoom.us/j/99683322372?pwd=a0DtaBSl5uq
 jVpQ94SpsyP2dugatut.1
X-MICROSOFT-CDO-APPT-SEQUENCE:0
X-MICROSOFT-CDO-OWNERAPPTID:2123841906
X-MICROSOFT-CDO-BUSYSTATUS:TENTATIVE
X-MICROSOFT-CDO-INTENDEDSTATUS:BUSY
X-MICROSOFT-CDO-ALLDAYEVENT:FALSE
X-MICROSOFT-CDO-IMPORTANCE:1
X-MICROSOFT-CDO-INSTTYPE:1
X-MICROSOFT-DONOTFORWARDMEETING:FALSE
X-MICROSOFT-DISALLOW-COUNTER:FALSE
BEGIN:VALARM
DESCRIPTION:REMINDER
TRIGGER;RELATED=START:-PT15M
ACTION:DISPLAY
END:VALARM
END:VEVENT
END:VCALENDAR
