BEGIN:VCALENDAR
METHOD:REQUEST
PRODID:Microsoft Exchange Server 2007
VERSION:2.0
BEGIN:VTIMEZONE
TZID:Morocco Standard Time
BEGIN:STANDARD
DTSTART:16010101T235959
TZOFFSETFROM:+0100
TZOFFSETTO:+0000
RRULE:FREQ=YEARLY;INTERVAL=1;BYDAY=-1SA;BYMONTH=7
END:STANDARD
BEGIN:DAYLIGHT
DTSTART:16010101T235959
TZOFFSETFROM:+0000
TZOFFSETTO:+0100
RRULE:FREQ=YEARLY;INTERVAL=1;BYDAY=1SA;BYMONTH=4
END:DAYLIGHT
END:VTIMEZONE
BEGIN:VEVENT
ORGANIZER;CN=Alice Jansen:MAILTO:alice.jansen@icann.org
ATTENDEE;ROLE=REQ-PARTICIPANT;PARTSTAT=NEEDS-ACTION;RSVP=TRUE;CN=rt4-whois@
 icann.org:MAILTO:rt4-whois@icann.org
DESCRIPTION;LANGUAGE=en-US:When: Monday\, October 24\, 2011 1:00 PM-5:00 PM
 . Morocco Standard Time\nWhere: Ziquinchor\n\n*~*~*~*~*~*~*~*~*~*\nDear Re
 view Team Members\,\n\nYour working session is scheduled for:\n\n**Monday\
 , 24 October 2011**\n\n13:00-17:00 DAKAR (GMT)\n\nRoom: Ziquinchor\n\nPlea
 se check your local time at:\nhttp://timeanddate.com/worldclock/fixedtime.
 html?msg=WHOIS+Policy+Review+Team+-+working+session&iso=20111024T13&p1=74&
 ah=4\n\nSession details\n:\nhttp://dakar42.icann.org/node/27223 (\nrecordi
 ng\, transcript\, adobe)\n\nAgenda:\nhttps://community.icann.org/display/w
 hoisreview/Dakar+Meeting\n\nBridge details\n\nPasscode: 48291 followed by 
 #\n\n\nDial-in numbers:\nPlease find below a table which encapsulates dial
 -in numbers for your countries of residence.\nShould you be traveling\, pl
 ease refer to the full list which is available at:  http://www.adigo.com/i
 cann/\n\nAustralia       1 800 009 820\n1 800 036 775\nSydney  T       +61
  290372962\nMelbourne       T       +61 399996500\nBrisbane        T      
  +61 731777546\n\nAustria L - 0 800 295 858\nM - 0 800 295 138\nT - +43 72
 0 882 638\n\nBelgium L - 0800 79210\nM – 0800 79218\nT - +32 78 480 286\
 n\nBrazil  L - 0800 891 1597\nM - 0800 891 1598\nT - +55 613 717 2040\n\nC
 anada  1 800 550 6865\nT - +1 213 233 3193\n\nFrance  0800 90 25 56\nT - +
 33 170618347\n\nGermany L -  0800 1016 120\nG - M 0800 1016 124\n\nRussia 
  8 10 8002 535 3011\nT - +7 499 650 7835\nUnited Kingdom  0800 032 6646\nT
   - +44 207 099 0867\n\nUnited States   1 800 550 6865\nT  - +1 213 233 31
 93\n\n\nT – local toll number \; M – mobile preferred number \; L – 
 landline preferred number\n\nPlease do not hesitate to contact me should y
 ou have questions or require a dial-out.\n\nThank you\,\n\nVery best regar
 ds\n\nAlice\nAlice E. Jansen\n--------------------------\nICANN\nAssistant
 \, Organizational & Affirmation Reviews\nalice.jansen@icann.org<mailto:ali
 ce.jansen@icann.org>\nDirect Dial: +32.2.234.78.64\nMobile: +32.4.73.31.76
 .56\nOffice Fax: +32.2.234.78.48\nSkype: alice_jansen_icann\n-------------
 -------------\n6\, Rond Point Schuman\nB-1040 Brussels\, Belgium\n\n
SUMMARY;LANGUAGE=en-US:WHOIS Policy RT Working Session \; Mon\, 24 October 
 - 13:00-17:00
DTSTART;TZID=Morocco Standard Time:20111024T130000
DTEND;TZID=Morocco Standard Time:20111024T170000
UID:FFC1037A-F1E5-4771-8357-7F59B37EBD9F
CLASS:PUBLIC
PRIORITY:5
DTSTAMP:20111018T125538Z
TRANSP:OPAQUE
STATUS:CONFIRMED
SEQUENCE:0
LOCATION;LANGUAGE=en-US:Ziquinchor
X-MICROSOFT-CDO-APPT-SEQUENCE:0
X-MICROSOFT-CDO-OWNERAPPTID:2109379474
X-MICROSOFT-CDO-BUSYSTATUS:TENTATIVE
X-MICROSOFT-CDO-INTENDEDSTATUS:BUSY
X-MICROSOFT-CDO-ALLDAYEVENT:FALSE
X-MICROSOFT-CDO-IMPORTANCE:1
X-MICROSOFT-CDO-INSTTYPE:0
BEGIN:VALARM
ACTION:DISPLAY
DESCRIPTION:REMINDER
TRIGGER;RELATED=START:-PT15M
END:VALARM
END:VEVENT
END:VCALENDAR
