BEGIN:VCALENDAR
METHOD:REQUEST
PRODID:Microsoft Exchange Server 2007
VERSION:2.0
BEGIN:VTIMEZONE
TZID:Morocco Standard Time
BEGIN:STANDARD
DTSTART:16010101T235959
TZOFFSETFROM:+0100
TZOFFSETTO:+0000
RRULE:FREQ=YEARLY;INTERVAL=1;BYDAY=-1SA;BYMONTH=7
END:STANDARD
BEGIN:DAYLIGHT
DTSTART:16010101T235959
TZOFFSETFROM:+0000
TZOFFSETTO:+0100
RRULE:FREQ=YEARLY;INTERVAL=1;BYDAY=1SA;BYMONTH=4
END:DAYLIGHT
END:VTIMEZONE
BEGIN:VEVENT
ORGANIZER;CN=Alice Jansen:MAILTO:alice.jansen@icann.org
ATTENDEE;ROLE=REQ-PARTICIPANT;PARTSTAT=NEEDS-ACTION;RSVP=TRUE;CN=rt4-whois@
 icann.org:MAILTO:rt4-whois@icann.org
DESCRIPTION;LANGUAGE=en-US:When: Sunday\, October 23\, 2011 9:00 AM-6:00 PM
 . Morocco Standard Time\nWhere: Ziquinchor\n\n*~*~*~*~*~*~*~*~*~*\nDear Re
 view Team Members\,\n\nYour working session is scheduled for:\n\n**Sunday\
 , 23 October 2011**\n\n09:00-18:00 DAKAR (GMT)\n\nRoom: Ziquinchor\n\nPlea
 se check your local time at:\nhttp://timeanddate.com/worldclock/fixedtime.
 html?msg=WHOIS+Review+Team+Working+Session&iso=20111023T09&p1=74&ah=9\n\nS
 ession details\n:\nhttp://dakar42.icann.org/node/26791 (\nrecording\, tran
 script\, adobe)\n\nAgenda:\nhttps://community.icann.org/display/whoisrevie
 w/Dakar+Meeting\n\nBridge details\n\nPasscode: 27318 followed by #\n\n\nDi
 al-in numbers:\nPlease find below a table which encapsulates dial-in numbe
 rs for your countries of residence.\nShould you be traveling\, please refe
 r to the full list which is available at:  http://www.adigo.com/icann/\n\n
 Australia       1 800 009 820\n1 800 036 775\nSydney  T       +61 29037296
 2\nMelbourne       T       +61 399996500\nBrisbane        T       +61 7317
 77546\n\nAustria L - 0 800 295 858\nM - 0 800 295 138\nT - +43 720 882 638
 \n\nBelgium L - 0800 79210\nM – 0800 79218\nT - +32 78 480 286\n\nBrazil
   L - 0800 891 1597\nM - 0800 891 1598\nT - +55 613 717 2040\n\nCanada  1 
 800 550 6865\nT - +1 213 233 3193\n\nFrance  0800 90 25 56\nT - +33 170618
 347\n\nGermany L -  0800 1016 120\nG - M 0800 1016 124\n\nRussia  8 10 800
 2 535 3011\nT - +7 499 650 7835\nUnited Kingdom  0800 032 6646\nT  - +44 2
 07 099 0867\n\nUnited States   1 800 550 6865\nT  - +1 213 233 3193\n\n\nT
  – local toll number \; M – mobile preferred number \; L – landline 
 preferred number\n\nPlease do not hesitate to contact me should you have q
 uestions or require a dial-out.\n\nThank you\,\n\nVery best regards\n\nAli
 ce\nAlice E. Jansen\n--------------------------\nICANN\nAssistant\, Organi
 zational & Affirmation Reviews\nalice.jansen@icann.org<mailto:alice.jansen
 @icann.org>\nDirect Dial: +32.2.234.78.64\nMobile: +32.4.73.31.76.56\nOffi
 ce Fax: +32.2.234.78.48\nSkype: alice_jansen_icann\n----------------------
 ----\n6\, Rond Point Schuman\nB-1040 Brussels\, Belgium\n\n
SUMMARY;LANGUAGE=en-US:WHOIS Policy RT Working Session\; Sun\, 23 Oct - 09:
 00-18:00
DTSTART;TZID=Morocco Standard Time:20111023T090000
DTEND;TZID=Morocco Standard Time:20111023T180000
UID:04B204C3-9F70-41F1-8EAC-7CDF68C4D80E
CLASS:PUBLIC
PRIORITY:5
DTSTAMP:20111018T124307Z
TRANSP:OPAQUE
STATUS:CONFIRMED
SEQUENCE:0
LOCATION;LANGUAGE=en-US:Ziquinchor
X-MICROSOFT-CDO-APPT-SEQUENCE:0
X-MICROSOFT-CDO-OWNERAPPTID:2109380327
X-MICROSOFT-CDO-BUSYSTATUS:TENTATIVE
X-MICROSOFT-CDO-INTENDEDSTATUS:BUSY
X-MICROSOFT-CDO-ALLDAYEVENT:FALSE
X-MICROSOFT-CDO-IMPORTANCE:1
X-MICROSOFT-CDO-INSTTYPE:0
BEGIN:VALARM
ACTION:DISPLAY
DESCRIPTION:REMINDER
TRIGGER;RELATED=START:-PT15M
END:VALARM
END:VEVENT
END:VCALENDAR
