BEGIN:VCALENDAR
METHOD:REQUEST
PRODID:Microsoft Exchange Server 2007
VERSION:2.0
BEGIN:VTIMEZONE
TZID:Azores Standard Time
BEGIN:STANDARD
DTSTART:16010101T030000
TZOFFSETFROM:+0000
TZOFFSETTO:-0100
RRULE:FREQ=YEARLY;INTERVAL=1;BYDAY=-1SU;BYMONTH=10
END:STANDARD
BEGIN:DAYLIGHT
DTSTART:16010101T020000
TZOFFSETFROM:-0100
TZOFFSETTO:+0000
RRULE:FREQ=YEARLY;INTERVAL=1;BYDAY=-1SU;BYMONTH=3
END:DAYLIGHT
END:VTIMEZONE
BEGIN:VEVENT
ORGANIZER;CN=Alice Jansen:MAILTO:alice.jansen@icann.org
ATTENDEE;ROLE=REQ-PARTICIPANT;PARTSTAT=NEEDS-ACTION;RSVP=TRUE;CN=rt4-whois@
 icann.org:MAILTO:rt4-whois@icann.org
ATTENDEE;ROLE=REQ-PARTICIPANT;PARTSTAT=NEEDS-ACTION;RSVP=TRUE;CN="SHEAN, Be
 linda":MAILTO:belinda.shean@soca.x.gsi.gov.uk
DESCRIPTION;LANGUAGE=en-US:When: Wednesday\, June 08\, 2011 11:00 AM-12:30 
 PM. Azores Standard Time\nWhere: Adigo Bridge\n\n*~*~*~*~*~*~*~*~*~*\nDear
  Review Team Members\,\n\nYour next conference call is scheduled for:\n\n\
 n**Wednesday\, 8 June 2011**\n\n11:00 UTC\n\nPlease check your local time 
 at:\nhttp://timeanddate.com/worldclock/fixedtime.html?msg=WHOIS+CALL&iso=2
 0110608T11\n\nPassword: 27318 followed by #\n\nAdobe room: http://icann.ad
 obeconnect.com/whois-review/\n\nAgenda: https://community.icann.org/displa
 y/whoisreview/Call+14+-+8+June+2011\n\n\nAudio-cast (silent observers): ht
 tp://stream.icann.org:8000/whois.m3u\n\nDial-in numbers:\nPlease find belo
 w a table which encapsulates dial-in numbers for your countries of residen
 ce.\nShould you be traveling\, please refer to the full list which is avai
 lable at:  http://www.adigo.com/icann/\n\nAustralia       1 800 009 820\n1
  800 036 775\nSydney  T       +61 290372962\nMelbourne       T       +61 3
 99996500\nBrisbane        T       +61 731777546\n\nAustria L - 0 800 295 8
 58\nM - 0 800 295 138\nT - +43 720 882 638\n\nBelgium L - 0800 79210\nM �
 � 0800 79218\nT - +32 78 480 286\n\nBrazil  L - 0800 891 1597\nM - 0800 89
 1 1598\nT - +55 613 717 2040\n\nCanada  1 800 550 6865\nT - +1 213 233 319
 3\n\nFrance  0800 90 25 56\nT - +33 170618347\n\nGermany L -  0800 1016 12
 0\nG - M 0800 1016 124\n\nRussia  8 10 8002 535 3011\nT - +7 499 650 7835\
 nUnited Kingdom  0800 032 6646\nT  - +44 207 099 0867\n\nUnited States   1
  800 550 6865\nT  - +1 213 233 3193\n\n\nT – local toll number \; M – 
 mobile preferred number \; L – landline preferred number\n\nPlease do no
 t hesitate to contact me should you require a dial-out for this call.\n\nT
 hank you\,\n\nVery best regards\n\nAlice\nAlice E. Jansen\n---------------
 -----------\nICANN\nAssistant\, Organizational & Affirmation Reviews\nalic
 e.jansen@icann.org<mailto:alice.jansen@icann.org>\nDirect Dial: +32.2.234.
 78.64\nMobile: +32.4.73.31.76.56\nOffice Fax: +32.2.234.78.48\nSkype: alic
 e_jansen_icann\n--------------------------\n6\, Rond Point Schuman\nB-1040
  Brussels\, Belgium\n\n
SUMMARY;LANGUAGE=en-US:WHOIS CALL - Wed\, 8 June\, 11:00 UTC
DTSTART;TZID=Azores Standard Time:20110608T110000
DTEND;TZID=Azores Standard Time:20110608T123000
UID:A54E60F7-003E-4A0D-8616-BE0C3BA8EC9B
CLASS:PUBLIC
PRIORITY:5
DTSTAMP:20110604T182555Z
TRANSP:OPAQUE
STATUS:CONFIRMED
SEQUENCE:0
LOCATION;LANGUAGE=en-US:Adigo Bridge
X-MICROSOFT-CDO-APPT-SEQUENCE:0
X-MICROSOFT-CDO-OWNERAPPTID:2109089404
X-MICROSOFT-CDO-BUSYSTATUS:TENTATIVE
X-MICROSOFT-CDO-INTENDEDSTATUS:BUSY
X-MICROSOFT-CDO-ALLDAYEVENT:FALSE
X-MICROSOFT-CDO-IMPORTANCE:1
X-MICROSOFT-CDO-INSTTYPE:0
BEGIN:VALARM
ACTION:DISPLAY
DESCRIPTION:REMINDER
TRIGGER;RELATED=START:-PT15M
END:VALARM
END:VEVENT
END:VCALENDAR
