BEGIN:VCALENDAR
METHOD:REQUEST
PRODID:Microsoft Exchange Server 2010
VERSION:2.0
BEGIN:VTIMEZONE
TZID:Tokyo Standard Time
BEGIN:STANDARD
DTSTART:16010101T000000
TZOFFSETFROM:+0900
TZOFFSETTO:+0900
END:STANDARD
BEGIN:DAYLIGHT
DTSTART:16010101T000000
TZOFFSETFROM:+0900
TZOFFSETTO:+0900
END:DAYLIGHT
END:VTIMEZONE
BEGIN:VEVENT
ORGANIZER;CN=MSSI Secretariat:MAILTO:mssi-secretariat@icann.org
ATTENDEE;ROLE=REQ-PARTICIPANT;PARTSTAT=NEEDS-ACTION;RSVP=TRUE;CN=SSR2 RT:MA
 ILTO:ssr2-review@icann.org
ATTENDEE;ROLE=OPT-PARTICIPANT;PARTSTAT=NEEDS-ACTION;RSVP=TRUE;CN="Weissinger
 , Laurin":MAILTO:laurin.weissinger@yale.edu
ATTENDEE;ROLE=OPT-PARTICIPANT;PARTSTAT=NEEDS-ACTION;RSVP=TRUE;CN=Brenda Bre
 wer:MAILTO:brenda.brewer@icann.org
ATTENDEE;ROLE=OPT-PARTICIPANT;PARTSTAT=NEEDS-ACTION;RSVP=TRUE;CN=Denise Mic
 hel:MAILTO:denisemichel@fb.com
ATTENDEE;ROLE=OPT-PARTICIPANT;PARTSTAT=NEEDS-ACTION;RSVP=TRUE;CN="Barrett, K
 erry-Ann":MAILTO:KABarrett@oas.org
ATTENDEE;ROLE=OPT-PARTICIPANT;PARTSTAT=NEEDS-ACTION;RSVP=TRUE;CN=Steve Cont
 e:MAILTO:steve.conte@icann.org
ATTENDEE;ROLE=OPT-PARTICIPANT;PARTSTAT=NEEDS-ACTION;RSVP=TRUE;CN=Karen Mulb
 erry:MAILTO:karen.mulberry@icann.org
ATTENDEE;ROLE=OPT-PARTICIPANT;PARTSTAT=NEEDS-ACTION;RSVP=TRUE;CN=Theresa Sw
 inehart:MAILTO:theresa.swinehart@icann.org
ATTENDEE;ROLE=OPT-PARTICIPANT;PARTSTAT=NEEDS-ACTION;RSVP=TRUE;CN=Negar Farz
 innia:MAILTO:negar.farzinnia@icann.org
ATTENDEE;ROLE=OPT-PARTICIPANT;PARTSTAT=NEEDS-ACTION;RSVP=TRUE;CN=Larisa B. 
 Gurnick:MAILTO:larisa.gurnick@icann.org
ATTENDEE;ROLE=OPT-PARTICIPANT;PARTSTAT=NEEDS-ACTION;RSVP=TRUE;CN=John L. Cr
 ain:MAILTO:john.crain@icann.org
DESCRIPTION;LANGUAGE=en-US:Meeting with the SSR2 Board Caucus Group\, on We
 dnesday 13th at 11:30 - 12:15 Kobe time.\n\nICANN64 | Kobe Location:  Sapp
 hire Room  -  see venue map here<https://64.schedule.icann.org/floor_maps/
 3664/shapes/42153>\n\n\n\nRemote participants may join Adobe Connect:  htt
 ps://participate.icann.org/kix64-sapphire\n\n\n\n\n\n\n\n\n\n\n
SUMMARY;LANGUAGE=en-US:SSR2 Board Caucus Group Meeting | Wednesday\, 13 Mar
 ch at 11:30 AM/local Kobe time
DTSTART;TZID=Tokyo Standard Time:20190313T113000
DTEND;TZID=Tokyo Standard Time:20190313T121500
UID:E399BAE1-75AB-48F1-AD4B-9C13FB61BEC2
CLASS:PUBLIC
PRIORITY:5
DTSTAMP:20190309T023853Z
TRANSP:OPAQUE
STATUS:CONFIRMED
SEQUENCE:2
LOCATION;LANGUAGE=en-US:ICANN64 | Kobe | Room:  Sapphire
X-MICROSOFT-CDO-APPT-SEQUENCE:2
X-MICROSOFT-CDO-OWNERAPPTID:2117282120
X-MICROSOFT-CDO-BUSYSTATUS:TENTATIVE
X-MICROSOFT-CDO-INTENDEDSTATUS:BUSY
X-MICROSOFT-CDO-ALLDAYEVENT:FALSE
X-MICROSOFT-CDO-IMPORTANCE:1
X-MICROSOFT-CDO-INSTTYPE:0
X-MICROSOFT-DISALLOW-COUNTER:TRUE
BEGIN:VALARM
DESCRIPTION:REMINDER
TRIGGER;RELATED=START:-PT30M
ACTION:DISPLAY
END:VALARM
END:VEVENT
END:VCALENDAR
