BEGIN:VCALENDAR
VERSION:2.0
PRODID:-//Open-Xchange//7.10.1-Rev22//EN
METHOD:CANCEL
BEGIN:VTIMEZONE
TZID:Europe/Berlin
TZURL:http://tzurl.org/zoneinfo/Europe/Berlin
X-LIC-LOCATION:Europe/Berlin
BEGIN:DAYLIGHT
TZOFFSETFROM:+0100
TZOFFSETTO:+0200
TZNAME:CEST
DTSTART:19810329T020000
RRULE:FREQ=YEARLY;BYMONTH=3;BYDAY=-1SU
END:DAYLIGHT
BEGIN:STANDARD
TZOFFSETFROM:+0200
TZOFFSETTO:+0100
TZNAME:CET
DTSTART:19961027T030000
RRULE:FREQ=YEARLY;BYMONTH=10;BYDAY=-1SU
END:STANDARD
BEGIN:STANDARD
TZOFFSETFROM:+005328
TZOFFSETTO:+0100
TZNAME:CET
DTSTART:18930401T000000
RDATE:18930401T000000
END:STANDARD
BEGIN:DAYLIGHT
TZOFFSETFROM:+0100
TZOFFSETTO:+0200
TZNAME:CEST
DTSTART:19160430T230000
RDATE:19160430T230000
RDATE:19170416T020000
RDATE:19180415T020000
RDATE:19400401T020000
RDATE:19430329T020000
RDATE:19440403T020000
RDATE:19450402T020000
RDATE:19460414T020000
RDATE:19470406T030000
RDATE:19480418T020000
RDATE:19490410T020000
RDATE:19800406T020000
END:DAYLIGHT
BEGIN:STANDARD
TZOFFSETFROM:+0200
TZOFFSETTO:+0100
TZNAME:CET
DTSTART:19161001T010000
RDATE:19161001T010000
RDATE:19170917T030000
RDATE:19180916T030000
RDATE:19421102T030000
RDATE:19431004T030000
RDATE:19441002T030000
RDATE:19451118T030000
RDATE:19461007T030000
RDATE:19471005T030000
RDATE:19481003T030000
RDATE:19491002T030000
RDATE:19800928T030000
RDATE:19810927T030000
RDATE:19820926T030000
RDATE:19830925T030000
RDATE:19840930T030000
RDATE:19850929T030000
RDATE:19860928T030000
RDATE:19870927T030000
RDATE:19880925T030000
RDATE:19890924T030000
RDATE:19900930T030000
RDATE:19910929T030000
RDATE:19920927T030000
RDATE:19930926T030000
RDATE:19940925T030000
RDATE:19950924T030000
END:STANDARD
BEGIN:DAYLIGHT
TZOFFSETFROM:+0200
TZOFFSETTO:+0300
TZNAME:CEMT
DTSTART:19450524T010000
RDATE:19450524T010000
RDATE:19470511T020000
END:DAYLIGHT
BEGIN:DAYLIGHT
TZOFFSETFROM:+0300
TZOFFSETTO:+0200
TZNAME:CEST
DTSTART:19450924T030000
RDATE:19450924T030000
RDATE:19470629T030000
END:DAYLIGHT
BEGIN:STANDARD
TZOFFSETFROM:+0100
TZOFFSETTO:+0100
TZNAME:CET
DTSTART:19460101T000000
RDATE:19460101T000000
RDATE:19800101T000000
END:STANDARD
END:VTIMEZONE
BEGIN:VEVENT
DTSTAMP:20191121T150205Z
ATTENDEE;CN=theresa.swinehart@icann.org;CUTYPE=INDIVIDUAL;EMAIL=theresa.swi
 nehart@icann.org:mailto:theresa.swinehart@icann.org
ATTENDEE;CN=ssr2-review@icann.org;CUTYPE=INDIVIDUAL;EMAIL=ssr2-review@icann
 .org:mailto:ssr2-review@icann.org
ATTENDEE;CN=KABarrett@oas.org;CUTYPE=INDIVIDUAL;EMAIL=kabarrett@oas.org:mai
 lto:kabarrett@oas.org
ATTENDEE;CN=steve.conte@icann.org;CUTYPE=INDIVIDUAL;EMAIL=steve.conte@icann
 .org:mailto:steve.conte@icann.org
ATTENDEE;CN=karen.mulberry@icann.org;CUTYPE=INDIVIDUAL;EMAIL=karen.mulberry
 @icann.org:mailto:karen.mulberry@icann.org
ATTENDEE;CN=ramkrishna@isoc.org.np;CUTYPE=INDIVIDUAL;EMAIL=ramkrishna@isoc.
 org.np:mailto:ramkrishna@isoc.org.np
ATTENDEE;CN=larisa.gurnick@icann.org;CUTYPE=INDIVIDUAL;EMAIL=larisa.gurnick
 @icann.org:mailto:larisa.gurnick@icann.org
ATTENDEE;CN=john.crain@icann.org;CUTYPE=INDIVIDUAL;EMAIL=john.crain@icann.o
 rg:mailto:john.crain@icann.org
ATTENDEE;CN=Zarko.Kecic@rnids.rs;CUTYPE=INDIVIDUAL;EMAIL=zarko.kecic@rnids.
 rs:mailto:zarko.kecic@rnids.rs
ATTENDEE;CN=david.conrad@icann.org;CUTYPE=INDIVIDUAL;EMAIL=david.conrad@ica
 nn.org:mailto:david.conrad@icann.org
ATTENDEE;CN=brenda.brewer@icann.org;CUTYPE=INDIVIDUAL;EMAIL=brenda.brewer@i
 cann.org:mailto:brenda.brewer@icann.org
ATTENDEE;CN=smccormick@kvantcorp.com;CUTYPE=INDIVIDUAL;EMAIL=smccormick@kva
 ntcorp.com:mailto:smccormick@kvantcorp.com
ATTENDEE;CN=laurin.weissinger@yale.edu;CUTYPE=INDIVIDUAL;EMAIL=laurin.weiss
 inger@yale.edu:mailto:laurin.weissinger@yale.edu
ATTENDEE;CN=negar.farzinnia@icann.org;CUTYPE=INDIVIDUAL;EMAIL=negar.farzinn
 ia@icann.org:mailto:negar.farzinnia@icann.org
ATTENDEE;CN=Amin.Hasbini@kaspersky.com;CUTYPE=INDIVIDUAL;EMAIL=amin.hasbini
 @kaspersky.com:mailto:amin.hasbini@kaspersky.com
ATTENDEE;CN=krsic@denic.de;PARTSTAT=ACCEPTED;CUTYPE=INDIVIDUAL;EMAIL=krsic@
 denic.de:mailto:krsic@denic.de
CLASS:PUBLIC
CREATED:20191121T150205Z
DESCRIPTION:Engagement Session with the SSR2 Review Team at ICANN63-Barcelo
 na\n<https://63.schedule.icann.org/meetings/901537>\n\n\nAdobe Connect lin
 k:  https://participate.icann.org/bcn63-111\n\n\n\nDate:  Monday\, 22 Octo
 ber 2018 @ 9:45-10:45 AM/local Barcelona time – \nadditional time zone sup
 port here\n<https://www.timeanddate.com/worldclock/fixedtime.html?msg=SSR2
 +Engagement+Sessi\non+at+ICANN63+Barcelona&iso=20181022T0945&p1=31&ah=1>\n
 Location:  111/112 - Venue map:  here\n<https://63.schedule.icann.org/floo
 r_maps/3228?per_page=30&with%5bfloor_map_id%5\nd=3228>\n\n\n\n\n
DTEND;TZID=Europe/Berlin:20181022T104500
DTSTART;TZID=Europe/Berlin:20181022T094500
LAST-MODIFIED:20191121T150205Z
ORGANIZER;CN=Boban Krsic (1):mailto:krsic@denic.de
SEQUENCE:0
SUMMARY:SSR2 RT Engagement Session | ICANN63 Barcelona | 22 October 2018
TRANSP:OPAQUE
UID:DC0985D04CD3E1918683178BC1DDEC1B
X-MICROSOFT-CDO-BUSYSTATUS:BUSY
END:VEVENT
END:VCALENDAR
