BEGIN:VCALENDAR
METHOD:REQUEST
PRODID:Microsoft Exchange Server 2010
VERSION:2.0
BEGIN:VTIMEZONE
TZID:Tokyo Standard Time
BEGIN:STANDARD
DTSTART:16010101T000000
TZOFFSETFROM:+0900
TZOFFSETTO:+0900
END:STANDARD
BEGIN:DAYLIGHT
DTSTART:16010101T000000
TZOFFSETFROM:+0900
TZOFFSETTO:+0900
END:DAYLIGHT
END:VTIMEZONE
BEGIN:VEVENT
ORGANIZER;CN=Jennifer Bryce:MAILTO:jennifer.bryce@icann.org
ATTENDEE;ROLE=REQ-PARTICIPANT;PARTSTAT=NEEDS-ACTION;RSVP=TRUE;CN=ssr2-revie
 w@icann.org:MAILTO:ssr2-review@icann.org
ATTENDEE;ROLE=REQ-PARTICIPANT;PARTSTAT=NEEDS-ACTION;RSVP=TRUE;CN=John L. Cr
 ain:MAILTO:john.crain@icann.org
DESCRIPTION;LANGUAGE=en-US:Setting up this meeting per the request from Rev
 iew Team.\n
SUMMARY;LANGUAGE=en-US:DNS infrastructure hijacking
DTSTART;TZID=Tokyo Standard Time:20190311T153000
DTEND;TZID=Tokyo Standard Time:20190311T163000
UID:728C04D2-6A00-4BFA-BD95-D6AE2E999FF9
CLASS:PUBLIC
PRIORITY:5
DTSTAMP:20190309T070025Z
TRANSP:OPAQUE
STATUS:CONFIRMED
SEQUENCE:0
LOCATION;LANGUAGE=en-US:TBD
X-MICROSOFT-CDO-APPT-SEQUENCE:0
X-MICROSOFT-CDO-OWNERAPPTID:2117290814
X-MICROSOFT-CDO-BUSYSTATUS:TENTATIVE
X-MICROSOFT-CDO-INTENDEDSTATUS:BUSY
X-MICROSOFT-CDO-ALLDAYEVENT:FALSE
X-MICROSOFT-CDO-IMPORTANCE:1
X-MICROSOFT-CDO-INSTTYPE:0
X-MICROSOFT-DISALLOW-COUNTER:FALSE
BEGIN:VALARM
DESCRIPTION:REMINDER
TRIGGER;RELATED=START:-PT15M
ACTION:DISPLAY
END:VALARM
END:VEVENT
END:VCALENDAR
