BEGIN:VCALENDAR
VERSION:2.0
PRODID:-//Microsoft Corporation//Outlook for Mac MIMEDIR//EN
METHOD:PUBLISH
BEGIN:VTIMEZONE
TZID:Co-ordinated Universal Time
X-ENTOURAGE-CFTIMEZONE:Etc/GMT
X-ENTOURAGE-TZID:160
BEGIN:STANDARD
TZOFFSETFROM:+0000
TZOFFSETTO:+0000
DTSTART:16010101T000000
END:STANDARD
END:VTIMEZONE
BEGIN:VEVENT
UID:7F8D97E9-06FC-41EC-8F1C-3660FD5E999B
X-ENTOURAGE_UUID:7F8D97E9-06FC-41EC-8F1C-3660FD5E999B
X-MICROSOFT-EXCHANGE-ID:AAMkADkyN2M4YzdjLWY0ZGMtNGY0NC1hZTNkLWU0MmYyODRhMG
 ZiMgBGAAAAAAChd0Bw6wjsR5yb90hacmriBwBwZbYK/k7iR5b2zHcpJX4+AAAAAAENAABwZbYK
 /k7iR5b2zHcpJX4+AACewKAoAAA=
CATEGORIES:
X-MICROSOFT-EXCHANGE-CHANGEKEY:DwAAABYAAABwZbYK/k7iR5b2zHcpJX4+AACewzs9
DTSTAMP:20231213T174253Z
DTSTART;TZID="Co-ordinated Universal Time":20231220T140000
DTEND;TZID="Co-ordinated Universal Time":20231220T153000
LAST-MODIFIED:20231213T175231Z
SUMMARY:SubPro IRT ASP Sub-Track Meeting #7
DESCRIPTION:SubPro IRT ASP Sub-Track Meeting #7\n\nWednesday\, 20 December
  2023 at 14:00-15:30 UTC\n\n \n\nJoin the Zoom Meeting directly
  (recommended):
  https://icann.zoom.us/j/97636649630?pwd=ZGxwVklTZC9oYi9DWmxORzlJS1Z6dz09\
 n\nMeeting ID: 976 3664 9630\n\nPasscode: 7.*1w7U^fq\n\n \n\nAudio
  only:\n\nOne tap
  mobile\n\n+16699006833\,\,97636649630#\,\,\,\,*7262213964# US (San
  Jose)\n\n+19294362866\,\,97636649630#\,\,\,\,*7262213964# US (New
  York)\n\nDial in directly with your local number:
  https://icann.zoom.us/u/adv7J7YXpc\n\nMeeting ID: 976 3664
  9630\n\nPasscode: 7262213964\n\n \n\nBefore joining the call: \nPlease
  be sure you have read the ICANN Expected Standards of Behavior:
  https://www.icann.org/resources/pages/expected-standards-2016-06-28-en
  \nTime conversion link: http://tinyurl.com/3am5mvdp\nAgenda:
  https://community.icann.org/x/0YAYEQ\n\n \n
LOCATION:Wed\, 20 Dec 2023\, 14:00-15:30 UTC
ORGANIZER:MAILTO:NextRound_PolicyImplementation@icann.org
SEQUENCE:0
X-MICROSOFT-CDO-BUSYSTATUS:BUSY
X-MICROSOFT-CDO-ALLDAYEVENT:FALSE
X-MICROSOFT-DISALLOW-COUNTER:FALSE
X-MICROSOFT-DONOTFORWARDMEETING:FALSE
X-MICROSOFT-CDO-INSTTYPE:0
BEGIN:VALARM
ACTION:DISPLAY
DESCRIPTION:REMINDER
TRIGGER;RELATED=START:-PT00H15M00S
END:VALARM
END:VEVENT
END:VCALENDAR
