BEGIN:VCALENDAR
VERSION:2.0
PRODID:-//Microsoft Corporation//Outlook for Mac MIMEDIR//EN
METHOD:PUBLISH
BEGIN:VTIMEZONE
TZID:UTC
X-ENTOURAGE-CFTIMEZONE:Etc/GMT
X-ENTOURAGE-TZID:160
BEGIN:STANDARD
TZOFFSETFROM:+0000
TZOFFSETTO:+0000
DTSTART:16010101T000000
END:STANDARD
END:VTIMEZONE
BEGIN:VEVENT
UID:F8B7F461-10CA-4AD9-A977-F88CA6963251
X-ENTOURAGE_UUID:F8B7F461-10CA-4AD9-A977-F88CA6963251
X-MICROSOFT-EXCHANGE-ID:AAMkADkyN2M4YzdjLWY0ZGMtNGY0NC1hZTNkLWU0MmYyODRhMG
 ZiMgBGAAAAAAChd0Bw6wjsR5yb90hacmriBwBwZbYK/k7iR5b2zHcpJX4+AAAAAAENAABwZbYK
 /k7iR5b2zHcpJX4+AAEIzjyvAAA=
CATEGORIES:
X-MICROSOFT-EXCHANGE-CHANGEKEY:DwAAABYAAABwZbYK/k7iR5b2zHcpJX4+AAEI0tc6
DTSTAMP:20240522T111722Z
DTSTART;TZID=UTC:20240612T070000
DTEND;TZID=UTC:20240612T081500
LAST-MODIFIED:20240522T111723Z
SUMMARY:SubPro IRT Meeting #48 | ICANN80
DESCRIPTION:SubPro IRT Meeting #48 | ICANN80\n\nWednesday\, 12 June 2024
  at 07:00-08:15 UTC / 09:00-10:15 CAT\n\n \n\nUp-to-date information on
  the session\, including the Zoom link\, will be published here:
  https://icann80.sched.com/ \n\n\nAgenda:
  https://community.icann.org/x/xYBAEw \n\n \n\nPlease be sure you have
  read the ICANN Expected Standards of Behavior:
  https://www.icann.org/resources/pages/expected-standards-2016-06-28-en\n\
 n\nTime conversion link: https://tinyurl.com/5d8wszjj\n\n \n
LOCATION:Wednesday\, 12 June 2024 at 07:00-08:15 UTC / 09:00-10:15 CAT
ORGANIZER:MAILTO:NextRound_PolicyImplementation@icann.org
SEQUENCE:0
X-MICROSOFT-CDO-BUSYSTATUS:BUSY
X-MICROSOFT-CDO-ALLDAYEVENT:FALSE
X-MICROSOFT-DISALLOW-COUNTER:FALSE
X-MICROSOFT-DONOTFORWARDMEETING:FALSE
X-MICROSOFT-CDO-INSTTYPE:0
BEGIN:VALARM
ACTION:DISPLAY
DESCRIPTION:REMINDER
TRIGGER;RELATED=START:-PT00H15M00S
END:VALARM
END:VEVENT
END:VCALENDAR
