BEGIN:VCALENDAR
VERSION:2.0
PRODID:-//Microsoft Corporation//Outlook for Mac MIMEDIR//EN
METHOD:PUBLISH
BEGIN:VTIMEZONE
TZID:UTC
X-ENTOURAGE-CFTIMEZONE:Etc/GMT
X-ENTOURAGE-TZID:160
BEGIN:STANDARD
TZOFFSETFROM:+0000
TZOFFSETTO:+0000
DTSTART:16010101T000000
END:STANDARD
END:VTIMEZONE
BEGIN:VEVENT
UID:301B47E5-7670-43DE-871D-E762E502BAEB
X-ENTOURAGE_UUID:301B47E5-7670-43DE-871D-E762E502BAEB
X-MICROSOFT-EXCHANGE-ID:AAMkADkyN2M4YzdjLWY0ZGMtNGY0NC1hZTNkLWU0MmYyODRhMG
 ZiMgBGAAAAAAChd0Bw6wjsR5yb90hacmriBwBwZbYK/k7iR5b2zHcpJX4+AAAAAAENAABwZbYK
 /k7iR5b2zHcpJX4+AAHq8LhVAAA=
CATEGORIES:
X-MICROSOFT-EXCHANGE-CHANGEKEY:DwAAABYAAABwZbYK/k7iR5b2zHcpJX4+AAHq+fUr
DTSTAMP:20250521T094821Z
DTSTART;TZID=UTC:20250609T070000
DTEND;TZID=UTC:20250609T081500
LAST-MODIFIED:20250521T094822Z
SUMMARY:SubPro IRT Meeting #146 | ICANN83
DESCRIPTION:SubPro IRT Meeting #146\n\nMonday\, 9 June 2025 at 07:00-08:15
  UTC / 09:00-10:15 CET\n\n
  \n\nhttps://icann83.sched.com/event/246Qx\n\nMore information will be
  added when available\n\n \n\nBefore joining the call: \nPlease be sure
  you have read the ICANN Expected Standards of Behavior:
  https://www.icann.org/resources/pages/expected-standards-2016-06-28-en
  and the ICANN Community Anti-Harassment Policy:
  https://www.icann.org/resources/pages/community-anti-harassment-policy-20
 17-03-24-en\n\n \n\nTime conversion link:
  https://tinyurl.com/bdzdkuec\n\nAgenda:
  https://icann-community.atlassian.net/wiki/x/AQByCw\n\n \n
LOCATION:South Hall 2 | https://icann83.sched.com/event/246Qx
ORGANIZER:MAILTO:NextRound_PolicyImplementation@icann.org
SEQUENCE:0
X-MICROSOFT-CDO-BUSYSTATUS:BUSY
X-MICROSOFT-CDO-ALLDAYEVENT:FALSE
X-MICROSOFT-DISALLOW-COUNTER:FALSE
X-MICROSOFT-DONOTFORWARDMEETING:FALSE
X-MICROSOFT-CDO-INSTTYPE:0
BEGIN:VALARM
ACTION:DISPLAY
DESCRIPTION:REMINDER
TRIGGER;RELATED=START:-PT00H15M00S
END:VALARM
END:VEVENT
END:VCALENDAR
