BEGIN:VCALENDAR
VERSION:2.0
PRODID:-//Microsoft Corporation//Outlook for Mac MIMEDIR//EN
METHOD:PUBLISH
BEGIN:VTIMEZONE
TZID:Coordinated Universal Time
X-ENTOURAGE-CFTIMEZONE:UTC
X-ENTOURAGE-TZID:93
BEGIN:STANDARD
TZOFFSETFROM:+0000
TZOFFSETTO:+0000
DTSTART:16010101T000000
END:STANDARD
END:VTIMEZONE
BEGIN:VEVENT
UID:16CAAAA9-32F6-4792-8CCE-55D0599B3A5E
X-ENTOURAGE_UUID:16CAAAA9-32F6-4792-8CCE-55D0599B3A5E
X-MICROSOFT-EXCHANGE-ID:AAMkADkyN2M4YzdjLWY0ZGMtNGY0NC1hZTNkLWU0MmYyODRhMG
 ZiMgBGAAAAAAChd0Bw6wjsR5yb90hacmriBwBwZbYK/k7iR5b2zHcpJX4+AAAAAAENAABwZbYK
 /k7iR5b2zHcpJX4+AAB3Ons/AAA=
X-MICROSOFT-EXCHANGE-CHANGEKEY:DwAAABYAAABwZbYK/k7iR5b2zHcpJX4+AAB3PK7+
DTSTAMP:20231017T125406Z
DTSTART;TZID="Coordinated Universal Time":20231021T083000
DTEND;TZID="Coordinated Universal Time":20231021T100000
LAST-MODIFIED:20231017T125408Z
SUMMARY:SubPro IRT Meeting #16 | ICANN78
DESCRIPTION:SubPro IRT Meeting #16 | ICANN78\n\nSaturday\, 21 October 2023
  at 08:30-10:00 UTC / 10:30-12:00 CEST\n\nZoom / Hall Y 5-8 (ALAC)\n\n
  \n\nUp-to-date information on the session\, including the Zoom link\,
  will be published here: https://sched.co/1T4Ko \n\nAgenda:
  https://community.icann.org/x/SJOZDg \n\n \n\nPlease be sure you have
  read the ICANN Expected Standards of Behavior:
  https://www.icann.org/resources/pages/expected-standards-2016-06-28-en
  \n\nTime conversion link: http://tinyurl.com/2s46c47n \n\n \n
LOCATION:Sat\, 21 Oct 2023\, 08:30-10:00 UTC / 10:30-12:00 CEST | ICANN78
ORGANIZER:MAILTO:nextround_policyimplementation@icann.org
SEQUENCE:0
X-MICROSOFT-CDO-BUSYSTATUS:BUSY
X-MICROSOFT-CDO-ALLDAYEVENT:FALSE
X-MICROSOFT-DISALLOW-COUNTER:FALSE
X-MICROSOFT-DONOTFORWARDMEETING:FALSE
X-MICROSOFT-CDO-INSTTYPE:0
BEGIN:VALARM
ACTION:DISPLAY
DESCRIPTION:REMINDER
TRIGGER;RELATED=START:-PT00H15M00S
END:VALARM
END:VEVENT
END:VCALENDAR
