BEGIN:VCALENDAR
VERSION:2.0
PRODID:-//Microsoft Corporation//Outlook for Mac MIMEDIR//EN
METHOD:PUBLISH
BEGIN:VTIMEZONE
TZID:Co-ordinated Universal Time
X-ENTOURAGE-CFTIMEZONE:Etc/GMT
X-ENTOURAGE-TZID:160
BEGIN:STANDARD
TZOFFSETFROM:+0000
TZOFFSETTO:+0000
DTSTART:16010101T000000
END:STANDARD
END:VTIMEZONE
BEGIN:VEVENT
UID:655810AD-D4AC-411B-922B-2D78849E8EAF
X-ENTOURAGE_UUID:655810AD-D4AC-411B-922B-2D78849E8EAF
X-MICROSOFT-EXCHANGE-ID:AAMkADkyN2M4YzdjLWY0ZGMtNGY0NC1hZTNkLWU0MmYyODRhMG
 ZiMgBGAAAAAAChd0Bw6wjsR5yb90hacmriBwBwZbYK/k7iR5b2zHcpJX4+AAAAAAENAABwZbYK
 /k7iR5b2zHcpJX4+AACewKBJAAA=
CATEGORIES:
X-MICROSOFT-EXCHANGE-CHANGEKEY:DwAAABYAAABwZbYK/k7iR5b2zHcpJX4+AACexIGQ
DTSTAMP:20240123T162401Z
DTSTART;TZID="Co-ordinated Universal Time":20240302T143000
DTEND;TZID="Co-ordinated Universal Time":20240302T160000
LAST-MODIFIED:20240123T162415Z
SUMMARY:SubPro IRT Meeting #30 | ICANN79
DESCRIPTION:SubPro IRT Meeting #30 | ICANN79\n\nSaturday\, 2 March 2024 at
  14:30-16:00 UTC / 10:30-12:00 AST\n\n \n\nUp-to-date information on the
  session\, including the Zoom link\, will be published here:
  https://icann79.sched.com/\n\nAgenda:
  https://community.icann.org/x/ZYAvEQ\n\n \n\nPlease be sure you have
  read the ICANN Expected Standards of Behavior:
  https://www.icann.org/resources/pages/expected-standards-2016-06-28-en
  \n\nTime conversion link: http://tinyurl.com/snepjcvj\n\n \n
LOCATION:Sat\, 2 Mar 2024\, 14:30-16:00 UTC / 10:30-12:00 AST
ORGANIZER:MAILTO:nextround_policyimplementation@icann.org
SEQUENCE:0
X-MICROSOFT-CDO-BUSYSTATUS:BUSY
X-MICROSOFT-CDO-ALLDAYEVENT:FALSE
X-MICROSOFT-DISALLOW-COUNTER:FALSE
X-MICROSOFT-DONOTFORWARDMEETING:FALSE
X-MICROSOFT-CDO-INSTTYPE:0
BEGIN:VALARM
ACTION:DISPLAY
DESCRIPTION:REMINDER
TRIGGER;RELATED=START:-PT00H15M00S
END:VALARM
END:VEVENT
END:VCALENDAR
