BEGIN:VCALENDAR
VERSION:2.0
PRODID:-//Microsoft Corporation//Outlook for Mac MIMEDIR//EN
METHOD:PUBLISH
BEGIN:VTIMEZONE
TZID:UTC
X-ENTOURAGE-CFTIMEZONE:Etc/GMT
X-ENTOURAGE-TZID:160
BEGIN:STANDARD
TZOFFSETFROM:+0000
TZOFFSETTO:+0000
DTSTART:16010101T000000
END:STANDARD
END:VTIMEZONE
BEGIN:VEVENT
UID:80F29F13-CBB7-4040-90F8-D942839093A3
X-ENTOURAGE_UUID:80F29F13-CBB7-4040-90F8-D942839093A3
X-MICROSOFT-EXCHANGE-ID:AAMkADkyN2M4YzdjLWY0ZGMtNGY0NC1hZTNkLWU0MmYyODRhMG
 ZiMgBGAAAAAAChd0Bw6wjsR5yb90hacmriBwBwZbYK/k7iR5b2zHcpJX4+AAAAAAENAABwZbYK
 /k7iR5b2zHcpJX4+AAHq8LhWAAA=
CATEGORIES:
X-MICROSOFT-EXCHANGE-CHANGEKEY:DwAAABYAAABwZbYK/k7iR5b2zHcpJX4+AAHq+fUx
DTSTAMP:20250521T094929Z
DTSTART;TZID=UTC:20250612T133000
DTEND;TZID=UTC:20250612T150000
LAST-MODIFIED:20250521T094930Z
SUMMARY:SubPro IRT Meeting #147 | ICANN83
DESCRIPTION:SubPro IRT Meeting #147\n\nThursday\, 12 June 2025 at
  13:30-15:00 UTC / 15:30-17:00 CET\n\n \n\nThis will be the Outreach and
  Engagement session.\n\nMore information will be added when
  available\n\nhttps://icann83.sched.com/event/246Zc/gds-subpro-irt-work-se
 ssion-2-of-2\n\n \n\nBefore joining the call: \nPlease be sure you have
  read the ICANN Expected Standards of Behavior:
  https://www.icann.org/resources/pages/expected-standards-2016-06-28-en
  and the ICANN Community Anti-Harassment Policy:
  https://www.icann.org/resources/pages/community-anti-harassment-policy-20
 17-03-24-en\n\n \n\nTime conversion link:
  https://tinyurl.com/2pskwaa8\n\nAgenda:
  https://icann-community.atlassian.net/wiki/x/AYByCw\n\n \n
LOCATION:Terrace 2B |
  https://icann83.sched.com/event/246Zc/gds-subpro-irt-work-session-2-of-2
ORGANIZER:MAILTO:NextRound_PolicyImplementation@icann.org
SEQUENCE:0
X-MICROSOFT-CDO-BUSYSTATUS:BUSY
X-MICROSOFT-CDO-ALLDAYEVENT:FALSE
X-MICROSOFT-DISALLOW-COUNTER:FALSE
X-MICROSOFT-DONOTFORWARDMEETING:FALSE
X-MICROSOFT-CDO-INSTTYPE:0
BEGIN:VALARM
ACTION:DISPLAY
DESCRIPTION:REMINDER
TRIGGER;RELATED=START:-PT00H15M00S
END:VALARM
END:VEVENT
END:VCALENDAR
