BEGIN:VCALENDAR
VERSION:2.0
PRODID:-//Microsoft Corporation//Outlook for Mac MIMEDIR//EN
METHOD:PUBLISH
BEGIN:VTIMEZONE
TZID:UTC
X-ENTOURAGE-CFTIMEZONE:Etc/GMT
X-ENTOURAGE-TZID:160
BEGIN:STANDARD
TZOFFSETFROM:+0000
TZOFFSETTO:+0000
DTSTART:16010101T000000
END:STANDARD
END:VTIMEZONE
BEGIN:VEVENT
UID:DA939C8C-4B54-40B8-8B36-08992AE7007E
X-ENTOURAGE_UUID:DA939C8C-4B54-40B8-8B36-08992AE7007E
X-MICROSOFT-EXCHANGE-ID:AAMkADkyN2M4YzdjLWY0ZGMtNGY0NC1hZTNkLWU0MmYyODRhMG
 ZiMgBGAAAAAAChd0Bw6wjsR5yb90hacmriBwBwZbYK/k7iR5b2zHcpJX4+AAAAAAENAABwZbYK
 /k7iR5b2zHcpJX4+AAHdFdJ0AAA=
CATEGORIES:
X-MICROSOFT-EXCHANGE-CHANGEKEY:DwAAABYAAABwZbYK/k7iR5b2zHcpJX4+AAHdHjJy
DTSTAMP:20250331T092901Z
DTSTART;TZID=UTC:20250430T120000
DTEND;TZID=UTC:20250430T140000
LAST-MODIFIED:20250331T092903Z
SUMMARY:SubPro IRT Meeting #136
DESCRIPTION:SubPro IRT Meeting #136\n\nWednesday\, 30 April 2025 at
  12:00-14:00 UTC \n\n \n\nJoin Zoom Meeting directly
  (recommended):\n\nhttps://icann.zoom.us/j/97063459905?pwd=VUVsd0J0RnNtRXk
 yNXJFZW9vdTEzZz09\n\n \n\nMeeting ID: 970 6345 9905\n\nPasscode:
  DQ#0L.9x5e\n\n \n\nAudio only:\n\nOne tap
  mobile\n\n+13462487799\,\,97063459905#\,\,\,\,*5806401747# US
  (Houston)\n\n+16699006833\,\,97063459905#\,\,\,\,*5806401747# US (San
  Jose)\n\nMeeting ID: 970 6345 9905\n\nPasscode: 5806401747\n\n \n\nFind
  your local number: https://icann.zoom.us/u/abQbe1ODs\n\n \n\nBefore
  joining the call: \nPlease be sure you have read the ICANN Expected
  Standards of Behavior:
  https://www.icann.org/resources/pages/expected-standards-2016-06-28-en
  and the ICANN Community Anti-Harassment Policy\nTime conversion link:
  https://tinyurl.com/5a7aw6m7\n\nAgenda:
  https://icann-community.atlassian.net/wiki/x/AQDMCg?atlOrigin=eyJpIjoiNDV
 lYTViMmU1M2EwNGE4ZDhjZTIwOTQ0MDkyNjI4ZGEiLCJwIjoiYyJ9\n\n \n
LOCATION:https://icann.zoom.us/j/97063459905?pwd=VUVsd0J0RnNtRXkyNXJFZW9vd
 TEzZz09
ORGANIZER:MAILTO:NextRound_PolicyImplementation@icann.org
SEQUENCE:0
X-MICROSOFT-CDO-BUSYSTATUS:BUSY
X-MICROSOFT-CDO-ALLDAYEVENT:FALSE
X-MICROSOFT-DISALLOW-COUNTER:FALSE
X-MICROSOFT-DONOTFORWARDMEETING:FALSE
X-MICROSOFT-CDO-INSTTYPE:0
BEGIN:VALARM
ACTION:DISPLAY
DESCRIPTION:REMINDER
TRIGGER;RELATED=START:-PT00H15M00S
END:VALARM
END:VEVENT
END:VCALENDAR
