BEGIN:VCALENDAR
VERSION:2.0
PRODID:-//Microsoft Corporation//Outlook for Mac MIMEDIR//EN
METHOD:PUBLISH
BEGIN:VTIMEZONE
TZID:Coordinated Universal Time
X-ENTOURAGE-CFTIMEZONE:UTC
X-ENTOURAGE-TZID:93
BEGIN:STANDARD
TZOFFSETFROM:+0000
TZOFFSETTO:+0000
DTSTART:16010101T000000
END:STANDARD
END:VTIMEZONE
BEGIN:VEVENT
UID:AD07B368-1465-42DA-8332-A9AA158F36E3
X-ENTOURAGE_UUID:AD07B368-1465-42DA-8332-A9AA158F36E3
X-MICROSOFT-EXCHANGE-ID:AAMkADkyN2M4YzdjLWY0ZGMtNGY0NC1hZTNkLWU0MmYyODRhMG
 ZiMgBGAAAAAAChd0Bw6wjsR5yb90hacmriBwBwZbYK/k7iR5b2zHcpJX4+AAAAAAENAABwZbYK
 /k7iR5b2zHcpJX4+AABeET5hAAA=
X-MICROSOFT-EXCHANGE-CHANGEKEY:DwAAABYAAABwZbYK/k7iR5b2zHcpJX4+AABeEz1q
DTSTAMP:20230908T090324Z
DTSTART;TZID="Coordinated Universal Time":20231026T070000
DTEND;TZID="Coordinated Universal Time":20231026T080000
LAST-MODIFIED:20230908T090324Z
SUMMARY:SubPro IRT Meeting #16b | ICANN78
DESCRIPTION:SubPro IRT Meeting #16b | ICANN78\n\nThursday\, 26 October
  2023 at 07:00-08:00 UTC / 09:00-10:00 CEST\n\nZoom / Room tbd\n\n
  \n\nUp-to-date information on the session\, including the Zoom link\,
  will be published here: https://meetings.icann.org/en/icann78\n\nAgenda:
  https://community.icann.org/x/OwDCDw \n\n \n\nPlease be sure you have
  read the ICANN Expected Standards of Behavior:
  https://www.icann.org/resources/pages/expected-standards-2016-06-28-en
  \n\nTime conversion link: http://tinyurl.com/dfv7eutc \n\n \n
LOCATION:Thu\, 26 Oct 2023\, 07:00-08:00 UTC / 09:00-10:00 CEST
ORGANIZER:MAILTO:NextRound_PolicyImplementation@icann.org
SEQUENCE:0
X-MICROSOFT-CDO-BUSYSTATUS:BUSY
X-MICROSOFT-CDO-ALLDAYEVENT:FALSE
X-MICROSOFT-DISALLOW-COUNTER:FALSE
X-MICROSOFT-DONOTFORWARDMEETING:FALSE
X-MICROSOFT-CDO-INSTTYPE:0
BEGIN:VALARM
ACTION:DISPLAY
DESCRIPTION:REMINDER
TRIGGER;RELATED=START:-PT00H15M00S
END:VALARM
END:VEVENT
END:VCALENDAR
