BEGIN:VCALENDAR
VERSION:2.0
PRODID:-//Microsoft Corporation//Outlook for Mac MIMEDIR//EN
METHOD:PUBLISH
BEGIN:VTIMEZONE
TZID:UTC
X-ENTOURAGE-CFTIMEZONE:Etc/GMT
X-ENTOURAGE-TZID:160
BEGIN:STANDARD
TZOFFSETFROM:+0000
TZOFFSETTO:+0000
DTSTART:16010101T000000
END:STANDARD
END:VTIMEZONE
BEGIN:VEVENT
UID:A1DBEB74-080E-4156-ACC7-B7427B7CA935
X-ENTOURAGE_UUID:A1DBEB74-080E-4156-ACC7-B7427B7CA935
X-MICROSOFT-EXCHANGE-ID:AAMkADkyN2M4YzdjLWY0ZGMtNGY0NC1hZTNkLWU0MmYyODRhMG
 ZiMgBGAAAAAAChd0Bw6wjsR5yb90hacmriBwBwZbYK/k7iR5b2zHcpJX4+AAAAAAENAABwZbYK
 /k7iR5b2zHcpJX4+AAF3nDI9AAA=
CATEGORIES:
X-MICROSOFT-EXCHANGE-CHANGEKEY:DwAAABYAAABwZbYK/k7iR5b2zHcpJX4+AAF3omPN
DTSTAMP:20241030T095158Z
DTSTART;TZID=UTC:20241114T060000
DTEND;TZID=UTC:20241114T070000
LAST-MODIFIED:20241030T095158Z
SUMMARY:SubPro IRT Meeting #92 | ICANN81
DESCRIPTION:SubPro IRT Meeting #91 | ICANN81\n\nThursday\, 14 November
  2024 at 06:00-07:00 UTC \n\n \n\nUp-to-date information on the session\,
  including zoom link\, will be published here:
  https://icann81.sched.com/event/1p2LD/gds-subpro-irt-work-session-5-of-5\
 n\n \n\nTime conversion link: https://tinyurl.com/wfdfye99\n\nAgenda:
  https://community.icann.org/x/IIADFg\n\n \n\nBefore joining the call:
  \nPlease be sure you have read the ICANN Expected Standards of Behavior:
  https://www.icann.org/resources/pages/expected-standards-2016-06-28-en
  and\n\nthe ICANN Community Anti-Harassment Policy:
  https://www.icann.org/resources/pages/community-anti-harassment-policy-20
 17-03-24-en.\n\n\n\n\n \n\n \n
LOCATION:Emirgan 2 |
  https://icann81.sched.com/event/1p2LD/gds-subpro-irt-work-session-5-of-5
ORGANIZER:MAILTO:NextRound_PolicyImplementation@icann.org
SEQUENCE:0
X-MICROSOFT-CDO-BUSYSTATUS:BUSY
X-MICROSOFT-CDO-ALLDAYEVENT:FALSE
X-MICROSOFT-DISALLOW-COUNTER:FALSE
X-MICROSOFT-DONOTFORWARDMEETING:FALSE
X-MICROSOFT-CDO-INSTTYPE:0
BEGIN:VALARM
ACTION:DISPLAY
DESCRIPTION:REMINDER
TRIGGER;RELATED=START:-PT00H15M00S
END:VALARM
END:VEVENT
END:VCALENDAR
