BEGIN:VCALENDAR
VERSION:2.0
PRODID:-//Microsoft Corporation//Outlook for Mac MIMEDIR//EN
METHOD:PUBLISH
BEGIN:VTIMEZONE
TZID:Coordinated Universal Time
X-ENTOURAGE-CFTIMEZONE:UTC
X-ENTOURAGE-TZID:93
BEGIN:STANDARD
TZOFFSETFROM:+0000
TZOFFSETTO:+0000
DTSTART:16010101T000000
END:STANDARD
END:VTIMEZONE
BEGIN:VEVENT
UID:A88A0A8F-39CA-4E8C-87C4-540E2089EFC5
X-ENTOURAGE_UUID:A88A0A8F-39CA-4E8C-87C4-540E2089EFC5
X-MICROSOFT-EXCHANGE-ID:AAMkADkyN2M4YzdjLWY0ZGMtNGY0NC1hZTNkLWU0MmYyODRhMG
 ZiMgBGAAAAAAChd0Bw6wjsR5yb90hacmriBwBwZbYK/k7iR5b2zHcpJX4+AAAAAAENAABwZbYK
 /k7iR5b2zHcpJX4+AAB3Ons+AAA=
X-MICROSOFT-EXCHANGE-CHANGEKEY:DwAAABYAAABwZbYK/k7iR5b2zHcpJX4+AAB3PK76
DTSTAMP:20231017T125210Z
DTSTART;TZID="Coordinated Universal Time":20231025T140000
DTEND;TZID="Coordinated Universal Time":20231025T153000
LAST-MODIFIED:20231017T125213Z
SUMMARY:SubPro IRT Meeting #16a | ICANN78
DESCRIPTION:SubPro IRT Meeting #16a | ICANN78\n\nWednesday\, 25 October
  2023 at 14:00-15:30 UTC / 16:00-17:30 CEST\n\nZoom / Hall Y 5-8
  (ALAC)\n\n \n\nUp-to-date information on the session\, including the
  Zoom link\, will be published here: https://sched.co/1T4LI \n\nAgenda:
  https://community.icann.org/x/NADCDw \n\n \n\nPlease be sure you have
  read the ICANN Expected Standards of Behavior:
  https://www.icann.org/resources/pages/expected-standards-2016-06-28-en
  \n\nTime conversion link: http://tinyurl.com/23ps5282 \n\n \n
LOCATION:Wed\, 25 Oct 2023\, 14:00-15:30 UTC / 16:00-17:30 CEST
ORGANIZER:MAILTO:nextround_policyimplementation@icann.org
SEQUENCE:0
X-MICROSOFT-CDO-BUSYSTATUS:BUSY
X-MICROSOFT-CDO-ALLDAYEVENT:FALSE
X-MICROSOFT-DISALLOW-COUNTER:FALSE
X-MICROSOFT-DONOTFORWARDMEETING:FALSE
X-MICROSOFT-CDO-INSTTYPE:0
BEGIN:VALARM
ACTION:DISPLAY
DESCRIPTION:REMINDER
TRIGGER;RELATED=START:-PT00H15M00S
END:VALARM
END:VEVENT
END:VCALENDAR
