BEGIN:VCALENDAR
VERSION:2.0
PRODID:-//Microsoft Corporation//Outlook for Mac MIMEDIR//EN
METHOD:PUBLISH
BEGIN:VTIMEZONE
TZID:Co-ordinated Universal Time
X-ENTOURAGE-CFTIMEZONE:Etc/GMT
X-ENTOURAGE-TZID:160
BEGIN:STANDARD
TZOFFSETFROM:+0000
TZOFFSETTO:+0000
DTSTART:16010101T000000
END:STANDARD
END:VTIMEZONE
BEGIN:VEVENT
UID:40228804-B2D2-4ADC-8DCE-909C511E5FD3
X-ENTOURAGE_UUID:40228804-B2D2-4ADC-8DCE-909C511E5FD3
X-MICROSOFT-EXCHANGE-ID:AAMkADkyN2M4YzdjLWY0ZGMtNGY0NC1hZTNkLWU0MmYyODRhMG
 ZiMgBGAAAAAAChd0Bw6wjsR5yb90hacmriBwBwZbYK/k7iR5b2zHcpJX4+AAAAAAENAABwZbYK
 /k7iR5b2zHcpJX4+AADDlHybAAA=
CATEGORIES:
X-MICROSOFT-EXCHANGE-CHANGEKEY:DwAAABYAAABwZbYK/k7iR5b2zHcpJX4+AADDmCdt
DTSTAMP:20240219T151722Z
DTSTART;TZID="Co-ordinated Universal Time":20240321T130000
DTEND;TZID="Co-ordinated Universal Time":20240321T140000
LAST-MODIFIED:20240219T151723Z
SUMMARY:SubPro IRT Meeting #34
DESCRIPTION:SubPro IRT Meeting #34\n\nThursday\, 21 March 2024 at
  13:00-14:00 UTC \n\n \n\nJoin the Zoom Meeting directly (recommended):
  https://icann.zoom.us/j/98960123523?pwd=SjU0cEtieS9Kc2NZRUNPNGdraGQ0QT09
  [icann.zoom.us] \n\nMeeting ID: 989 6012 3523\n\nPasscode:
  z6sLS^44@y\n\n \n\nAudio only:\n\nOne tap
  mobile\n\n+13017158592\,\,98960123523#\,\,\,\,*8399371478# US
  (Washington DC)\n\n+13126266799\,\,98960123523#\,\,\,\,*8399371478# US
  (Chicago)\n\nDial in directly with your local number:
  https://icann.zoom.us/u/aIO87mfSF [icann.zoom.us]\n\nMeeting ID: 989
  6012 3523\n\nPasscode: 8399371478\n\n \n\nBefore joining the call:
  \nPlease be sure you have read the ICANN Expected Standards of Behavior:
  https://www.icann.org/resources/pages/expected-standards-2016-06-28-en
  \nTime conversion link: http://tinyurl.com/3nrhdku3\n\nAgenda:
  https://community.icann.org/x/JAAeEg\n
LOCATION:Thu\, 21 Mar 2024\, 13:00-14:00 UTC | Zoom
ORGANIZER:MAILTO:nextround_policyimplementation@icann.org
SEQUENCE:0
X-MICROSOFT-CDO-BUSYSTATUS:BUSY
X-MICROSOFT-CDO-ALLDAYEVENT:FALSE
X-MICROSOFT-DISALLOW-COUNTER:FALSE
X-MICROSOFT-DONOTFORWARDMEETING:FALSE
X-MICROSOFT-CDO-INSTTYPE:0
BEGIN:VALARM
ACTION:DISPLAY
DESCRIPTION:REMINDER
TRIGGER;RELATED=START:-PT00H15M00S
END:VALARM
END:VEVENT
END:VCALENDAR
