BEGIN:VCALENDAR
VERSION:2.0
PRODID:-//Microsoft Corporation//Outlook for Mac MIMEDIR//EN
METHOD:PUBLISH
BEGIN:VTIMEZONE
TZID:UTC
X-ENTOURAGE-CFTIMEZONE:Etc/GMT
X-ENTOURAGE-TZID:160
BEGIN:STANDARD
TZOFFSETFROM:+0000
TZOFFSETTO:+0000
DTSTART:16010101T000000
END:STANDARD
END:VTIMEZONE
BEGIN:VEVENT
UID:76887C65-6B90-4F27-A4BC-905CB5CBDF2F
X-ENTOURAGE_UUID:76887C65-6B90-4F27-A4BC-905CB5CBDF2F
X-MICROSOFT-EXCHANGE-ID:AAMkADkyN2M4YzdjLWY0ZGMtNGY0NC1hZTNkLWU0MmYyODRhMG
 ZiMgBGAAAAAAChd0Bw6wjsR5yb90hacmriBwBwZbYK/k7iR5b2zHcpJX4+AAAAAAENAABwZbYK
 /k7iR5b2zHcpJX4+AAG4OfIoAAA=
CATEGORIES:
X-MICROSOFT-EXCHANGE-CHANGEKEY:DwAAABYAAABwZbYK/k7iR5b2zHcpJX4+AAG4Qdlq
DTSTAMP:20250219T121900Z
DTSTART;TZID=UTC:20250308T170000
DTEND;TZID=UTC:20250308T180000
LAST-MODIFIED:20250219T121902Z
SUMMARY:SubPro IRT Meeting #119 | ICANN82
DESCRIPTION:SubPro IRT Meeting #119 | ICANN82\n\nSaturday\, 8 March 2025
  at 17:00-18:00 UTC / 09:00-10:00 PT\n\n \n\nUp-to-date information on
  the session\, including the Zoom link\, will be published here:
  https://icann82.sched.com/event/1vpXl/gds-subpro-irt-work-session-1-of-5\
 n\n \n\nAgenda:
  https://community.icann.org/pages/viewpage.action?pageId=432701477\n\nTim
 e conversion link: https://tinyurl.com/4vyx29bf\n\n \n\nPlease be sure
  you have read the ICANN Expected Standards of Behavior:
  https://www.icann.org/resources/pages/expected-standards-2016-06-28-en
  and\n\nthe ICANN Community Anti-Harassment Policy:
  https://www.icann.org/resources/pages/community-anti-harassment-policy-20
 17-03-24-en.\n\n \n
LOCATION:Room 502 |
   https://icann82.sched.com/event/1vpXl/gds-subpro-irt-work-session-1-of-5
ORGANIZER:MAILTO:NextRound_PolicyImplementation@icann.org
SEQUENCE:0
X-MICROSOFT-CDO-BUSYSTATUS:BUSY
X-MICROSOFT-CDO-ALLDAYEVENT:FALSE
X-MICROSOFT-DISALLOW-COUNTER:FALSE
X-MICROSOFT-DONOTFORWARDMEETING:FALSE
X-MICROSOFT-CDO-INSTTYPE:0
BEGIN:VALARM
ACTION:DISPLAY
DESCRIPTION:REMINDER
TRIGGER;RELATED=START:-PT00H15M00S
END:VALARM
END:VEVENT
END:VCALENDAR
