BEGIN:VCALENDAR
VERSION:2.0
PRODID:-//Microsoft Corporation//Outlook for Mac MIMEDIR//EN
METHOD:PUBLISH
BEGIN:VTIMEZONE
TZID:UTC
X-ENTOURAGE-CFTIMEZONE:Etc/GMT
X-ENTOURAGE-TZID:160
BEGIN:STANDARD
TZOFFSETFROM:+0000
TZOFFSETTO:+0000
DTSTART:16010101T000000
END:STANDARD
END:VTIMEZONE
BEGIN:VEVENT
UID:2628E99E-C25B-40C8-B7CC-37D6BADEFBC7
X-ENTOURAGE_UUID:2628E99E-C25B-40C8-B7CC-37D6BADEFBC7
X-MICROSOFT-EXCHANGE-ID:AAMkADkyN2M4YzdjLWY0ZGMtNGY0NC1hZTNkLWU0MmYyODRhMG
 ZiMgBGAAAAAAChd0Bw6wjsR5yb90hacmriBwBwZbYK/k7iR5b2zHcpJX4+AAAAAAENAABwZbYK
 /k7iR5b2zHcpJX4+AAG4OfIqAAA=
CATEGORIES:
X-MICROSOFT-EXCHANGE-CHANGEKEY:DwAAABYAAABwZbYK/k7iR5b2zHcpJX4+AAG4QdmP
DTSTAMP:20250219T122746Z
DTSTART;TZID=UTC:20250309T223000
DTEND;TZID=UTC:20250309T233000
LAST-MODIFIED:20250219T122746Z
SUMMARY:SubPro IRT Meeting #121 | ICANN82
DESCRIPTION:SubPro IRT Meeting #121 | ICANN82\n\nSunday\, 9 March 2025 at
  22:30-23:30 UTC / 15:30-16:30 PT\n\n \n\nUp-to-date information on the
  session\, including the Zoom link\, will be published here:
  https://icann82.sched.com/event/1vpXv/gds-subpro-irt-work-session-3-of-5\
 n\n \n\nAgenda: https://community.icann.org/x/NYDKGQ\n\nTime conversion
  link: https://tinyurl.com/3ychedw7\n\n \n\nPlease be sure you have read
  the ICANN Expected Standards of Behavior:
  https://www.icann.org/resources/pages/expected-standards-2016-06-28-en
  and\n\nthe ICANN Community Anti-Harassment Policy:
  https://www.icann.org/resources/pages/community-anti-harassment-policy-20
 17-03-24-en.\n\n \n
LOCATION:Room 502 |
  https://icann82.sched.com/event/1vpXv/gds-subpro-irt-work-session-3-of-5
ORGANIZER:MAILTO:NextRound_PolicyImplementation@icann.org
SEQUENCE:0
X-MICROSOFT-CDO-BUSYSTATUS:BUSY
X-MICROSOFT-CDO-ALLDAYEVENT:FALSE
X-MICROSOFT-DISALLOW-COUNTER:FALSE
X-MICROSOFT-DONOTFORWARDMEETING:FALSE
X-MICROSOFT-CDO-INSTTYPE:0
BEGIN:VALARM
ACTION:DISPLAY
DESCRIPTION:REMINDER
TRIGGER;RELATED=START:-PT00H15M00S
END:VALARM
END:VEVENT
END:VCALENDAR
